Workbook

Sheet Rekapitulácia stavby
A1: 2012 | D1: Hárok obsahuje: | K1: 1) Súhrnný list stavby | W1: 2) Rekapitulácia objektov | BA1: 2.0 | BT1: False | BU1: False
C2: optimalizované pre tlač zostáv vo formáte A4 - na výšku | AR2: >> skryté stĺpce << | BS2: 0,001 | BT2: 20
BS3: 0,001 | BT3: 20
C4: SÚHRNNÝ LIST STAVBY | AS4: v --- nižšie sa nachádzajú doplnkové a pomocné údaje k zostavám --- v | BE4: Návod na vyplnenie | BS4: 0,001
D5: Kód: | K5: 220 | BE5: Meniť je možné iba bunky so žltým podfarbením!_x000D_ _x000D_ 1) na prvom liste Rekapitulácie stavby vyplňte v zostave_x000D_ _x000D_ a) Súhrnný list_x000D_ - údaje o Zhotoviteľovi_x000D_ (prenesú sa do ostatných zostáv aj v iných listoch)_x000D_ _x000D_ b) Rekapitulácia objektov_x000D_ - potrebné Ostatné náklady_x000D_ _x000D_ 2) na vybraných listoch vyplňte v zostave_x000D_ _x000D_ a) Krycí list_x000D_ - údaje o Zhotoviteľovi, pokiaľ sa líšia od údajov o Zhotoviteľovi na Súhrnnom liste_x000D_ (údaje se prenesú do ostatných zostav v danom liste)_x000D_ _x000D_ b) Rekapitulácia rozpočtu_x000D_ - potrebné Ostatné náklady_x000D_ _x000D_ c) Celkové náklady za stavbu_x000D_ - ceny na položkách_x000D_ - množstvo, pokiaľ má žlté podfarbenie_x000D_ - a v prípade potreby poznámku (tá je v skrytom stĺpci) | BS5: 0,001
D6: Stavba: | K6: PRESTAVBA BUDOVY NA KOMUNITNÉ CENTRUM - OBEC TERANY | BS6: 0,001
D7: JKSO: | AK7: KS: | BS7: 0,001
D8: Miesto: | K8: TERANY, 962 68, parc. č.: 1/5 | AK8: Dátum: | BS8: 0,001
BS9: 0,001
D10: Objednávateľ: | AK10: IČO: | AN10: 00320323 | BS10: 0,001
E11: Obec Terany, Terany 116, PSČ: 962 68 | AK11: IČO DPH: | BS11: 0,001
BS12: 0,001
D13: Zhotoviteľ: | AK13: IČO: | AN13: Vyplň údaj | BS13: 0,001
E14: Vyplň údaj | AK14: IČO DPH: | AN14: Vyplň údaj | BS14: 0,001
BS15: False
D16: Projektant: | AK16: IČO: | AN16: 44413301 | BS16: False
E17: Cobra Bauart s.r.o. Športová 2/20, Balog nad Ipľom | AK17: IČO DPH: | AN17: 2022709282 | BS17: True
BS18: 0,01
D19: Spracovateľ: | AK19: IČO: | BS19: 0,01
AK20: IČO DPH:
D22: Poznámka:
D26: Náklady z rozpočtov | AK26: =ROUND(AG87,2) -> 0
D27: Ostatné náklady zo súhrnného listu | AK27: =ROUND(AG98,2) -> 0
D29: Cena bez DPH | AK29: =ROUND(AK26+AK27,2) -> 0
D31: DPH | F31: základná | L31: 0.2 | T31: z | W31: =ROUND(AZ87+SUM(CD99:CD103),2) -> 0 | AK31: =ROUND(AV87+SUM(BY99:BY103),2) -> 0
F32: znížená | L32: 0.2 | T32: z | W32: =ROUND(BA87+SUM(CE99:CE103),2) -> 0 | AK32: =ROUND(AW87+SUM(BZ99:BZ103),2) -> 0
F33: zákl. prenesená | L33: 0.2 | T33: z | W33: =ROUND(BB87+SUM(CF99:CF103),2) -> 0 | AK33: 0
F34: zníž. prenesená | L34: 0.2 | T34: z | W34: =ROUND(BC87+SUM(CG99:CG103),2) -> 0 | AK34: 0
F35: nulová | L35: 0 | T35: z | W35: =ROUND(BD87+SUM(CH99:CH103),2) -> 0 | AK35: 0
D37: Cena s DPH | T37: v | X37: EUR | AK37: =SUM(AK29:AK35) -> 0
D49: Projektant | AC49: Spracovateľ
D58: Dátum a podpis: | R58: Pečiatka | AC58: Dátum a podpis: | AM58: Pečiatka
D60: Objednávateľ | AC60: Zhotoviteľ
D69: Dátum a podpis: | R69: Pečiatka | AC69: Dátum a podpis: | AM69: Pečiatka
C76: REKAPITULÁCIA OBJEKTOV STAVBY
C77: Kód: | L77: =K5 -> 220
C78: Stavba: | L78: =K6 -> PRESTAVBA BUDOVY NA KOMUNITNÉ CENTRUM - OBEC TERANY
C80: Miesto: | L80: =IF(K8="","",K8) -> TERANY, 962 68, parc. č.: 1/5 | AI80: Dátum: | AM80: =IF(AN8= "","",AN8)
C82: Objednávateľ: | L82: =IF(E11= "","",E11) -> Obec Terany, Terany 116, PSČ: 962 68 | AI82: Projektant: | AM82: =IF(E17="","",E17) -> Cobra Bauart s.r.o. Športová 2/20, Balog nad Ipľom | AS82: Informatívne údaje z listov zákaziek
C83: Zhotoviteľ: | L83: =IF(E14= "Vyplň údaj","",E14) | AI83: Spracovateľ: | AM83: =IF(E20="","",E20)
...

Sheet Časť.1 - STAVEBNÁ ČASŤ 
D1: Hárok obsahuje: | F1: 1) Krycí list rozpočtu | H1: 2) Rekapitulácia rozpočtu | L1: 3) Rozpočet | O1: Späť na hárok: | S1: Rekapitulácia stavby
C2: optimalizované pre tlač zostáv vo formáte A4 - na výšku | S2: >> skryté stĺpce << | AT2: {a475253e-c5ec-433a-8dcf-5d44cd628f6f}
AT3: 0
C4: KRYCÍ LIST ROZPOČTU | T4: v --- nižšie sa nachádzajú doplnkové a pomocné údaje k zostavám --- v | AT4: False
D6: Stavba: | F6: ='Rekapitulácia stavby'!K6 -> PRESTAVBA BUDOVY NA KOMUNITNÉ CENTRUM - OBEC TERANY
D7: Objekt: | F7: SO 01 - Prestavba budovy na klub dôchodcov a spoločenské centrum
D8: Časť: | F8: Časť.1 - STAVEBNÁ ČASŤ
D9: JKSO: | M9: KS:
D10: Miesto: | F10: TERANY, 962 68, parc. č.: 1/5 | M10: Dátum: | O10: ='Rekapitulácia stavby'!AN8 -> 0
D12: Objednávateľ: | M12: IČO: | O12: 00320323
E13: Obec Terany, Terany 116, PSČ: 962 68 | M13: IČO DPH:
D15: Zhotoviteľ: | M15: IČO: | O15: =IF('Rekapitulácia stavby'!AN13="","",'Rekapitulácia stavby'!AN13) -> Vyplň údaj
E16: =IF('Rekapitulácia stavby'!E14="","",'Rekapitulácia stavby'!E14) -> Vyplň údaj | M16: IČO DPH: | O16: =IF('Rekapitulácia stavby'!AN14="","",'Rekapitulácia stavby'!AN14) -> Vyplň údaj
D18: Projektant: | M18: IČO: | O18: 44413301
E19: Cobra Bauart s.r.o. Športová 2/20, Balog nad Ipľom | M19: IČO DPH: | O19: 2022709282
D21: Spracovateľ: | M21: IČO: | O21: =IF('Rekapitulácia stavby'!AN19="","",'Rekapitulácia stavby'!AN19)
E22: =IF('Rekapitulácia stavby'!E20="","",'Rekapitulácia stavby'!E20) | M22: IČO DPH: | O22: =IF('Rekapitulácia stavby'!AN20="","",'Rekapitulácia stavby'!AN20)
D24: Poznámka:
D28: Náklady z rozpočtu | M28: =N89 -> 0
D29: Ostatné náklady | M29: =N117 -> 0
D31: Cena bez DPH | M31: =ROUND(M28+M29,2) -> 0
D33: DPH | E33: základná | F33: 0.2 | G33: z | H33: =ROUND((((SUM(BE117:BE124)+SUM(BE143:BE329))+SUM(BE331:BE333))),2) -> 0 | M33: =ROUND(((ROUND((SUM(BE117:BE124)+SUM(BE143:BE329)), 2)*F33)+SUM(BE331:BE333)*F33),2) -> 0
E34: znížená | F34: 0.2 | G34: z | H34: =ROUND((((SUM(BF117:BF124)+SUM(BF143:BF329))+SUM(BF331:BF333))),2) -> 0 | M34: =ROUND(((ROUND((SUM(BF117:BF124)+SUM(BF143:BF329)), 2)*F34)+SUM(BF331:BF333)*F34),2) -> 0
E35: zákl. prenesená | F35: 0.2 | G35: z | H35: =ROUND((((SUM(BG117:BG124)+SUM(BG143:BG329))+SUM(BG331:BG333))),2) -> 0 | M35: 0
E36: zníž. prenesená | F36: 0.2 | G36: z | H36: =ROUND((((SUM(BH117:BH124)+SUM(BH143:BH329))+SUM(BH331:BH333))),2) -> 0 | M36: 0
E37: nulová | F37: 0 | G37: z | H37: =ROUND((((SUM(BI117:BI124)+SUM(BI143:BI329))+SUM(BI331:BI333))),2) -> 0 | M37: 0
D39: Cena s DPH | G39: v | H39: EUR | L39: =SUM(M31:M37) -> 0
D50: Projektant | J50: Spracovateľ
D59: Dátum a podpis: | G59: Pečiatka | J59: Dátum a podpis: | N59: Pečiatka
D61: Objednávateľ | J61: Zhotoviteľ
D70: Dátum a podpis: | G70: Pečiatka | J70: Dátum a podpis: | N70: Pečiatka
C76: REKAPITULÁCIA ROZPOČTU
C78: Stavba: | F78: =F6 -> PRESTAVBA BUDOVY NA KOMUNITNÉ CENTRUM - OBEC TERANY
C79: Objekt: | F79: SO 01 - Prestavba budovy na klub dôchodcov a spoločenské centrum
C80: Časť: | F80: =F8 -> Časť.1 - STAVEBNÁ ČASŤ
C82: Miesto: | F82: =F10 -> TERANY, 962 68, parc. č.: 1/5 | K82: Dátum: | M82: =IF(O10="","",O10) -> 0
C84: Objednávateľ: | F84: =E13 -> Obec Terany, Terany 116, PSČ: 962 68 | K84: Projektant: | M84: =E19 -> Cobra Bauart s.r.o. Športová 2/20, Balog nad Ipľom
C85: Zhotoviteľ: | F85: =IF(E16="","",E16) -> Vyplň údaj | K85: Spracovateľ: | M85: =E22
C87: Kód - Popis | N87: Cena celkom [EUR]
C89: 1) Náklady z rozpočtu | N89: =N143 -> 0 | AU89: -1
...

Sheet Časť 2. - ZDRAVOTECHNIKA
D1: Hárok obsahuje: | F1: 1) Krycí list rozpočtu | H1: 2) Rekapitulácia rozpočtu | L1: 3) Rozpočet | O1: Späť na hárok: | S1: Rekapitulácia stavby
C2: optimalizované pre tlač zostáv vo formáte A4 - na výšku | S2: >> skryté stĺpce << | AT2: {a361d34e-1c2e-44d5-98f5-53693d4a1be1}
AT3: 0
C4: KRYCÍ LIST ROZPOČTU | T4: v --- nižšie sa nachádzajú doplnkové a pomocné údaje k zostavám --- v | AT4: False
D6: Stavba: | F6: ='Rekapitulácia stavby'!K6 -> PRESTAVBA BUDOVY NA KOMUNITNÉ CENTRUM - OBEC TERANY
D7: Objekt: | F7: SO 01 - Prestavba budovy na klub dôchodcov a spoločenské centrum
D8: Časť: | F8: Časť 2. - ZDRAVOTECHNIKA
D9: JKSO: | M9: KS:
D10: Miesto: | F10: TERANY, 962 68, parc. č.: 1/5 | M10: Dátum: | O10: ='Rekapitulácia stavby'!AN8 -> 0
D12: Objednávateľ: | M12: IČO: | O12: 00320323
E13: Obec Terany, Terany 116, PSČ: 962 68 | M13: IČO DPH:
D15: Zhotoviteľ: | M15: IČO: | O15: =IF('Rekapitulácia stavby'!AN13="","",'Rekapitulácia stavby'!AN13) -> Vyplň údaj
E16: =IF('Rekapitulácia stavby'!E14="","",'Rekapitulácia stavby'!E14) -> Vyplň údaj | M16: IČO DPH: | O16: =IF('Rekapitulácia stavby'!AN14="","",'Rekapitulácia stavby'!AN14) -> Vyplň údaj
D18: Projektant: | M18: IČO: | O18: 44413301
E19: Cobra Bauart s.r.o. Športová 2/20, Balog nad Ipľom | M19: IČO DPH: | O19: 2022709282
D21: Spracovateľ: | M21: IČO: | O21: =IF('Rekapitulácia stavby'!AN19="","",'Rekapitulácia stavby'!AN19)
E22: =IF('Rekapitulácia stavby'!E20="","",'Rekapitulácia stavby'!E20) | M22: IČO DPH: | O22: =IF('Rekapitulácia stavby'!AN20="","",'Rekapitulácia stavby'!AN20)
D24: Poznámka:
D28: Náklady z rozpočtu | M28: =N89 -> 0
D29: Ostatné náklady | M29: =N102 -> 0
D31: Cena bez DPH | M31: =ROUND(M28+M29,2) -> 0
D33: DPH | E33: základná | F33: 0.2 | G33: z | H33: =ROUND((((SUM(BE102:BE109)+SUM(BE128:BE224))+SUM(BE226:BE228))),2) -> 0 | M33: =ROUND(((ROUND((SUM(BE102:BE109)+SUM(BE128:BE224)), 2)*F33)+SUM(BE226:BE228)*F33),2) -> 0
E34: znížená | F34: 0.2 | G34: z | H34: =ROUND((((SUM(BF102:BF109)+SUM(BF128:BF224))+SUM(BF226:BF228))),2) -> 0 | M34: =ROUND(((ROUND((SUM(BF102:BF109)+SUM(BF128:BF224)), 2)*F34)+SUM(BF226:BF228)*F34),2) -> 0
E35: zákl. prenesená | F35: 0.2 | G35: z | H35: =ROUND((((SUM(BG102:BG109)+SUM(BG128:BG224))+SUM(BG226:BG228))),2) -> 0 | M35: 0
E36: zníž. prenesená | F36: 0.2 | G36: z | H36: =ROUND((((SUM(BH102:BH109)+SUM(BH128:BH224))+SUM(BH226:BH228))),2) -> 0 | M36: 0
E37: nulová | F37: 0 | G37: z | H37: =ROUND((((SUM(BI102:BI109)+SUM(BI128:BI224))+SUM(BI226:BI228))),2) -> 0 | M37: 0
D39: Cena s DPH | G39: v | H39: EUR | L39: =SUM(M31:M37) -> 0
D50: Projektant | J50: Spracovateľ
D59: Dátum a podpis: | G59: Pečiatka | J59: Dátum a podpis: | N59: Pečiatka
D61: Objednávateľ | J61: Zhotoviteľ
D70: Dátum a podpis: | G70: Pečiatka | J70: Dátum a podpis: | N70: Pečiatka
C76: REKAPITULÁCIA ROZPOČTU
C78: Stavba: | F78: =F6 -> PRESTAVBA BUDOVY NA KOMUNITNÉ CENTRUM - OBEC TERANY
C79: Objekt: | F79: SO 01 - Prestavba budovy na klub dôchodcov a spoločenské centrum
C80: Časť: | F80: =F8 -> Časť 2. - ZDRAVOTECHNIKA
C82: Miesto: | F82: =F10 -> TERANY, 962 68, parc. č.: 1/5 | K82: Dátum: | M82: =IF(O10="","",O10) -> 0
C84: Objednávateľ: | F84: =E13 -> Obec Terany, Terany 116, PSČ: 962 68 | K84: Projektant: | M84: =E19 -> Cobra Bauart s.r.o. Športová 2/20, Balog nad Ipľom
C85: Zhotoviteľ: | F85: =IF(E16="","",E16) -> Vyplň údaj | K85: Spracovateľ: | M85: =E22
C87: Kód - Popis | N87: Cena celkom [EUR]
C89: 1) Náklady z rozpočtu | N89: =N128 -> 0 | AU89: -1
...

Sheet Časť 3. - KANALIZAČNÁ PRÍ...
D1: Hárok obsahuje: | F1: 1) Krycí list rozpočtu | H1: 2) Rekapitulácia rozpočtu | L1: 3) Rozpočet | O1: Späť na hárok: | S1: Rekapitulácia stavby
C2: optimalizované pre tlač zostáv vo formáte A4 - na výšku | S2: >> skryté stĺpce << | AT2: {06343e37-2442-49ce-aeab-60603001cbd6}
AT3: 0
C4: KRYCÍ LIST ROZPOČTU | T4: v --- nižšie sa nachádzajú doplnkové a pomocné údaje k zostavám --- v | AT4: False
D6: Stavba: | F6: ='Rekapitulácia stavby'!K6 -> PRESTAVBA BUDOVY NA KOMUNITNÉ CENTRUM - OBEC TERANY
D7: Objekt: | F7: SO 01 - Prestavba budovy na klub dôchodcov a spoločenské centrum
D8: Časť: | F8: Časť 3. - KANALIZAČNÁ PRÍPOJKA
D9: JKSO: | M9: KS:
D10: Miesto: | F10: TERANY, 962 68, parc. č.: 1/5 | M10: Dátum: | O10: ='Rekapitulácia stavby'!AN8 -> 0
D12: Objednávateľ: | M12: IČO: | O12: 00320323
E13: Obec Terany, Terany 116, PSČ: 962 68 | M13: IČO DPH:
D15: Zhotoviteľ: | M15: IČO: | O15: =IF('Rekapitulácia stavby'!AN13="","",'Rekapitulácia stavby'!AN13) -> Vyplň údaj
E16: =IF('Rekapitulácia stavby'!E14="","",'Rekapitulácia stavby'!E14) -> Vyplň údaj | M16: IČO DPH: | O16: =IF('Rekapitulácia stavby'!AN14="","",'Rekapitulácia stavby'!AN14) -> Vyplň údaj
D18: Projektant: | M18: IČO: | O18: 44413301
E19: Cobra Bauart s.r.o. Športová 2/20, Balog nad Ipľom | M19: IČO DPH: | O19: 2022709282
D21: Spracovateľ: | M21: IČO: | O21: =IF('Rekapitulácia stavby'!AN19="","",'Rekapitulácia stavby'!AN19)
E22: =IF('Rekapitulácia stavby'!E20="","",'Rekapitulácia stavby'!E20) | M22: IČO DPH: | O22: =IF('Rekapitulácia stavby'!AN20="","",'Rekapitulácia stavby'!AN20)
D24: Poznámka:
D28: Náklady z rozpočtu | M28: =N89 -> 0
D29: Ostatné náklady | M29: =N96 -> 0
D31: Cena bez DPH | M31: =ROUND(M28+M29,2) -> 0
D33: DPH | E33: základná | F33: 0.2 | G33: z | H33: =ROUND((((SUM(BE96:BE103)+SUM(BE122:BE144))+SUM(BE146:BE148))),2) -> 0 | M33: =ROUND(((ROUND((SUM(BE96:BE103)+SUM(BE122:BE144)), 2)*F33)+SUM(BE146:BE148)*F33),2) -> 0
E34: znížená | F34: 0.2 | G34: z | H34: =ROUND((((SUM(BF96:BF103)+SUM(BF122:BF144))+SUM(BF146:BF148))),2) -> 0 | M34: =ROUND(((ROUND((SUM(BF96:BF103)+SUM(BF122:BF144)), 2)*F34)+SUM(BF146:BF148)*F34),2) -> 0
E35: zákl. prenesená | F35: 0.2 | G35: z | H35: =ROUND((((SUM(BG96:BG103)+SUM(BG122:BG144))+SUM(BG146:BG148))),2) -> 0 | M35: 0
E36: zníž. prenesená | F36: 0.2 | G36: z | H36: =ROUND((((SUM(BH96:BH103)+SUM(BH122:BH144))+SUM(BH146:BH148))),2) -> 0 | M36: 0
E37: nulová | F37: 0 | G37: z | H37: =ROUND((((SUM(BI96:BI103)+SUM(BI122:BI144))+SUM(BI146:BI148))),2) -> 0 | M37: 0
D39: Cena s DPH | G39: v | H39: EUR | L39: =SUM(M31:M37) -> 0
D50: Projektant | J50: Spracovateľ
D59: Dátum a podpis: | G59: Pečiatka | J59: Dátum a podpis: | N59: Pečiatka
D61: Objednávateľ | J61: Zhotoviteľ
D70: Dátum a podpis: | G70: Pečiatka | J70: Dátum a podpis: | N70: Pečiatka
C76: REKAPITULÁCIA ROZPOČTU
C78: Stavba: | F78: =F6 -> PRESTAVBA BUDOVY NA KOMUNITNÉ CENTRUM - OBEC TERANY
C79: Objekt: | F79: SO 01 - Prestavba budovy na klub dôchodcov a spoločenské centrum
C80: Časť: | F80: =F8 -> Časť 3. - KANALIZAČNÁ PRÍPOJKA
C82: Miesto: | F82: =F10 -> TERANY, 962 68, parc. č.: 1/5 | K82: Dátum: | M82: =IF(O10="","",O10) -> 0
C84: Objednávateľ: | F84: =E13 -> Obec Terany, Terany 116, PSČ: 962 68 | K84: Projektant: | M84: =E19 -> Cobra Bauart s.r.o. Športová 2/20, Balog nad Ipľom
C85: Zhotoviteľ: | F85: =IF(E16="","",E16) -> Vyplň údaj | K85: Spracovateľ: | M85: =E22
C87: Kód - Popis | N87: Cena celkom [EUR]
C89: 1) Náklady z rozpočtu | N89: =N122 -> 0 | AU89: -1
...

Sheet Časť 4. - VYKUROVANIE
D1: Hárok obsahuje: | F1: 1) Krycí list rozpočtu | H1: 2) Rekapitulácia rozpočtu | L1: 3) Rozpočet | O1: Späť na hárok: | S1: Rekapitulácia stavby
C2: optimalizované pre tlač zostáv vo formáte A4 - na výšku | S2: >> skryté stĺpce << | AT2: {0725c460-1d86-4a6b-832b-df0d83b9d9d2}
AT3: 0
C4: KRYCÍ LIST ROZPOČTU | T4: v --- nižšie sa nachádzajú doplnkové a pomocné údaje k zostavám --- v | AT4: False
D6: Stavba: | F6: ='Rekapitulácia stavby'!K6 -> PRESTAVBA BUDOVY NA KOMUNITNÉ CENTRUM - OBEC TERANY
D7: Objekt: | F7: SO 01 - Prestavba budovy na klub dôchodcov a spoločenské centrum
D8: Časť: | F8: Časť 4. - VYKUROVANIE
D9: JKSO: | M9: KS:
D10: Miesto: | F10: TERANY, 962 68, parc. č.: 1/5 | M10: Dátum: | O10: ='Rekapitulácia stavby'!AN8 -> 0
D12: Objednávateľ: | M12: IČO: | O12: 00320323
E13: Obec Terany, Terany 116, PSČ: 962 68 | M13: IČO DPH:
D15: Zhotoviteľ: | M15: IČO: | O15: =IF('Rekapitulácia stavby'!AN13="","",'Rekapitulácia stavby'!AN13) -> Vyplň údaj
E16: =IF('Rekapitulácia stavby'!E14="","",'Rekapitulácia stavby'!E14) -> Vyplň údaj | M16: IČO DPH: | O16: =IF('Rekapitulácia stavby'!AN14="","",'Rekapitulácia stavby'!AN14) -> Vyplň údaj
D18: Projektant: | M18: IČO: | O18: 44413301
E19: Cobra Bauart s.r.o. Športová 2/20, Balog nad Ipľom | M19: IČO DPH: | O19: 2022709282
D21: Spracovateľ: | M21: IČO: | O21: =IF('Rekapitulácia stavby'!AN19="","",'Rekapitulácia stavby'!AN19)
E22: =IF('Rekapitulácia stavby'!E20="","",'Rekapitulácia stavby'!E20) | M22: IČO DPH: | O22: =IF('Rekapitulácia stavby'!AN20="","",'Rekapitulácia stavby'!AN20)
D24: Poznámka:
D28: Náklady z rozpočtu | M28: =N89 -> 0
D29: Ostatné náklady | M29: =N102 -> 0
D31: Cena bez DPH | M31: =ROUND(M28+M29,2) -> 0
D33: DPH | E33: základná | F33: 0.2 | G33: z | H33: =ROUND((((SUM(BE102:BE109)+SUM(BE128:BE188))+SUM(BE190:BE192))),2) -> 0 | M33: =ROUND(((ROUND((SUM(BE102:BE109)+SUM(BE128:BE188)), 2)*F33)+SUM(BE190:BE192)*F33),2) -> 0
E34: znížená | F34: 0.2 | G34: z | H34: =ROUND((((SUM(BF102:BF109)+SUM(BF128:BF188))+SUM(BF190:BF192))),2) -> 0 | M34: =ROUND(((ROUND((SUM(BF102:BF109)+SUM(BF128:BF188)), 2)*F34)+SUM(BF190:BF192)*F34),2) -> 0
E35: zákl. prenesená | F35: 0.2 | G35: z | H35: =ROUND((((SUM(BG102:BG109)+SUM(BG128:BG188))+SUM(BG190:BG192))),2) -> 0 | M35: 0
E36: zníž. prenesená | F36: 0.2 | G36: z | H36: =ROUND((((SUM(BH102:BH109)+SUM(BH128:BH188))+SUM(BH190:BH192))),2) -> 0 | M36: 0
E37: nulová | F37: 0 | G37: z | H37: =ROUND((((SUM(BI102:BI109)+SUM(BI128:BI188))+SUM(BI190:BI192))),2) -> 0 | M37: 0
D39: Cena s DPH | G39: v | H39: EUR | L39: =SUM(M31:M37) -> 0
D50: Projektant | J50: Spracovateľ
D59: Dátum a podpis: | G59: Pečiatka | J59: Dátum a podpis: | N59: Pečiatka
D61: Objednávateľ | J61: Zhotoviteľ
D70: Dátum a podpis: | G70: Pečiatka | J70: Dátum a podpis: | N70: Pečiatka
C76: REKAPITULÁCIA ROZPOČTU
C78: Stavba: | F78: =F6 -> PRESTAVBA BUDOVY NA KOMUNITNÉ CENTRUM - OBEC TERANY
C79: Objekt: | F79: SO 01 - Prestavba budovy na klub dôchodcov a spoločenské centrum
C80: Časť: | F80: =F8 -> Časť 4. - VYKUROVANIE
C82: Miesto: | F82: =F10 -> TERANY, 962 68, parc. č.: 1/5 | K82: Dátum: | M82: =IF(O10="","",O10) -> 0
C84: Objednávateľ: | F84: =E13 -> Obec Terany, Terany 116, PSČ: 962 68 | K84: Projektant: | M84: =E19 -> Cobra Bauart s.r.o. Športová 2/20, Balog nad Ipľom
C85: Zhotoviteľ: | F85: =IF(E16="","",E16) -> Vyplň údaj | K85: Spracovateľ: | M85: =E22
C87: Kód - Popis | N87: Cena celkom [EUR]
C89: 1) Náklady z rozpočtu | N89: =N128 -> 0 | AU89: -1
...

Sheet a) - Elektroinštalácia
D1: Hárok obsahuje: | F1: 1) Krycí list rozpočtu | H1: 2) Rekapitulácia rozpočtu | L1: 3) Rozpočet | O1: Späť na hárok: | S1: Rekapitulácia stavby
C2: optimalizované pre tlač zostáv vo formáte A4 - na výšku | S2: >> skryté stĺpce << | AT2: {c013d974-9d99-4c44-8a75-17e0f735941c}
AT3: 0
C4: KRYCÍ LIST ROZPOČTU | T4: v --- nižšie sa nachádzajú doplnkové a pomocné údaje k zostavám --- v | AT4: False
D6: Stavba: | F6: ='Rekapitulácia stavby'!K6 -> PRESTAVBA BUDOVY NA KOMUNITNÉ CENTRUM - OBEC TERANY
D7: Objekt: | F7: SO 01 - Prestavba budovy na klub dôchodcov a spoločenské centrum
D8: Časť: | F8: Časť 5. - ELEKTRO ČASŤ
D9: Úroveň 3: | F9: a) - Elektroinštalácia
D10: JKSO: | M10: KS:
D11: Miesto: | F11: TERANY, 962 68, parc. č.: 1/5 | M11: Dátum: | O11: ='Rekapitulácia stavby'!AN8 -> 0
D13: Objednávateľ: | M13: IČO: | O13: 00320323
E14: Obec Terany, Terany 116, PSČ: 962 68 | M14: IČO DPH:
D16: Zhotoviteľ: | M16: IČO: | O16: =IF('Rekapitulácia stavby'!AN13="","",'Rekapitulácia stavby'!AN13) -> Vyplň údaj
E17: =IF('Rekapitulácia stavby'!E14="","",'Rekapitulácia stavby'!E14) -> Vyplň údaj | M17: IČO DPH: | O17: =IF('Rekapitulácia stavby'!AN14="","",'Rekapitulácia stavby'!AN14) -> Vyplň údaj
D19: Projektant: | M19: IČO: | O19: 44413301
E20: Cobra Bauart s.r.o. Športová 2/20, Balog nad Ipľom | M20: IČO DPH: | O20: 2022709282
D22: Spracovateľ: | M22: IČO: | O22: =IF('Rekapitulácia stavby'!AN19="","",'Rekapitulácia stavby'!AN19)
E23: =IF('Rekapitulácia stavby'!E20="","",'Rekapitulácia stavby'!E20) | M23: IČO DPH: | O23: =IF('Rekapitulácia stavby'!AN20="","",'Rekapitulácia stavby'!AN20)
D25: Poznámka:
D29: Náklady z rozpočtu | M29: =N90 -> 0
D30: Ostatné náklady | M30: =N102 -> 0
D32: Cena bez DPH | M32: =ROUND(M29+M30,2) -> 0
D34: DPH | E34: základná | F34: 0.2 | G34: z | H34: =ROUND((((SUM(BE102:BE109)+SUM(BE129:BE196))+SUM(BE198:BE200))),2) -> 0 | M34: =ROUND(((ROUND((SUM(BE102:BE109)+SUM(BE129:BE196)), 2)*F34)+SUM(BE198:BE200)*F34),2) -> 0
E35: znížená | F35: 0.2 | G35: z | H35: =ROUND((((SUM(BF102:BF109)+SUM(BF129:BF196))+SUM(BF198:BF200))),2) -> 0 | M35: =ROUND(((ROUND((SUM(BF102:BF109)+SUM(BF129:BF196)), 2)*F35)+SUM(BF198:BF200)*F35),2) -> 0
E36: zákl. prenesená | F36: 0.2 | G36: z | H36: =ROUND((((SUM(BG102:BG109)+SUM(BG129:BG196))+SUM(BG198:BG200))),2) -> 0 | M36: 0
E37: zníž. prenesená | F37: 0.2 | G37: z | H37: =ROUND((((SUM(BH102:BH109)+SUM(BH129:BH196))+SUM(BH198:BH200))),2) -> 0 | M37: 0
E38: nulová | F38: 0 | G38: z | H38: =ROUND((((SUM(BI102:BI109)+SUM(BI129:BI196))+SUM(BI198:BI200))),2) -> 0 | M38: 0
D40: Cena s DPH | G40: v | H40: EUR | L40: =SUM(M32:M38) -> 0
D50: Projektant | J50: Spracovateľ
D59: Dátum a podpis: | G59: Pečiatka | J59: Dátum a podpis: | N59: Pečiatka
D61: Objednávateľ | J61: Zhotoviteľ
D70: Dátum a podpis: | G70: Pečiatka | J70: Dátum a podpis: | N70: Pečiatka
C76: REKAPITULÁCIA ROZPOČTU
C78: Stavba: | F78: =F6 -> PRESTAVBA BUDOVY NA KOMUNITNÉ CENTRUM - OBEC TERANY
C79: Objekt: | F79: SO 01 - Prestavba budovy na klub dôchodcov a spoločenské centrum
C80: Časť: | F80: Časť 5. - ELEKTRO ČASŤ
C81: Úroveň 3: | F81: =F9 -> a) - Elektroinštalácia
C83: Miesto: | F83: =F11 -> TERANY, 962 68, parc. č.: 1/5 | K83: Dátum: | M83: =IF(O11="","",O11) -> 0
C85: Objednávateľ: | F85: =E14 -> Obec Terany, Terany 116, PSČ: 962 68 | K85: Projektant: | M85: =E20 -> Cobra Bauart s.r.o. Športová 2/20, Balog nad Ipľom
C86: Zhotoviteľ: | F86: =IF(E17="","",E17) -> Vyplň údaj | K86: Spracovateľ: | M86: =E23
...

Sheet b) - Bleskozvod
D1: Hárok obsahuje: | F1: 1) Krycí list rozpočtu | H1: 2) Rekapitulácia rozpočtu | L1: 3) Rozpočet | O1: Späť na hárok: | S1: Rekapitulácia stavby
C2: optimalizované pre tlač zostáv vo formáte A4 - na výšku | S2: >> skryté stĺpce << | AT2: {23ffc10c-6dc0-4871-a1c7-be01dc3ac0e7}
AT3: 0
C4: KRYCÍ LIST ROZPOČTU | T4: v --- nižšie sa nachádzajú doplnkové a pomocné údaje k zostavám --- v | AT4: False
D6: Stavba: | F6: ='Rekapitulácia stavby'!K6 -> PRESTAVBA BUDOVY NA KOMUNITNÉ CENTRUM - OBEC TERANY
D7: Objekt: | F7: SO 01 - Prestavba budovy na klub dôchodcov a spoločenské centrum
D8: Časť: | F8: Časť 5. - ELEKTRO ČASŤ
D9: Úroveň 3: | F9: b) - Bleskozvod
D10: JKSO: | M10: KS:
D11: Miesto: | F11: TERANY, 962 68, parc. č.: 1/5 | M11: Dátum: | O11: ='Rekapitulácia stavby'!AN8 -> 0
D13: Objednávateľ: | M13: IČO: | O13: 00320323
E14: Obec Terany, Terany 116, PSČ: 962 68 | M14: IČO DPH:
D16: Zhotoviteľ: | M16: IČO: | O16: =IF('Rekapitulácia stavby'!AN13="","",'Rekapitulácia stavby'!AN13) -> Vyplň údaj
E17: =IF('Rekapitulácia stavby'!E14="","",'Rekapitulácia stavby'!E14) -> Vyplň údaj | M17: IČO DPH: | O17: =IF('Rekapitulácia stavby'!AN14="","",'Rekapitulácia stavby'!AN14) -> Vyplň údaj
D19: Projektant: | M19: IČO: | O19: 44413301
E20: Cobra Bauart s.r.o. Športová 2/20, Balog nad Ipľom | M20: IČO DPH: | O20: 2022709282
D22: Spracovateľ: | M22: IČO: | O22: =IF('Rekapitulácia stavby'!AN19="","",'Rekapitulácia stavby'!AN19)
E23: =IF('Rekapitulácia stavby'!E20="","",'Rekapitulácia stavby'!E20) | M23: IČO DPH: | O23: =IF('Rekapitulácia stavby'!AN20="","",'Rekapitulácia stavby'!AN20)
D25: Poznámka:
D29: Náklady z rozpočtu | M29: =N90 -> 0
D30: Ostatné náklady | M30: =N96 -> 0
D32: Cena bez DPH | M32: =ROUND(M29+M30,2) -> 0
D34: DPH | E34: základná | F34: 0.2 | G34: z | H34: =ROUND((((SUM(BE96:BE103)+SUM(BE123:BE170))+SUM(BE172:BE174))),2) -> 0 | M34: =ROUND(((ROUND((SUM(BE96:BE103)+SUM(BE123:BE170)), 2)*F34)+SUM(BE172:BE174)*F34),2) -> 0
E35: znížená | F35: 0.2 | G35: z | H35: =ROUND((((SUM(BF96:BF103)+SUM(BF123:BF170))+SUM(BF172:BF174))),2) -> 0 | M35: =ROUND(((ROUND((SUM(BF96:BF103)+SUM(BF123:BF170)), 2)*F35)+SUM(BF172:BF174)*F35),2) -> 0
E36: zákl. prenesená | F36: 0.2 | G36: z | H36: =ROUND((((SUM(BG96:BG103)+SUM(BG123:BG170))+SUM(BG172:BG174))),2) -> 0 | M36: 0
E37: zníž. prenesená | F37: 0.2 | G37: z | H37: =ROUND((((SUM(BH96:BH103)+SUM(BH123:BH170))+SUM(BH172:BH174))),2) -> 0 | M37: 0
E38: nulová | F38: 0 | G38: z | H38: =ROUND((((SUM(BI96:BI103)+SUM(BI123:BI170))+SUM(BI172:BI174))),2) -> 0 | M38: 0
D40: Cena s DPH | G40: v | H40: EUR | L40: =SUM(M32:M38) -> 0
D50: Projektant | J50: Spracovateľ
D59: Dátum a podpis: | G59: Pečiatka | J59: Dátum a podpis: | N59: Pečiatka
D61: Objednávateľ | J61: Zhotoviteľ
D70: Dátum a podpis: | G70: Pečiatka | J70: Dátum a podpis: | N70: Pečiatka
C76: REKAPITULÁCIA ROZPOČTU
C78: Stavba: | F78: =F6 -> PRESTAVBA BUDOVY NA KOMUNITNÉ CENTRUM - OBEC TERANY
C79: Objekt: | F79: SO 01 - Prestavba budovy na klub dôchodcov a spoločenské centrum
C80: Časť: | F80: Časť 5. - ELEKTRO ČASŤ
C81: Úroveň 3: | F81: =F9 -> b) - Bleskozvod
C83: Miesto: | F83: =F11 -> TERANY, 962 68, parc. č.: 1/5 | K83: Dátum: | M83: =IF(O11="","",O11) -> 0
C85: Objednávateľ: | F85: =E14 -> Obec Terany, Terany 116, PSČ: 962 68 | K85: Projektant: | M85: =E20 -> Cobra Bauart s.r.o. Športová 2/20, Balog nad Ipľom
C86: Zhotoviteľ: | F86: =IF(E17="","",E17) -> Vyplň údaj | K86: Spracovateľ: | M86: =E23
...

Sheet Časť 6. - NTL PLYNOVOD
D1: Hárok obsahuje: | F1: 1) Krycí list rozpočtu | H1: 2) Rekapitulácia rozpočtu | L1: 3) Rozpočet | O1: Späť na hárok: | S1: Rekapitulácia stavby
C2: optimalizované pre tlač zostáv vo formáte A4 - na výšku | S2: >> skryté stĺpce << | AT2: {9176b90d-2d54-4bde-92c0-639ea530c856}
AT3: 0
C4: KRYCÍ LIST ROZPOČTU | T4: v --- nižšie sa nachádzajú doplnkové a pomocné údaje k zostavám --- v | AT4: False
D6: Stavba: | F6: ='Rekapitulácia stavby'!K6 -> PRESTAVBA BUDOVY NA KOMUNITNÉ CENTRUM - OBEC TERANY
D7: Objekt: | F7: SO 01 - Prestavba budovy na klub dôchodcov a spoločenské centrum
D8: Časť: | F8: Časť 6. - NTL PLYNOVOD
D9: JKSO: | M9: KS:
D10: Miesto: | F10: TERANY, 962 68, parc. č.: 1/5 | M10: Dátum: | O10: ='Rekapitulácia stavby'!AN8 -> 0
D12: Objednávateľ: | M12: IČO: | O12: 00320323
E13: Obec Terany, Terany 116, PSČ: 962 68 | M13: IČO DPH:
D15: Zhotoviteľ: | M15: IČO: | O15: =IF('Rekapitulácia stavby'!AN13="","",'Rekapitulácia stavby'!AN13) -> Vyplň údaj
E16: =IF('Rekapitulácia stavby'!E14="","",'Rekapitulácia stavby'!E14) -> Vyplň údaj | M16: IČO DPH: | O16: =IF('Rekapitulácia stavby'!AN14="","",'Rekapitulácia stavby'!AN14) -> Vyplň údaj
D18: Projektant: | M18: IČO: | O18: 44413301
E19: Cobra Bauart s.r.o. Športová 2/20, Balog nad Ipľom | M19: IČO DPH: | O19: 2022709282
D21: Spracovateľ: | M21: IČO: | O21: =IF('Rekapitulácia stavby'!AN19="","",'Rekapitulácia stavby'!AN19)
E22: =IF('Rekapitulácia stavby'!E20="","",'Rekapitulácia stavby'!E20) | M22: IČO DPH: | O22: =IF('Rekapitulácia stavby'!AN20="","",'Rekapitulácia stavby'!AN20)
D24: Poznámka:
D28: Náklady z rozpočtu | M28: =N89 -> 0
D29: Ostatné náklady | M29: =N101 -> 0
D31: Cena bez DPH | M31: =ROUND(M28+M29,2) -> 0
D33: DPH | E33: základná | F33: 0.2 | G33: z | H33: =ROUND((((SUM(BE101:BE108)+SUM(BE127:BE161))+SUM(BE163:BE165))),2) -> 0 | M33: =ROUND(((ROUND((SUM(BE101:BE108)+SUM(BE127:BE161)), 2)*F33)+SUM(BE163:BE165)*F33),2) -> 0
E34: znížená | F34: 0.2 | G34: z | H34: =ROUND((((SUM(BF101:BF108)+SUM(BF127:BF161))+SUM(BF163:BF165))),2) -> 0 | M34: =ROUND(((ROUND((SUM(BF101:BF108)+SUM(BF127:BF161)), 2)*F34)+SUM(BF163:BF165)*F34),2) -> 0
E35: zákl. prenesená | F35: 0.2 | G35: z | H35: =ROUND((((SUM(BG101:BG108)+SUM(BG127:BG161))+SUM(BG163:BG165))),2) -> 0 | M35: 0
E36: zníž. prenesená | F36: 0.2 | G36: z | H36: =ROUND((((SUM(BH101:BH108)+SUM(BH127:BH161))+SUM(BH163:BH165))),2) -> 0 | M36: 0
E37: nulová | F37: 0 | G37: z | H37: =ROUND((((SUM(BI101:BI108)+SUM(BI127:BI161))+SUM(BI163:BI165))),2) -> 0 | M37: 0
D39: Cena s DPH | G39: v | H39: EUR | L39: =SUM(M31:M37) -> 0
D50: Projektant | J50: Spracovateľ
D59: Dátum a podpis: | G59: Pečiatka | J59: Dátum a podpis: | N59: Pečiatka
D61: Objednávateľ | J61: Zhotoviteľ
D70: Dátum a podpis: | G70: Pečiatka | J70: Dátum a podpis: | N70: Pečiatka
C76: REKAPITULÁCIA ROZPOČTU
C78: Stavba: | F78: =F6 -> PRESTAVBA BUDOVY NA KOMUNITNÉ CENTRUM - OBEC TERANY
C79: Objekt: | F79: SO 01 - Prestavba budovy na klub dôchodcov a spoločenské centrum
C80: Časť: | F80: =F8 -> Časť 6. - NTL PLYNOVOD
C82: Miesto: | F82: =F10 -> TERANY, 962 68, parc. č.: 1/5 | K82: Dátum: | M82: =IF(O10="","",O10) -> 0
C84: Objednávateľ: | F84: =E13 -> Obec Terany, Terany 116, PSČ: 962 68 | K84: Projektant: | M84: =E19 -> Cobra Bauart s.r.o. Športová 2/20, Balog nad Ipľom
C85: Zhotoviteľ: | F85: =IF(E16="","",E16) -> Vyplň údaj | K85: Spracovateľ: | M85: =E22
C87: Kód - Popis | N87: Cena celkom [EUR]
C89: 1) Náklady z rozpočtu | N89: =N127 -> 0 | AU89: -1
...
