Workbook

Sheet Rekapitulácia stavby
A1: 2012 | D1: Hárok obsahuje: | K1: 1) Súhrnný list stavby | W1: 2) Rekapitulácia objektov | BA1: 2.0 | BT1: False | BU1: False
C2: optimalizované pre tlač zostáv vo formáte A4 - na výšku | AR2: >> skryté stĺpce << | BS2: 0,001 | BT2: 20
BS3: 0,001 | BT3: 20
C4: SÚHRNNÝ LIST STAVBY | AS4: v --- nižšie sa nachádzajú doplnkové a pomocné údaje k zostavám --- v | BE4: Návod na vyplnenie | BS4: 0,001
D5: Kód: | K5: 220 | BE5: Meniť je možné iba bunky so žltým podfarbením!_x000D_ _x000D_ 1) na prvom liste Rekapitulácie stavby vyplňte v zostave_x000D_ _x000D_ a) Súhrnný list_x000D_ - údaje o Zhotoviteľovi_x000D_ (prenesú sa do ostatných zostáv aj v iných listoch)_x000D_ _x000D_ b) Rekapitulácia objektov_x000D_ - potrebné Ostatné náklady_x000D_ _x000D_ 2) na vybraných listoch vyplňte v zostave_x000D_ _x000D_ a) Krycí list_x000D_ - údaje o Zhotoviteľovi, pokiaľ sa líšia od údajov o Zhotoviteľovi na Súhrnnom liste_x000D_ (údaje se prenesú do ostatných zostav v danom liste)_x000D_ _x000D_ b) Rekapitulácia rozpočtu_x000D_ - potrebné Ostatné náklady_x000D_ _x000D_ c) Celkové náklady za stavbu_x000D_ - ceny na položkách_x000D_ - množstvo, pokiaľ má žlté podfarbenie_x000D_ - a v prípade potreby poznámku (tá je v skrytom stĺpci) | BS5: 0,001
D6: Stavba: | K6: PRESTAVBA BUDOVY NA KOMUNITNÉ CENTRUM - OBEC TERANY | BS6: 0,001
D7: JKSO: | AK7: KS: | BS7: 0,001
D8: Miesto: | K8: TERANY, 962 68, parc. č.: 1/5 | AK8: Dátum: | BS8: 0,001
BS9: 0,001
D10: Objednávateľ: | AK10: IČO: | AN10: 00320323 | BS10: 0,001
E11: Obec Terany, Terany 116, PSČ: 962 68 | AK11: IČO DPH: | BS11: 0,001
BS12: 0,001
D13: Zhotoviteľ: | AK13: IČO: | AN13: Vyplň údaj | BS13: 0,001
E14: Vyplň údaj | AK14: IČO DPH: | AN14: Vyplň údaj | BS14: 0,001
BS15: False
D16: Projektant: | AK16: IČO: | AN16: 44413301 | BS16: False
E17: Cobra Bauart s.r.o. Športová 2/20, Balog nad Ipľom | AK17: IČO DPH: | AN17: 2022709282 | BS17: True
BS18: 0,01
D19: Spracovateľ: | AK19: IČO: | BS19: 0,01
AK20: IČO DPH:
D22: Poznámka:
D26: Náklady z rozpočtov | AK26: =ROUND(AG87,2) -> 0
D27: Ostatné náklady zo súhrnného listu | AK27: =ROUND(AG98,2) -> 0
D29: Cena bez DPH | AK29: =ROUND(AK26+AK27,2) -> 0
D31: DPH | F31: základná | L31: 0.2 | T31: z | W31: =ROUND(AZ87+SUM(CD99:CD103),2) -> 0 | AK31: =ROUND(AV87+SUM(BY99:BY103),2) -> 0
F32: znížená | L32: 0.2 | T32: z | W32: =ROUND(BA87+SUM(CE99:CE103),2) -> 0 | AK32: =ROUND(AW87+SUM(BZ99:BZ103),2) -> 0
F33: zákl. prenesená | L33: 0.2 | T33: z | W33: =ROUND(BB87+SUM(CF99:CF103),2) -> 0 | AK33: 0
F34: zníž. prenesená | L34: 0.2 | T34: z | W34: =ROUND(BC87+SUM(CG99:CG103),2) -> 0 | AK34: 0
F35: nulová | L35: 0 | T35: z | W35: =ROUND(BD87+SUM(CH99:CH103),2) -> 0 | AK35: 0
D37: Cena s DPH | T37: v | X37: EUR | AK37: =SUM(AK29:AK35) -> 0
D49: Projektant | AC49: Spracovateľ
D58: Dátum a podpis: | R58: Pečiatka | AC58: Dátum a podpis: | AM58: Pečiatka
D60: Objednávateľ | AC60: Zhotoviteľ
D69: Dátum a podpis: | R69: Pečiatka | AC69: Dátum a podpis: | AM69: Pečiatka
C76: REKAPITULÁCIA OBJEKTOV STAVBY
C77: Kód: | L77: =K5 -> 220
C78: Stavba: | L78: =K6 -> PRESTAVBA BUDOVY NA KOMUNITNÉ CENTRUM - OBEC TERANY
C80: Miesto: | L80: =IF(K8="","",K8) -> TERANY, 962 68, parc. č.: 1/5 | AI80: Dátum: | AM80: =IF(AN8= "","",AN8)
C82: Objednávateľ: | L82: =IF(E11= "","",E11) -> Obec Terany, Terany 116, PSČ: 962 68 | AI82: Projektant: | AM82: =IF(E17="","",E17) -> Cobra Bauart s.r.o. Športová 2/20, Balog nad Ipľom | AS82: Informatívne údaje z listov zákaziek
C83: Zhotoviteľ: | L83: =IF(E14= "Vyplň údaj","",E14) | AI83: Spracovateľ: | AM83: =IF(E20="","",E20)
C85: Kód | I85: Objekt | AG85: Cena bez DPH [EUR] | AN85: Cena s DPH [EUR] | AS85: z toho Ostat._x000D_ náklady [EUR] | AT85: DPH [EUR] | AU85: Normohodiny [h] | AV85: DPH základná [EUR] | AW85: DPH znížená [EUR] | AX85: DPH základná prenesená_x000D_ [EUR] | AY85: DPH znížená prenesená_x000D_ [EUR] | AZ85: Základňa_x000D_ DPH základná | BA85: Základňa_x000D_ DPH znížená | BB85: Základňa_x000D_ DPH zákl. prenesená | BC85: Základňa_x000D_ DPH zníž. prenesená | BD85: Základňa_x000D_ DPH nulová
C87: 1) Náklady z rozpočtov | AG87: =ROUND(AG88,2) -> 0 | AN87: =SUM(AG87,AT87) -> 0 | AS87: =ROUND(AS88,2) -> 0 | AT87: =ROUND(SUM(AV87:AW87),2) -> 0 | AU87: =ROUND(AU88,5) -> 0 | AV87: =ROUND(AZ87*L31,2) -> 0 | AW87: =ROUND(BA87*L32,2) -> 0 | AX87: =ROUND(BB87*L31,2) -> 0 | AY87: =ROUND(BC87*L32,2) -> 0 | AZ87: =ROUND(AZ88,2) -> 0 | BA87: =ROUND(BA88,2) -> 0 | BB87: =ROUND(BB88,2) -> 0 | BC87: =ROUND(BC88,2) -> 0 | BD87: =ROUND(BD88,2) -> 0 | BS87: D | BT87: 0 | BU87: ###NOIMPORT### | BV87: IMPORT | BW87: {626b23f7-bde7-48cb-8d41-f107c748c58b} | BX87: {00000000-0000-0000-0000-000000000000}
D88: SO 01 | J88: Prestavba budovy na klub dôchodcov a spoločenské centrum | AG88: =ROUND(AG89+SUM(AG90:AG93)+AG96,2) -> 0 | AN88: =SUM(AG88,AT88) -> 0 | AS88: =ROUND(AS89+SUM(AS90:AS93)+AS96,2) -> 0 | AT88: =ROUND(SUM(AV88:AW88),2) -> 0 | AU88: =ROUND(AU89+SUM(AU90:AU93)+AU96,5) -> 0 | AV88: =ROUND(AZ88*L31,2) -> 0 | AW88: =ROUND(BA88*L32,2) -> 0 | AX88: =ROUND(BB88*L31,2) -> 0 | AY88: =ROUND(BC88*L32,2) -> 0 | AZ88: =ROUND(AZ89+SUM(AZ90:AZ93)+AZ96,2) -> 0 | BA88: =ROUND(BA89+SUM(BA90:BA93)+BA96,2) -> 0 | BB88: =ROUND(BB89+SUM(BB90:BB93)+BB96,2) -> 0 | BC88: =ROUND(BC89+SUM(BC90:BC93)+BC96,2) -> 0 | BD88: =ROUND(BD89+SUM(BD90:BD93)+BD96,2) -> 0 | BS88: D | BT88: 1 | BU88: ###NOIMPORT### | BV88: IMPORT | BW88: {5c3dbcd5-8a10-42ff-a803-988098be2e79} | BX88: {626b23f7-bde7-48cb-8d41-f107c748c58b}
A89: / | E89: Časť.1 | K89: STAVEBNÁ ČASŤ | AG89: ='Časť.1 - STAVEBNÁ ČASŤ '!M31 -> 0 | AN89: =SUM(AG89,AT89) -> 0 | AS89: ='Časť.1 - STAVEBNÁ ČASŤ '!M29 -> 0 | AT89: =ROUND(SUM(AV89:AW89),2) -> 0 | AU89: ='Časť.1 - STAVEBNÁ ČASŤ '!W143 -> 0 | AV89: ='Časť.1 - STAVEBNÁ ČASŤ '!M33 -> 0 | AW89: ='Časť.1 - STAVEBNÁ ČASŤ '!M34 -> 0 | AX89: ='Časť.1 - STAVEBNÁ ČASŤ '!M35 -> 0 | AY89: ='Časť.1 - STAVEBNÁ ČASŤ '!M36 -> 0 | AZ89: ='Časť.1 - STAVEBNÁ ČASŤ '!H33 -> 0 | BA89: ='Časť.1 - STAVEBNÁ ČASŤ '!H34 -> 0 | BB89: ='Časť.1 - STAVEBNÁ ČASŤ '!H35 -> 0 | BC89: ='Časť.1 - STAVEBNÁ ČASŤ '!H36 -> 0 | BD89: ='Časť.1 - STAVEBNÁ ČASŤ '!H37 -> 0 | BT89: 2 | BV89: IMPORT | BW89: {a475253e-c5ec-433a-8dcf-5d44cd628f6f} | BX89: {5c3dbcd5-8a10-42ff-a803-988098be2e79}
A90: / | E90: Časť 2. | K90: ZDRAVOTECHNIKA | AG90: ='Časť 2. - ZDRAVOTECHNIKA'!M31 -> 0 | AN90: =SUM(AG90,AT90) -> 0 | AS90: ='Časť 2. - ZDRAVOTECHNIKA'!M29 -> 0 | AT90: =ROUND(SUM(AV90:AW90),2) -> 0 | AU90: ='Časť 2. - ZDRAVOTECHNIKA'!W128 -> 0 | AV90: ='Časť 2. - ZDRAVOTECHNIKA'!M33 -> 0 | AW90: ='Časť 2. - ZDRAVOTECHNIKA'!M34 -> 0 | AX90: ='Časť 2. - ZDRAVOTECHNIKA'!M35 -> 0 | AY90: ='Časť 2. - ZDRAVOTECHNIKA'!M36 -> 0 | AZ90: ='Časť 2. - ZDRAVOTECHNIKA'!H33 -> 0 | BA90: ='Časť 2. - ZDRAVOTECHNIKA'!H34 -> 0 | BB90: ='Časť 2. - ZDRAVOTECHNIKA'!H35 -> 0 | BC90: ='Časť 2. - ZDRAVOTECHNIKA'!H36 -> 0 | BD90: ='Časť 2. - ZDRAVOTECHNIKA'!H37 -> 0 | BT90: 2 | BV90: IMPORT | BW90: {a361d34e-1c2e-44d5-98f5-53693d4a1be1} | BX90: {5c3dbcd5-8a10-42ff-a803-988098be2e79}
A91: / | E91: Časť 3. | K91: KANALIZAČNÁ PRÍPOJKA | AG91: ='Časť 3. - KANALIZAČNÁ PRÍ...'!M31 -> 0 | AN91: =SUM(AG91,AT91) -> 0 | AS91: ='Časť 3. - KANALIZAČNÁ PRÍ...'!M29 -> 0 | AT91: =ROUND(SUM(AV91:AW91),2) -> 0 | AU91: ='Časť 3. - KANALIZAČNÁ PRÍ...'!W122 -> 0 | AV91: ='Časť 3. - KANALIZAČNÁ PRÍ...'!M33 -> 0 | AW91: ='Časť 3. - KANALIZAČNÁ PRÍ...'!M34 -> 0 | AX91: ='Časť 3. - KANALIZAČNÁ PRÍ...'!M35 -> 0 | AY91: ='Časť 3. - KANALIZAČNÁ PRÍ...'!M36 -> 0 | AZ91: ='Časť 3. - KANALIZAČNÁ PRÍ...'!H33 -> 0 | BA91: ='Časť 3. - KANALIZAČNÁ PRÍ...'!H34 -> 0 | BB91: ='Časť 3. - KANALIZAČNÁ PRÍ...'!H35 -> 0 | BC91: ='Časť 3. - KANALIZAČNÁ PRÍ...'!H36 -> 0 | BD91: ='Časť 3. - KANALIZAČNÁ PRÍ...'!H37 -> 0 | BT91: 2 | BV91: IMPORT | BW91: {06343e37-2442-49ce-aeab-60603001cbd6} | BX91: {5c3dbcd5-8a10-42ff-a803-988098be2e79}
A92: / | E92: Časť 4. | K92: VYKUROVANIE | AG92: ='Časť 4. - VYKUROVANIE'!M31 -> 0 | AN92: =SUM(AG92,AT92) -> 0 | AS92: ='Časť 4. - VYKUROVANIE'!M29 -> 0 | AT92: =ROUND(SUM(AV92:AW92),2) -> 0 | AU92: ='Časť 4. - VYKUROVANIE'!W128 -> 0 | AV92: ='Časť 4. - VYKUROVANIE'!M33 -> 0 | AW92: ='Časť 4. - VYKUROVANIE'!M34 -> 0 | AX92: ='Časť 4. - VYKUROVANIE'!M35 -> 0 | AY92: ='Časť 4. - VYKUROVANIE'!M36 -> 0 | AZ92: ='Časť 4. - VYKUROVANIE'!H33 -> 0 | BA92: ='Časť 4. - VYKUROVANIE'!H34 -> 0 | BB92: ='Časť 4. - VYKUROVANIE'!H35 -> 0 | BC92: ='Časť 4. - VYKUROVANIE'!H36 -> 0 | BD92: ='Časť 4. - VYKUROVANIE'!H37 -> 0 | BT92: 2 | BV92: IMPORT | BW92: {0725c460-1d86-4a6b-832b-df0d83b9d9d2} | BX92: {5c3dbcd5-8a10-42ff-a803-988098be2e79}
E93: Časť 5. | K93: ELEKTRO ČASŤ | AG93: =ROUND(SUM(AG94:AG95),2) -> 0 | AN93: =SUM(AG93,AT93) -> 0 | AS93: =ROUND(SUM(AS94:AS95),2) -> 0 | AT93: =ROUND(SUM(AV93:AW93),2) -> 0 | AU93: =ROUND(SUM(AU94:AU95),5) -> 0 | AV93: =ROUND(AZ93*L31,2) -> 0 | AW93: =ROUND(BA93*L32,2) -> 0 | AX93: =ROUND(BB93*L31,2) -> 0 | AY93: =ROUND(BC93*L32,2) -> 0 | AZ93: =ROUND(SUM(AZ94:AZ95),2) -> 0 | BA93: =ROUND(SUM(BA94:BA95),2) -> 0 | BB93: =ROUND(SUM(BB94:BB95),2) -> 0 | BC93: =ROUND(SUM(BC94:BC95),2) -> 0 | BD93: =ROUND(SUM(BD94:BD95),2) -> 0 | BS93: D | BT93: 2 | BU93: ###NOIMPORT### | BV93: IMPORT | BW93: {ad7da639-0918-44f3-81d3-08777211c200} | BX93: {5c3dbcd5-8a10-42ff-a803-988098be2e79}
A94: / | F94: a) | L94: Elektroinštalácia | AG94: ='a) - Elektroinštalácia'!M32 -> 0 | AN94: =SUM(AG94,AT94) -> 0 | AS94: ='a) - Elektroinštalácia'!M30 -> 0 | AT94: =ROUND(SUM(AV94:AW94),2) -> 0 | AU94: ='a) - Elektroinštalácia'!W129 -> 0 | AV94: ='a) - Elektroinštalácia'!M34 -> 0 | AW94: ='a) - Elektroinštalácia'!M35 -> 0 | AX94: ='a) - Elektroinštalácia'!M36 -> 0 | AY94: ='a) - Elektroinštalácia'!M37 -> 0 | AZ94: ='a) - Elektroinštalácia'!H34 -> 0 | BA94: ='a) - Elektroinštalácia'!H35 -> 0 | BB94: ='a) - Elektroinštalácia'!H36 -> 0 | BC94: ='a) - Elektroinštalácia'!H37 -> 0 | BD94: ='a) - Elektroinštalácia'!H38 -> 0 | BT94: 3 | BV94: IMPORT | BW94: {c013d974-9d99-4c44-8a75-17e0f735941c} | BX94: {ad7da639-0918-44f3-81d3-08777211c200}
A95: / | F95: b) | L95: Bleskozvod | AG95: ='b) - Bleskozvod'!M32 -> 0 | AN95: =SUM(AG95,AT95) -> 0 | AS95: ='b) - Bleskozvod'!M30 -> 0 | AT95: =ROUND(SUM(AV95:AW95),2) -> 0 | AU95: ='b) - Bleskozvod'!W123 -> 0 | AV95: ='b) - Bleskozvod'!M34 -> 0 | AW95: ='b) - Bleskozvod'!M35 -> 0 | AX95: ='b) - Bleskozvod'!M36 -> 0 | AY95: ='b) - Bleskozvod'!M37 -> 0 | AZ95: ='b) - Bleskozvod'!H34 -> 0 | BA95: ='b) - Bleskozvod'!H35 -> 0 | BB95: ='b) - Bleskozvod'!H36 -> 0 | BC95: ='b) - Bleskozvod'!H37 -> 0 | BD95: ='b) - Bleskozvod'!H38 -> 0 | BT95: 3 | BV95: IMPORT | BW95: {23ffc10c-6dc0-4871-a1c7-be01dc3ac0e7} | BX95: {ad7da639-0918-44f3-81d3-08777211c200}
A96: / | E96: Časť 6. | K96: NTL PLYNOVOD | AG96: ='Časť 6. - NTL PLYNOVOD'!M31 -> 0 | AN96: =SUM(AG96,AT96) -> 0 | AS96: ='Časť 6. - NTL PLYNOVOD'!M29 -> 0 | AT96: =ROUND(SUM(AV96:AW96),2) -> 0 | AU96: ='Časť 6. - NTL PLYNOVOD'!W127 -> 0 | AV96: ='Časť 6. - NTL PLYNOVOD'!M33 -> 0 | AW96: ='Časť 6. - NTL PLYNOVOD'!M34 -> 0 | AX96: ='Časť 6. - NTL PLYNOVOD'!M35 -> 0 | AY96: ='Časť 6. - NTL PLYNOVOD'!M36 -> 0 | AZ96: ='Časť 6. - NTL PLYNOVOD'!H33 -> 0 | BA96: ='Časť 6. - NTL PLYNOVOD'!H34 -> 0 | BB96: ='Časť 6. - NTL PLYNOVOD'!H35 -> 0 | BC96: ='Časť 6. - NTL PLYNOVOD'!H36 -> 0 | BD96: ='Časť 6. - NTL PLYNOVOD'!H37 -> 0 | BT96: 2 | BV96: IMPORT | BW96: {9176b90d-2d54-4bde-92c0-639ea530c856} | BX96: {5c3dbcd5-8a10-42ff-a803-988098be2e79}
C98: 2) Ostatné náklady zo súhrnného listu | AG98: =ROUND(SUM(AG99:AG102),2) -> 0 | AN98: =ROUND(SUM(AN99:AN102),2) -> 0 | AS98: Percent. zadanie_x000D_ [% nákladov rozpočtu] | AT98: Zaradenie nákladov | AU98: DPH | AV98: DPH [EUR]
D99: Ostatné náklady | AG99: =ROUND(AG87*AS99,2) -> 0 | AN99: =ROUND(AG99+AV99,2) -> 0 | AS99: 0 | AT99: stavebná časť | AU99: základná | AV99: =ROUND(IF(AU99="základná",AG99*L31,IF(AU99="znížená",AG99*L32,0)),2) -> 0 | BV99: OSTATNENAKLADY | BY99: =IF(AU99="základná",AV99,0) -> 0 | BZ99: =IF(AU99="znížená",AV99,0) -> 0 | CA99: 0 | CB99: 0 | CC99: 0 | CD99: =IF(AU99="základná",AG99,0) -> 0 | CE99: =IF(AU99="znížená",AG99,0) -> 0 | CF99: =IF(AU99="zákl. prenesená",AG99,0) -> 0 | CG99: =IF(AU99="zníž. prenesená",AG99,0) -> 0 | CH99: =IF(AU99="nulová",AG99,0) -> 0 | CI99: =IF(AU99="základná",1,IF(AU99="znížená",2,IF(AU99="zákl. prenesená",4,IF(AU99="zníž. prenesená",5,3)))) -> 1 | CJ99: =IF(AT99="stavebná časť",1,IF(8899="investičná časť",2,3)) -> 1 | CK99: =IF(D99="Vyplň vlastné","","x") -> x
D100: Vyplň vlastné | AG100: =AG87*AS100 -> 0 | AN100: =AG100+AV100 -> 0 | AS100: 0 | AT100: stavebná časť | AU100: základná | AV100: =ROUND(IF(AU100="nulová",0,IF(OR(AU100="základná",AU100="zákl. prenesená"),AG100*L31,AG100*L32)),2) -> 0 | BV100: OSTATNENAKLADYVLASTNE | BY100: =IF(AU100="základná",AV100,0) -> 0 | BZ100: =IF(AU100="znížená",AV100,0) -> 0 | CA100: =IF(AU100="zákl. prenesená",AV100,0) -> 0 | CB100: =IF(AU100="zníž. prenesená",AV100,0) -> 0 | CC100: =IF(AU100="nulová",AV100,0) -> 0 | CD100: =IF(AU100="základná",AG100,0) -> 0 | CE100: =IF(AU100="znížená",AG100,0) -> 0 | CF100: =IF(AU100="zákl. prenesená",AG100,0) -> 0 | CG100: =IF(AU100="zníž. prenesená",AG100,0) -> 0 | CH100: =IF(AU100="nulová",AG100,0) -> 0 | CI100: =IF(AU100="základná",1,IF(AU100="znížená",2,IF(AU100="zákl. prenesená",4,IF(AU100="zníž. prenesená",5,3)))) -> 1 | CJ100: =IF(AT100="stavebná časť",1,IF(88100="investičná časť",2,3)) -> 1 | CK100: =IF(D100="Vyplň vlastné","","x")
D101: Vyplň vlastné | AG101: =AG87*AS101 -> 0 | AN101: =AG101+AV101 -> 0 | AS101: 0 | AT101: stavebná časť | AU101: základná | AV101: =ROUND(IF(AU101="nulová",0,IF(OR(AU101="základná",AU101="zákl. prenesená"),AG101*L31,AG101*L32)),2) -> 0 | BV101: OSTATNENAKLADYVLASTNE | BY101: =IF(AU101="základná",AV101,0) -> 0 | BZ101: =IF(AU101="znížená",AV101,0) -> 0 | CA101: =IF(AU101="zákl. prenesená",AV101,0) -> 0 | CB101: =IF(AU101="zníž. prenesená",AV101,0) -> 0 | CC101: =IF(AU101="nulová",AV101,0) -> 0 | CD101: =IF(AU101="základná",AG101,0) -> 0 | CE101: =IF(AU101="znížená",AG101,0) -> 0 | CF101: =IF(AU101="zákl. prenesená",AG101,0) -> 0 | CG101: =IF(AU101="zníž. prenesená",AG101,0) -> 0 | CH101: =IF(AU101="nulová",AG101,0) -> 0 | CI101: =IF(AU101="základná",1,IF(AU101="znížená",2,IF(AU101="zákl. prenesená",4,IF(AU101="zníž. prenesená",5,3)))) -> 1 | CJ101: =IF(AT101="stavebná časť",1,IF(88101="investičná časť",2,3)) -> 1 | CK101: =IF(D101="Vyplň vlastné","","x")
D102: Vyplň vlastné | AG102: =AG87*AS102 -> 0 | AN102: =AG102+AV102 -> 0 | AS102: 0 | AT102: stavebná časť | AU102: základná | AV102: =ROUND(IF(AU102="nulová",0,IF(OR(AU102="základná",AU102="zákl. prenesená"),AG102*L31,AG102*L32)),2) -> 0 | BV102: OSTATNENAKLADYVLASTNE | BY102: =IF(AU102="základná",AV102,0) -> 0 | BZ102: =IF(AU102="znížená",AV102,0) -> 0 | CA102: =IF(AU102="zákl. prenesená",AV102,0) -> 0 | CB102: =IF(AU102="zníž. prenesená",AV102,0) -> 0 | CC102: =IF(AU102="nulová",AV102,0) -> 0 | CD102: =IF(AU102="základná",AG102,0) -> 0 | CE102: =IF(AU102="znížená",AG102,0) -> 0 | CF102: =IF(AU102="zákl. prenesená",AG102,0) -> 0 | CG102: =IF(AU102="zníž. prenesená",AG102,0) -> 0 | CH102: =IF(AU102="nulová",AG102,0) -> 0 | CI102: =IF(AU102="základná",1,IF(AU102="znížená",2,IF(AU102="zákl. prenesená",4,IF(AU102="zníž. prenesená",5,3)))) -> 1 | CJ102: =IF(AT102="stavebná časť",1,IF(88102="investičná časť",2,3)) -> 1 | CK102: =IF(D102="Vyplň vlastné","","x")
C104: Celkové náklady za stavbu 1) + 2) | AG104: =ROUND(AG87+AG98,2) -> 0 | AN104: =AN87+AN98 -> 0

Sheet Časť.1 - STAVEBNÁ ČASŤ 
D1: Hárok obsahuje: | F1: 1) Krycí list rozpočtu | H1: 2) Rekapitulácia rozpočtu | L1: 3) Rozpočet | O1: Späť na hárok: | S1: Rekapitulácia stavby
C2: optimalizované pre tlač zostáv vo formáte A4 - na výšku | S2: >> skryté stĺpce << | AT2: {a475253e-c5ec-433a-8dcf-5d44cd628f6f}
AT3: 0
C4: KRYCÍ LIST ROZPOČTU | T4: v --- nižšie sa nachádzajú doplnkové a pomocné údaje k zostavám --- v | AT4: False
D6: Stavba: | F6: ='Rekapitulácia stavby'!K6 -> PRESTAVBA BUDOVY NA KOMUNITNÉ CENTRUM - OBEC TERANY
D7: Objekt: | F7: SO 01 - Prestavba budovy na klub dôchodcov a spoločenské centrum
D8: Časť: | F8: Časť.1 - STAVEBNÁ ČASŤ
D9: JKSO: | M9: KS:
D10: Miesto: | F10: TERANY, 962 68, parc. č.: 1/5 | M10: Dátum: | O10: ='Rekapitulácia stavby'!AN8 -> 0
D12: Objednávateľ: | M12: IČO: | O12: 00320323
E13: Obec Terany, Terany 116, PSČ: 962 68 | M13: IČO DPH:
D15: Zhotoviteľ: | M15: IČO: | O15: =IF('Rekapitulácia stavby'!AN13="","",'Rekapitulácia stavby'!AN13) -> Vyplň údaj
E16: =IF('Rekapitulácia stavby'!E14="","",'Rekapitulácia stavby'!E14) -> Vyplň údaj | M16: IČO DPH: | O16: =IF('Rekapitulácia stavby'!AN14="","",'Rekapitulácia stavby'!AN14) -> Vyplň údaj
D18: Projektant: | M18: IČO: | O18: 44413301
E19: Cobra Bauart s.r.o. Športová 2/20, Balog nad Ipľom | M19: IČO DPH: | O19: 2022709282
D21: Spracovateľ: | M21: IČO: | O21: =IF('Rekapitulácia stavby'!AN19="","",'Rekapitulácia stavby'!AN19)
E22: =IF('Rekapitulácia stavby'!E20="","",'Rekapitulácia stavby'!E20) | M22: IČO DPH: | O22: =IF('Rekapitulácia stavby'!AN20="","",'Rekapitulácia stavby'!AN20)
D24: Poznámka:
D28: Náklady z rozpočtu | M28: =N89 -> 0
D29: Ostatné náklady | M29: =N117 -> 0
D31: Cena bez DPH | M31: =ROUND(M28+M29,2) -> 0
D33: DPH | E33: základná | F33: 0.2 | G33: z | H33: =ROUND((((SUM(BE117:BE124)+SUM(BE143:BE329))+SUM(BE331:BE333))),2) -> 0 | M33: =ROUND(((ROUND((SUM(BE117:BE124)+SUM(BE143:BE329)), 2)*F33)+SUM(BE331:BE333)*F33),2) -> 0
E34: znížená | F34: 0.2 | G34: z | H34: =ROUND((((SUM(BF117:BF124)+SUM(BF143:BF329))+SUM(BF331:BF333))),2) -> 0 | M34: =ROUND(((ROUND((SUM(BF117:BF124)+SUM(BF143:BF329)), 2)*F34)+SUM(BF331:BF333)*F34),2) -> 0
E35: zákl. prenesená | F35: 0.2 | G35: z | H35: =ROUND((((SUM(BG117:BG124)+SUM(BG143:BG329))+SUM(BG331:BG333))),2) -> 0 | M35: 0
E36: zníž. prenesená | F36: 0.2 | G36: z | H36: =ROUND((((SUM(BH117:BH124)+SUM(BH143:BH329))+SUM(BH331:BH333))),2) -> 0 | M36: 0
E37: nulová | F37: 0 | G37: z | H37: =ROUND((((SUM(BI117:BI124)+SUM(BI143:BI329))+SUM(BI331:BI333))),2) -> 0 | M37: 0
D39: Cena s DPH | G39: v | H39: EUR | L39: =SUM(M31:M37) -> 0
D50: Projektant | J50: Spracovateľ
D59: Dátum a podpis: | G59: Pečiatka | J59: Dátum a podpis: | N59: Pečiatka
D61: Objednávateľ | J61: Zhotoviteľ
D70: Dátum a podpis: | G70: Pečiatka | J70: Dátum a podpis: | N70: Pečiatka
C76: REKAPITULÁCIA ROZPOČTU
C78: Stavba: | F78: =F6 -> PRESTAVBA BUDOVY NA KOMUNITNÉ CENTRUM - OBEC TERANY
C79: Objekt: | F79: SO 01 - Prestavba budovy na klub dôchodcov a spoločenské centrum
C80: Časť: | F80: =F8 -> Časť.1 - STAVEBNÁ ČASŤ
C82: Miesto: | F82: =F10 -> TERANY, 962 68, parc. č.: 1/5 | K82: Dátum: | M82: =IF(O10="","",O10) -> 0
C84: Objednávateľ: | F84: =E13 -> Obec Terany, Terany 116, PSČ: 962 68 | K84: Projektant: | M84: =E19 -> Cobra Bauart s.r.o. Športová 2/20, Balog nad Ipľom
C85: Zhotoviteľ: | F85: =IF(E16="","",E16) -> Vyplň údaj | K85: Spracovateľ: | M85: =E22
C87: Kód - Popis | N87: Cena celkom [EUR]
C89: 1) Náklady z rozpočtu | N89: =N143 -> 0 | AU89: -1
D90: HSV - Práce a dodávky HSV | N90: =N144 -> 0
D91: 1 - Zemné práce | N91: =N145 -> 0
D92: 2 - Zakladanie | N92: =N153 -> 0
D93: 3 - Zvislé a kompletné konštrukcie | N93: =N165 -> 0
D94: 4 - Vodorovné konštrukcie | N94: =N179 -> 0
D95: 6 - Úpravy povrchov, podlahy, osadenie | N95: =N191 -> 0
D96: 9 - Ostatné konštrukcie a práce-búranie | N96: =N229 -> 0
D97: 99 - Presun hmôt HSV | N97: =N242 -> 0
D98: PSV - Práce a dodávky PSV | N98: =N244 -> 0
D99: 71 - Izolácie | N99: =N245 -> 0
D100: 711 - Izolácie proti vode a vlhkosti | N100: =N246 -> 0
D101: 713 - Izolácie tepelné | N101: =N252 -> 0
D102: 715 - Izolácie proti chemickým vplyvom | N102: =N260 -> 0
D103: 76 - Konštrukcie | N103: =N264 -> 0
D104: 762 - Konštrukcie tesárske | N104: =N265 -> 0
D105: 763 - Konštrukcie - drevostavby | N105: =N272 -> 0
D106: 764 - Konštrukcie klampiarske | N106: =N281 -> 0
D107: 765 - Konštrukcie - krytiny tvrdé | N107: =N293 -> 0
D108: 766 - Konštrukcie stolárske | N108: =N299 -> 0
D109: 767 - Konštrukcie doplnkové kovové | N109: =N309 -> 0
D110: 77 - Podlahy | N110: =N313 -> 0
D111: 771 - Podlahy z dlaždíc keramických | N111: =N314 -> 0
D112: 78 - Dokončovacie práce | N112: =N323 -> 0
D113: 781 - Obklady | N113: =N324 -> 0
D114: 784 - Maľby | N114: =N328 -> 0
D115: VP - Práce naviac | N115: =N330 -> 0
C117: 2) Ostatné náklady | N117: =ROUND(N118+N119+N120+N121+N122+N123,2) -> 0 | U117: DPH
D118: GZS | N118: =ROUND(N89*T118,2) -> 0 | U118: znížená | AY118: VRN | BE118: =IF(U118="základná",N118,0) -> 0 | BF118: =IF(U118="znížená",N118,0) -> 0 | BG118: =IF(U118="zákl. prenesená",N118,0) -> 0 | BH118: =IF(U118="zníž. prenesená",N118,0) -> 0 | BI118: =IF(U118="nulová",N118,0) -> 0 | BJ118: 2
D119: Projektové práce | N119: =ROUND(N89*T119,2) -> 0 | U119: znížená | AY119: VRN | BE119: =IF(U119="základná",N119,0) -> 0 | BF119: =IF(U119="znížená",N119,0) -> 0 | BG119: =IF(U119="zákl. prenesená",N119,0) -> 0 | BH119: =IF(U119="zníž. prenesená",N119,0) -> 0 | BI119: =IF(U119="nulová",N119,0) -> 0 | BJ119: 2
D120: Sťažené podmienky | N120: =ROUND(N89*T120,2) -> 0 | U120: znížená | AY120: VRN | BE120: =IF(U120="základná",N120,0) -> 0 | BF120: =IF(U120="znížená",N120,0) -> 0 | BG120: =IF(U120="zákl. prenesená",N120,0) -> 0 | BH120: =IF(U120="zníž. prenesená",N120,0) -> 0 | BI120: =IF(U120="nulová",N120,0) -> 0 | BJ120: 2
D121: Vplyv prostredia | N121: =ROUND(N89*T121,2) -> 0 | U121: znížená | AY121: VRN | BE121: =IF(U121="základná",N121,0) -> 0 | BF121: =IF(U121="znížená",N121,0) -> 0 | BG121: =IF(U121="zákl. prenesená",N121,0) -> 0 | BH121: =IF(U121="zníž. prenesená",N121,0) -> 0 | BI121: =IF(U121="nulová",N121,0) -> 0 | BJ121: 2
D122: Iné VRN | N122: =ROUND(N89*T122,2) -> 0 | U122: znížená | AY122: VRN | BE122: =IF(U122="základná",N122,0) -> 0 | BF122: =IF(U122="znížená",N122,0) -> 0 | BG122: =IF(U122="zákl. prenesená",N122,0) -> 0 | BH122: =IF(U122="zníž. prenesená",N122,0) -> 0 | BI122: =IF(U122="nulová",N122,0) -> 0 | BJ122: 2
D123: Kompletačná činnosť | N123: =ROUND(N89*T123,2) -> 0 | U123: znížená | AY123: KOMPLETACNA | BE123: =IF(U123="základná",N123,0) -> 0 | BF123: =IF(U123="znížená",N123,0) -> 0 | BG123: =IF(U123="zákl. prenesená",N123,0) -> 0 | BH123: =IF(U123="zníž. prenesená",N123,0) -> 0 | BI123: =IF(U123="nulová",N123,0) -> 0 | BJ123: 2
C125: Celkové náklady za stavbu 1) + 2) | L125: =ROUND(SUM(N89+N117),2) -> 0
C131: ROZPOČET
C133: Stavba: | F133: =F6 -> PRESTAVBA BUDOVY NA KOMUNITNÉ CENTRUM - OBEC TERANY
C134: Objekt: | F134: SO 01 - Prestavba budovy na klub dôchodcov a spoločenské centrum
C135: Časť: | F135: =F8 -> Časť.1 - STAVEBNÁ ČASŤ
C137: Miesto: | F137: =F10 -> TERANY, 962 68, parc. č.: 1/5 | K137: Dátum: | M137: =IF(O10="","",O10) -> 0
C139: Objednávateľ: | F139: =E13 -> Obec Terany, Terany 116, PSČ: 962 68 | K139: Projektant: | M139: =E19 -> Cobra Bauart s.r.o. Športová 2/20, Balog nad Ipľom
C140: Zhotoviteľ: | F140: =IF(E16="","",E16) -> Vyplň údaj | K140: Spracovateľ: | M140: =E22
C142: PČ | D142: Typ | E142: Kód | F142: Popis | J142: MJ | K142: Množstvo | L142: J.cena [EUR] | N142: Cena celkom [EUR] | T142: Poznámka | U142: DPH | V142: J. Nh [h] | W142: Nh celkom [h] | X142: J. hmotnosť_x000D_ [t] | Y142: Hmotnosť_x000D_ celkom [t] | Z142: J. suť [t] | AA142: Suť Celkom [t]
C143: Náklady z rozpočtu | N143: =BK143 -> 0 | W143: =W144+W244+W330 -> 0 | Y143: =Y144+Y244+Y330 -> 390.75014 | AA143: =AA144+AA244+AA330 -> 0 | AT143: D | AU143: -1 | BK143: =BK144+BK244+BK330 -> 0
D144: HSV - Práce a dodávky HSV | N144: =BK144 -> 0 | W144: =W145+W153+W165+W179+W191+W229+W242 -> 0 | Y144: =Y145+Y153+Y165+Y179+Y191+Y229+Y242 -> 361.81902 | AA144: =AA145+AA153+AA165+AA179+AA191+AA229+AA242 -> 0 | AR144: 1 | AT144: D | AU144: 0 | AY144: ROZPOCET | BK144: =BK145+BK153+BK165+BK179+BK191+BK229+BK242 -> 0
D145: 1 - Zemné práce | N145: =BK145 -> 0 | W145: =SUM(W146:W152) -> 0 | Y145: =SUM(Y146:Y152) -> 0.026 | AA145: =SUM(AA146:AA152) -> 0 | AR145: 1 | AT145: D | AU145: 1 | AY145: ROZPOCET | BK145: =SUM(BK146:BK152) -> 0
C146: 1 | D146: K | E146: 121101001 | F146: Odstránenie ornice ručne s vodorov. premiest., na hromady do 50 m hr. do 150 mm | J146: m3 | K146: 10.659 | L146: 0 | N146: =ROUND(L146*K146,3) -> 0 | U146: znížená | W146: =V146*K146 -> 0 | X146: 0 | Y146: =X146*K146 -> 0 | Z146: 0 | AA146: =Z146*K146 -> 0 | AR146: 4 | AT146: K | AU146: 2 | AY146: ROZPOCET | BE146: =IF(U146="základná",N146,0) -> 0 | BF146: =IF(U146="znížená",N146,0) -> 0 | BG146: =IF(U146="zákl. prenesená",N146,0) -> 0 | BH146: =IF(U146="zníž. prenesená",N146,0) -> 0 | BI146: =IF(U146="nulová",N146,0) -> 0 | BJ146: 2 | BK146: =ROUND(L146*K146,3) -> 0 | BL146: 4 | BM146: 1448343354
C147: 2 | D147: K | E147: 132201101 | F147: Výkop ryhy do šírky 600 mm v horn.3 do 100 m3 | J147: m3 | K147: 18.114 | L147: 0 | N147: =ROUND(L147*K147,3) -> 0 | U147: znížená | W147: =V147*K147 -> 0 | X147: 0 | Y147: =X147*K147 -> 0 | Z147: 0 | AA147: =Z147*K147 -> 0 | AR147: 4 | AT147: K | AU147: 2 | AY147: ROZPOCET | BE147: =IF(U147="základná",N147,0) -> 0 | BF147: =IF(U147="znížená",N147,0) -> 0 | BG147: =IF(U147="zákl. prenesená",N147,0) -> 0 | BH147: =IF(U147="zníž. prenesená",N147,0) -> 0 | BI147: =IF(U147="nulová",N147,0) -> 0 | BJ147: 2 | BK147: =ROUND(L147*K147,3) -> 0 | BL147: 4 | BM147: 1242016093
C148: 3 | D148: K | E148: 161101501 | F148: Zvislé premiestnenie výkopku z horniny I až IV, nosením za každé 3 m výšky | J148: m3 | K148: 18.114 | L148: 0 | N148: =ROUND(L148*K148,3) -> 0 | U148: znížená | W148: =V148*K148 -> 0 | X148: 0 | Y148: =X148*K148 -> 0 | Z148: 0 | AA148: =Z148*K148 -> 0 | AR148: 4 | AT148: K | AU148: 2 | AY148: ROZPOCET | BE148: =IF(U148="základná",N148,0) -> 0 | BF148: =IF(U148="znížená",N148,0) -> 0 | BG148: =IF(U148="zákl. prenesená",N148,0) -> 0 | BH148: =IF(U148="zníž. prenesená",N148,0) -> 0 | BI148: =IF(U148="nulová",N148,0) -> 0 | BJ148: 2 | BK148: =ROUND(L148*K148,3) -> 0 | BL148: 4 | BM148: 6
C149: 4 | D149: K | E149: 162201102 | F149: Vodorovné premiestnenie výkopku z horniny 1-4 nad 20-50m | J149: m3 | K149: 18.114 | L149: 0 | N149: =ROUND(L149*K149,3) -> 0 | U149: znížená | W149: =V149*K149 -> 0 | X149: 0 | Y149: =X149*K149 -> 0 | Z149: 0 | AA149: =Z149*K149 -> 0 | AR149: 4 | AT149: K | AU149: 2 | AY149: ROZPOCET | BE149: =IF(U149="základná",N149,0) -> 0 | BF149: =IF(U149="znížená",N149,0) -> 0 | BG149: =IF(U149="zákl. prenesená",N149,0) -> 0 | BH149: =IF(U149="zníž. prenesená",N149,0) -> 0 | BI149: =IF(U149="nulová",N149,0) -> 0 | BJ149: 2 | BK149: =ROUND(L149*K149,3) -> 0 | BL149: 4 | BM149: 306905375
C150: 5 | D150: K | E150: 174101001 | F150: Zásyp sypaninou so zhutnením jám, šachiet, rýh, zárezov alebo okolo objektov do 100 m3 | J150: m3 | K150: 18.114 | L150: 0 | N150: =ROUND(L150*K150,3) -> 0 | U150: znížená | W150: =V150*K150 -> 0 | X150: 0 | Y150: =X150*K150 -> 0 | Z150: 0 | AA150: =Z150*K150 -> 0 | AR150: 4 | AT150: K | AU150: 2 | AY150: ROZPOCET | BE150: =IF(U150="základná",N150,0) -> 0 | BF150: =IF(U150="znížená",N150,0) -> 0 | BG150: =IF(U150="zákl. prenesená",N150,0) -> 0 | BH150: =IF(U150="zníž. prenesená",N150,0) -> 0 | BI150: =IF(U150="nulová",N150,0) -> 0 | BJ150: 2 | BK150: =ROUND(L150*K150,3) -> 0 | BL150: 4 | BM150: 10
C151: 6 | D151: K | E151: 184004212 | F151: Výsadba stromov výšky 250-600 mm, do jamky priemeru 400 mm, hĺbky 600 mm | J151: ks | K151: 13 | L151: 0 | N151: =ROUND(L151*K151,3) -> 0 | U151: znížená | W151: =V151*K151 -> 0 | X151: 0 | Y151: =X151*K151 -> 0 | Z151: 0 | AA151: =Z151*K151 -> 0 | AR151: 4 | AT151: K | AU151: 2 | AY151: ROZPOCET | BE151: =IF(U151="základná",N151,0) -> 0 | BF151: =IF(U151="znížená",N151,0) -> 0 | BG151: =IF(U151="zákl. prenesená",N151,0) -> 0 | BH151: =IF(U151="zníž. prenesená",N151,0) -> 0 | BI151: =IF(U151="nulová",N151,0) -> 0 | BJ151: 2 | BK151: =ROUND(L151*K151,3) -> 0 | BL151: 4 | BM151: 12
C152: 7 | D152: M | E152: 0266205865 | F152: Tuja západná - Thuja occidentalis SMARAGD, v. 30/40; ihličnatá drevina solitérna, vzpriameno rastúca | J152: ks | K152: 13 | L152: 0 | N152: =ROUND(L152*K152,3) -> 0 | U152: znížená | W152: =V152*K152 -> 0 | X152: 0.002 | Y152: =X152*K152 -> 0.026 | Z152: 0 | AA152: =Z152*K152 -> 0 | AR152: 8 | AT152: M | AU152: 2 | AY152: ROZPOCET | BE152: =IF(U152="základná",N152,0) -> 0 | BF152: =IF(U152="znížená",N152,0) -> 0 | BG152: =IF(U152="zákl. prenesená",N152,0) -> 0 | BH152: =IF(U152="zníž. prenesená",N152,0) -> 0 | BI152: =IF(U152="nulová",N152,0) -> 0 | BJ152: 2 | BK152: =ROUND(L152*K152,3) -> 0 | BL152: 4 | BM152: 14
D153: 2 - Zakladanie | N153: =BK153 -> 0 | W153: =SUM(W154:W164) -> 0 | Y153: =SUM(Y154:Y164) -> 219.97187 | AA153: =SUM(AA154:AA164) -> 0 | AR153: 1 | AT153: D | AU153: 1 | AY153: ROZPOCET | BK153: =SUM(BK154:BK164) -> 0
C154: 8 | D154: K | E154: 273351215 | F154: Debnenie základových dosiek, zhotovenie-dielce | J154: m2 | K154: 28.05 | L154: 0 | N154: =ROUND(L154*K154,3) -> 0 | U154: znížená | W154: =V154*K154 -> 0 | X154: 0.00067 | Y154: =X154*K154 -> 0.0187935 | Z154: 0 | AA154: =Z154*K154 -> 0 | AR154: 4 | AT154: K | AU154: 2 | AY154: ROZPOCET | BE154: =IF(U154="základná",N154,0) -> 0 | BF154: =IF(U154="znížená",N154,0) -> 0 | BG154: =IF(U154="zákl. prenesená",N154,0) -> 0 | BH154: =IF(U154="zníž. prenesená",N154,0) -> 0 | BI154: =IF(U154="nulová",N154,0) -> 0 | BJ154: 2 | BK154: =ROUND(L154*K154,3) -> 0 | BL154: 4 | BM154: 1821860243
C155: 9 | D155: K | E155: 273351216 | F155: Debnenie základových dosiek, odstránenie-dielce | J155: m2 | K155: 28.05 | L155: 0 | N155: =ROUND(L155*K155,3) -> 0 | U155: znížená | W155: =V155*K155 -> 0 | X155: 0 | Y155: =X155*K155 -> 0 | Z155: 0 | AA155: =Z155*K155 -> 0 | AR155: 4 | AT155: K | AU155: 2 | AY155: ROZPOCET | BE155: =IF(U155="základná",N155,0) -> 0 | BF155: =IF(U155="znížená",N155,0) -> 0 | BG155: =IF(U155="zákl. prenesená",N155,0) -> 0 | BH155: =IF(U155="zníž. prenesená",N155,0) -> 0 | BI155: =IF(U155="nulová",N155,0) -> 0 | BJ155: 2 | BK155: =ROUND(L155*K155,3) -> 0 | BL155: 4 | BM155: -1274851227
C156: 10 | D156: K | E156: 273321411 | F156: Betón základových dosiek, železový (bez výstuže), tr. C 25/30 | J156: m3 | K156: 30.66 | L156: 0 | N156: =ROUND(L156*K156,3) -> 0 | U156: znížená | W156: =V156*K156 -> 0 | X156: 2.41572 | Y156: =X156*K156 -> 74.065975 | Z156: 0 | AA156: =Z156*K156 -> 0 | AR156: 4 | AT156: K | AU156: 2 | AY156: ROZPOCET | BE156: =IF(U156="základná",N156,0) -> 0 | BF156: =IF(U156="znížená",N156,0) -> 0 | BG156: =IF(U156="zákl. prenesená",N156,0) -> 0 | BH156: =IF(U156="zníž. prenesená",N156,0) -> 0 | BI156: =IF(U156="nulová",N156,0) -> 0 | BJ156: 2 | BK156: =ROUND(L156*K156,3) -> 0 | BL156: 4 | BM156: -1720971769
C157: 11 | D157: K | E157: 271573001 | F157: Násyp pod základové konštrukcie so zhutnením zo štrkopiesku fr.0-32 mm | J157: m3 | K157: 9.198 | L157: 0 | N157: =ROUND(L157*K157,3) -> 0 | U157: znížená | W157: =V157*K157 -> 0 | X157: 2.07 | Y157: =X157*K157 -> 19.03986 | Z157: 0 | AA157: =Z157*K157 -> 0 | AR157: 4 | AT157: K | AU157: 2 | AY157: ROZPOCET | BE157: =IF(U157="základná",N157,0) -> 0 | BF157: =IF(U157="znížená",N157,0) -> 0 | BG157: =IF(U157="zákl. prenesená",N157,0) -> 0 | BH157: =IF(U157="zníž. prenesená",N157,0) -> 0 | BI157: =IF(U157="nulová",N157,0) -> 0 | BJ157: 2 | BK157: =ROUND(L157*K157,3) -> 0 | BL157: 4 | BM157: -1964268946
C158: 12 | D158: K | E158: 273362021 | F158: Výstuž základových dosiek zo zvár. sietí KARI | J158: t | K158: 0.615 | L158: 0 | N158: =ROUND(L158*K158,3) -> 0 | U158: znížená | W158: =V158*K158 -> 0 | X158: 1.20296 | Y158: =X158*K158 -> 0.7398204 | Z158: 0 | AA158: =Z158*K158 -> 0 | AR158: 4 | AT158: K | AU158: 2 | AY158: ROZPOCET | BE158: =IF(U158="základná",N158,0) -> 0 | BF158: =IF(U158="znížená",N158,0) -> 0 | BG158: =IF(U158="zákl. prenesená",N158,0) -> 0 | BH158: =IF(U158="zníž. prenesená",N158,0) -> 0 | BI158: =IF(U158="nulová",N158,0) -> 0 | BJ158: 2 | BK158: =ROUND(L158*K158,3) -> 0 | BL158: 4 | BM158: -1726479068
C159: 13 | D159: K | E159: 274351215 | F159: Debnenie základových pásov, zhotovenie-dielce | J159: m2 | K159: 138.144 | L159: 0 | N159: =ROUND(L159*K159,3) -> 0 | U159: znížená | W159: =V159*K159 -> 0 | X159: 0.00067 | Y159: =X159*K159 -> 0.09255648 | Z159: 0 | AA159: =Z159*K159 -> 0 | AR159: 4 | AT159: K | AU159: 2 | AY159: ROZPOCET | BE159: =IF(U159="základná",N159,0) -> 0 | BF159: =IF(U159="znížená",N159,0) -> 0 | BG159: =IF(U159="zákl. prenesená",N159,0) -> 0 | BH159: =IF(U159="zníž. prenesená",N159,0) -> 0 | BI159: =IF(U159="nulová",N159,0) -> 0 | BJ159: 2 | BK159: =ROUND(L159*K159,3) -> 0 | BL159: 4 | BM159: 737255629
C160: 14 | D160: K | E160: 274351216 | F160: Debnenie základových pásov, odstránenie-dielce | J160: m2 | K160: 138.144 | L160: 0 | N160: =ROUND(L160*K160,3) -> 0 | U160: znížená | W160: =V160*K160 -> 0 | X160: 0 | Y160: =X160*K160 -> 0 | Z160: 0 | AA160: =Z160*K160 -> 0 | AR160: 4 | AT160: K | AU160: 2 | AY160: ROZPOCET | BE160: =IF(U160="základná",N160,0) -> 0 | BF160: =IF(U160="znížená",N160,0) -> 0 | BG160: =IF(U160="zákl. prenesená",N160,0) -> 0 | BH160: =IF(U160="zníž. prenesená",N160,0) -> 0 | BI160: =IF(U160="nulová",N160,0) -> 0 | BJ160: 2 | BK160: =ROUND(L160*K160,3) -> 0 | BL160: 4 | BM160: 1620633382
...

Sheet Časť 2. - ZDRAVOTECHNIKA
D1: Hárok obsahuje: | F1: 1) Krycí list rozpočtu | H1: 2) Rekapitulácia rozpočtu | L1: 3) Rozpočet | O1: Späť na hárok: | S1: Rekapitulácia stavby
C2: optimalizované pre tlač zostáv vo formáte A4 - na výšku | S2: >> skryté stĺpce << | AT2: {a361d34e-1c2e-44d5-98f5-53693d4a1be1}
AT3: 0
C4: KRYCÍ LIST ROZPOČTU | T4: v --- nižšie sa nachádzajú doplnkové a pomocné údaje k zostavám --- v | AT4: False
D6: Stavba: | F6: ='Rekapitulácia stavby'!K6 -> PRESTAVBA BUDOVY NA KOMUNITNÉ CENTRUM - OBEC TERANY
D7: Objekt: | F7: SO 01 - Prestavba budovy na klub dôchodcov a spoločenské centrum
D8: Časť: | F8: Časť 2. - ZDRAVOTECHNIKA
D9: JKSO: | M9: KS:
D10: Miesto: | F10: TERANY, 962 68, parc. č.: 1/5 | M10: Dátum: | O10: ='Rekapitulácia stavby'!AN8 -> 0
D12: Objednávateľ: | M12: IČO: | O12: 00320323
E13: Obec Terany, Terany 116, PSČ: 962 68 | M13: IČO DPH:
D15: Zhotoviteľ: | M15: IČO: | O15: =IF('Rekapitulácia stavby'!AN13="","",'Rekapitulácia stavby'!AN13) -> Vyplň údaj
E16: =IF('Rekapitulácia stavby'!E14="","",'Rekapitulácia stavby'!E14) -> Vyplň údaj | M16: IČO DPH: | O16: =IF('Rekapitulácia stavby'!AN14="","",'Rekapitulácia stavby'!AN14) -> Vyplň údaj
D18: Projektant: | M18: IČO: | O18: 44413301
E19: Cobra Bauart s.r.o. Športová 2/20, Balog nad Ipľom | M19: IČO DPH: | O19: 2022709282
D21: Spracovateľ: | M21: IČO: | O21: =IF('Rekapitulácia stavby'!AN19="","",'Rekapitulácia stavby'!AN19)
E22: =IF('Rekapitulácia stavby'!E20="","",'Rekapitulácia stavby'!E20) | M22: IČO DPH: | O22: =IF('Rekapitulácia stavby'!AN20="","",'Rekapitulácia stavby'!AN20)
D24: Poznámka:
D28: Náklady z rozpočtu | M28: =N89 -> 0
D29: Ostatné náklady | M29: =N102 -> 0
D31: Cena bez DPH | M31: =ROUND(M28+M29,2) -> 0
D33: DPH | E33: základná | F33: 0.2 | G33: z | H33: =ROUND((((SUM(BE102:BE109)+SUM(BE128:BE224))+SUM(BE226:BE228))),2) -> 0 | M33: =ROUND(((ROUND((SUM(BE102:BE109)+SUM(BE128:BE224)), 2)*F33)+SUM(BE226:BE228)*F33),2) -> 0
E34: znížená | F34: 0.2 | G34: z | H34: =ROUND((((SUM(BF102:BF109)+SUM(BF128:BF224))+SUM(BF226:BF228))),2) -> 0 | M34: =ROUND(((ROUND((SUM(BF102:BF109)+SUM(BF128:BF224)), 2)*F34)+SUM(BF226:BF228)*F34),2) -> 0
E35: zákl. prenesená | F35: 0.2 | G35: z | H35: =ROUND((((SUM(BG102:BG109)+SUM(BG128:BG224))+SUM(BG226:BG228))),2) -> 0 | M35: 0
E36: zníž. prenesená | F36: 0.2 | G36: z | H36: =ROUND((((SUM(BH102:BH109)+SUM(BH128:BH224))+SUM(BH226:BH228))),2) -> 0 | M36: 0
E37: nulová | F37: 0 | G37: z | H37: =ROUND((((SUM(BI102:BI109)+SUM(BI128:BI224))+SUM(BI226:BI228))),2) -> 0 | M37: 0
D39: Cena s DPH | G39: v | H39: EUR | L39: =SUM(M31:M37) -> 0
D50: Projektant | J50: Spracovateľ
D59: Dátum a podpis: | G59: Pečiatka | J59: Dátum a podpis: | N59: Pečiatka
D61: Objednávateľ | J61: Zhotoviteľ
D70: Dátum a podpis: | G70: Pečiatka | J70: Dátum a podpis: | N70: Pečiatka
C76: REKAPITULÁCIA ROZPOČTU
C78: Stavba: | F78: =F6 -> PRESTAVBA BUDOVY NA KOMUNITNÉ CENTRUM - OBEC TERANY
C79: Objekt: | F79: SO 01 - Prestavba budovy na klub dôchodcov a spoločenské centrum
C80: Časť: | F80: =F8 -> Časť 2. - ZDRAVOTECHNIKA
C82: Miesto: | F82: =F10 -> TERANY, 962 68, parc. č.: 1/5 | K82: Dátum: | M82: =IF(O10="","",O10) -> 0
C84: Objednávateľ: | F84: =E13 -> Obec Terany, Terany 116, PSČ: 962 68 | K84: Projektant: | M84: =E19 -> Cobra Bauart s.r.o. Športová 2/20, Balog nad Ipľom
C85: Zhotoviteľ: | F85: =IF(E16="","",E16) -> Vyplň údaj | K85: Spracovateľ: | M85: =E22
C87: Kód - Popis | N87: Cena celkom [EUR]
C89: 1) Náklady z rozpočtu | N89: =N128 -> 0 | AU89: -1
D90: PSV - Práce a dodávky PSV | N90: =N129 -> 0
D91: 71 - Izolácie | N91: =N130 -> 0
D92: 713 - Izolácie tepelné | N92: =N131 -> 0
D93: 72 - Zdravotechnické inštalácie | N93: =N136 -> 0
D94: 721 - Vnútorná kanalizácia | N94: =N137 -> 0
D95: 722 - Vnútorný vodovod | N95: =N159 -> 0
D96: 723 - Vnútorný plynovod | N96: =N183 -> 0
D97: 725 - Zariaďovacie predmety | N97: =N198 -> 0
D98: 78 - Dokončovacie práce | N98: =N222 -> 0
D99: 783 - Nátery | N99: =N223 -> 0
D100: VP - Práce naviac | N100: =N225 -> 0
C102: 2) Ostatné náklady | N102: =ROUND(N103+N104+N105+N106+N107+N108,2) -> 0 | U102: DPH
D103: GZS | N103: =ROUND(N89*T103,2) -> 0 | U103: znížená | AY103: VRN | BE103: =IF(U103="základná",N103,0) -> 0 | BF103: =IF(U103="znížená",N103,0) -> 0 | BG103: =IF(U103="zákl. prenesená",N103,0) -> 0 | BH103: =IF(U103="zníž. prenesená",N103,0) -> 0 | BI103: =IF(U103="nulová",N103,0) -> 0 | BJ103: 2
D104: Projektové práce | N104: =ROUND(N89*T104,2) -> 0 | U104: znížená | AY104: VRN | BE104: =IF(U104="základná",N104,0) -> 0 | BF104: =IF(U104="znížená",N104,0) -> 0 | BG104: =IF(U104="zákl. prenesená",N104,0) -> 0 | BH104: =IF(U104="zníž. prenesená",N104,0) -> 0 | BI104: =IF(U104="nulová",N104,0) -> 0 | BJ104: 2
D105: Sťažené podmienky | N105: =ROUND(N89*T105,2) -> 0 | U105: znížená | AY105: VRN | BE105: =IF(U105="základná",N105,0) -> 0 | BF105: =IF(U105="znížená",N105,0) -> 0 | BG105: =IF(U105="zákl. prenesená",N105,0) -> 0 | BH105: =IF(U105="zníž. prenesená",N105,0) -> 0 | BI105: =IF(U105="nulová",N105,0) -> 0 | BJ105: 2
D106: Vplyv prostredia | N106: =ROUND(N89*T106,2) -> 0 | U106: znížená | AY106: VRN | BE106: =IF(U106="základná",N106,0) -> 0 | BF106: =IF(U106="znížená",N106,0) -> 0 | BG106: =IF(U106="zákl. prenesená",N106,0) -> 0 | BH106: =IF(U106="zníž. prenesená",N106,0) -> 0 | BI106: =IF(U106="nulová",N106,0) -> 0 | BJ106: 2
D107: Iné VRN | N107: =ROUND(N89*T107,2) -> 0 | U107: znížená | AY107: VRN | BE107: =IF(U107="základná",N107,0) -> 0 | BF107: =IF(U107="znížená",N107,0) -> 0 | BG107: =IF(U107="zákl. prenesená",N107,0) -> 0 | BH107: =IF(U107="zníž. prenesená",N107,0) -> 0 | BI107: =IF(U107="nulová",N107,0) -> 0 | BJ107: 2
D108: Kompletačná činnosť | N108: =ROUND(N89*T108,2) -> 0 | U108: znížená | AY108: KOMPLETACNA | BE108: =IF(U108="základná",N108,0) -> 0 | BF108: =IF(U108="znížená",N108,0) -> 0 | BG108: =IF(U108="zákl. prenesená",N108,0) -> 0 | BH108: =IF(U108="zníž. prenesená",N108,0) -> 0 | BI108: =IF(U108="nulová",N108,0) -> 0 | BJ108: 2
C110: Celkové náklady za stavbu 1) + 2) | L110: =ROUND(SUM(N89+N102),2) -> 0
C116: ROZPOČET
C118: Stavba: | F118: =F6 -> PRESTAVBA BUDOVY NA KOMUNITNÉ CENTRUM - OBEC TERANY
C119: Objekt: | F119: SO 01 - Prestavba budovy na klub dôchodcov a spoločenské centrum
C120: Časť: | F120: =F8 -> Časť 2. - ZDRAVOTECHNIKA
C122: Miesto: | F122: =F10 -> TERANY, 962 68, parc. č.: 1/5 | K122: Dátum: | M122: =IF(O10="","",O10) -> 0
C124: Objednávateľ: | F124: =E13 -> Obec Terany, Terany 116, PSČ: 962 68 | K124: Projektant: | M124: =E19 -> Cobra Bauart s.r.o. Športová 2/20, Balog nad Ipľom
C125: Zhotoviteľ: | F125: =IF(E16="","",E16) -> Vyplň údaj | K125: Spracovateľ: | M125: =E22
C127: PČ | D127: Typ | E127: Kód | F127: Popis | J127: MJ | K127: Množstvo | L127: J.cena [EUR] | N127: Cena celkom [EUR] | T127: Poznámka | U127: DPH | V127: J. Nh [h] | W127: Nh celkom [h] | X127: J. hmotnosť_x000D_ [t] | Y127: Hmotnosť_x000D_ celkom [t] | Z127: J. suť [t] | AA127: Suť Celkom [t]
C128: Náklady z rozpočtu | N128: =BK128 -> 0 | W128: =W129+W225 -> 0 | Y128: =Y129+Y225 -> 0.87500509 | AA128: =AA129+AA225 -> 0 | AT128: D | AU128: -1 | BK128: =BK129+BK225 -> 0
D129: PSV - Práce a dodávky PSV | N129: =BK129 -> 0 | W129: =W130+W136+W222 -> 0 | Y129: =Y130+Y136+Y222 -> 0.87500509 | AA129: =AA130+AA136+AA222 -> 0 | AR129: 2 | AT129: D | AU129: 0 | AY129: ROZPOCET | BK129: =BK130+BK136+BK222 -> 0
D130: 71 - Izolácie | N130: =BK130 -> 0 | W130: =W131 -> 0 | Y130: =Y131 -> 0.0286384 | AA130: =AA131 -> 0 | AR130: 1 | AT130: D | AU130: 1 | AY130: ROZPOCET | BK130: =BK131 -> 0
D131: 713 - Izolácie tepelné | N131: =BK131 -> 0 | W131: =SUM(W132:W135) -> 0 | Y131: =SUM(Y132:Y135) -> 0.0286384 | AA131: =SUM(AA132:AA135) -> 0 | AR131: 2 | AT131: D | AU131: 2 | AY131: ROZPOCET | BK131: =SUM(BK132:BK135) -> 0
C132: 1 | D132: K | E132: 713482111 | F132: Montáž trubíc z PE, hr.do 10 mm,vnút.priemer do 38 | J132: m | K132: 64 | L132: 0 | N132: =ROUND(L132*K132,3) -> 0 | U132: znížená | W132: =V132*K132 -> 0 | X132: 0.00042 | Y132: =X132*K132 -> 0.02688 | Z132: 0 | AA132: =Z132*K132 -> 0 | AR132: 16 | AT132: K | AU132: 3 | AY132: ROZPOCET | BE132: =IF(U132="základná",N132,0) -> 0 | BF132: =IF(U132="znížená",N132,0) -> 0 | BG132: =IF(U132="zákl. prenesená",N132,0) -> 0 | BH132: =IF(U132="zníž. prenesená",N132,0) -> 0 | BI132: =IF(U132="nulová",N132,0) -> 0 | BJ132: 2 | BK132: =ROUND(L132*K132,3) -> 0 | BL132: 16 | BM132: -1760594244
C133: 2 | D133: M | E133: 2837741535 | F133: Izolácia Trubice Tubolit 18/9-DG-A (190) ARC-0076 Armacell AZ FLEX | J133: m | K133: 30 | L133: 0 | N133: =ROUND(L133*K133,3) -> 0 | U133: znížená | W133: =V133*K133 -> 0 | X133: 1.3e-05 | Y133: =X133*K133 -> 0.00039 | Z133: 0 | AA133: =Z133*K133 -> 0 | AR133: 32 | AT133: M | AU133: 3 | AY133: ROZPOCET | BE133: =IF(U133="základná",N133,0) -> 0 | BF133: =IF(U133="znížená",N133,0) -> 0 | BG133: =IF(U133="zákl. prenesená",N133,0) -> 0 | BH133: =IF(U133="zníž. prenesená",N133,0) -> 0 | BI133: =IF(U133="nulová",N133,0) -> 0 | BJ133: 2 | BK133: =ROUND(L133*K133,3) -> 0 | BL133: 16 | BM133: 1267139370
C134: 3 | D134: M | E134: 2837741548 | F134: Izolácia Trubice Tubolit 22/9-DG-A (162) ARC-0077 Armacell AZ FLEX | J134: m | K134: 28 | L134: 0 | N134: =ROUND(L134*K134,3) -> 0 | U134: znížená | W134: =V134*K134 -> 0 | X134: 2.44e-05 | Y134: =X134*K134 -> 0.0006832 | Z134: 0 | AA134: =Z134*K134 -> 0 | AR134: 32 | AT134: M | AU134: 3 | AY134: ROZPOCET | BE134: =IF(U134="základná",N134,0) -> 0 | BF134: =IF(U134="znížená",N134,0) -> 0 | BG134: =IF(U134="zákl. prenesená",N134,0) -> 0 | BH134: =IF(U134="zníž. prenesená",N134,0) -> 0 | BI134: =IF(U134="nulová",N134,0) -> 0 | BJ134: 2 | BK134: =ROUND(L134*K134,3) -> 0 | BL134: 16 | BM134: 1180577827
C135: 4 | D135: M | E135: 2837741574 | F135: Izolácia Trubice Tubolit 35/9-DG-A (92) ARC-0079 Armacell AZ FLEX | J135: m | K135: 6 | L135: 0 | N135: =ROUND(L135*K135,3) -> 0 | U135: znížená | W135: =V135*K135 -> 0 | X135: 0.0001142 | Y135: =X135*K135 -> 0.0006852 | Z135: 0 | AA135: =Z135*K135 -> 0 | AR135: 32 | AT135: M | AU135: 3 | AY135: ROZPOCET | BE135: =IF(U135="základná",N135,0) -> 0 | BF135: =IF(U135="znížená",N135,0) -> 0 | BG135: =IF(U135="zákl. prenesená",N135,0) -> 0 | BH135: =IF(U135="zníž. prenesená",N135,0) -> 0 | BI135: =IF(U135="nulová",N135,0) -> 0 | BJ135: 2 | BK135: =ROUND(L135*K135,3) -> 0 | BL135: 16 | BM135: -879176221
D136: 72 - Zdravotechnické inštalácie | N136: =BK136 -> 0 | W136: =W137+W159+W183+W198 -> 0 | Y136: =Y137+Y159+Y183+Y198 -> 0.84474669 | AA136: =AA137+AA159+AA183+AA198 -> 0 | AR136: 2 | AT136: D | AU136: 1 | AY136: ROZPOCET | BK136: =BK137+BK159+BK183+BK198 -> 0
D137: 721 - Vnútorná kanalizácia | N137: =BK137 -> 0 | W137: =SUM(W138:W158) -> 0 | Y137: =SUM(Y138:Y158) -> 0.14522 | AA137: =SUM(AA138:AA158) -> 0 | AR137: 2 | AT137: D | AU137: 2 | AY137: ROZPOCET | BK137: =SUM(BK138:BK158) -> 0
C138: 5 | D138: K | E138: 721171105 | F138: Potrubie kanal. z PVC-U rúr hrdlových odpadné D 50x1,8 | J138: m | K138: 20 | L138: 0 | N138: =ROUND(L138*K138,3) -> 0 | U138: znížená | W138: =V138*K138 -> 0 | X138: 0.00135 | Y138: =X138*K138 -> 0.027 | Z138: 0 | AA138: =Z138*K138 -> 0 | AR138: 16 | AT138: K | AU138: 3 | AY138: ROZPOCET | BE138: =IF(U138="základná",N138,0) -> 0 | BF138: =IF(U138="znížená",N138,0) -> 0 | BG138: =IF(U138="zákl. prenesená",N138,0) -> 0 | BH138: =IF(U138="zníž. prenesená",N138,0) -> 0 | BI138: =IF(U138="nulová",N138,0) -> 0 | BJ138: 2 | BK138: =ROUND(L138*K138,3) -> 0 | BL138: 16 | BM138: 2
C139: 6 | D139: K | E139: 721171107 | F139: Potrubie kanal. z PVC-U rúr hrdlových odpadné D 75x1,8 | J139: m | K139: 10 | L139: 0 | N139: =ROUND(L139*K139,3) -> 0 | U139: znížená | W139: =V139*K139 -> 0 | X139: 0.00161 | Y139: =X139*K139 -> 0.0161 | Z139: 0 | AA139: =Z139*K139 -> 0 | AR139: 16 | AT139: K | AU139: 3 | AY139: ROZPOCET | BE139: =IF(U139="základná",N139,0) -> 0 | BF139: =IF(U139="znížená",N139,0) -> 0 | BG139: =IF(U139="zákl. prenesená",N139,0) -> 0 | BH139: =IF(U139="zníž. prenesená",N139,0) -> 0 | BI139: =IF(U139="nulová",N139,0) -> 0 | BJ139: 2 | BK139: =ROUND(L139*K139,3) -> 0 | BL139: 16 | BM139: 4
C140: 7 | D140: K | E140: 721171109 | F140: Potrubie kanal. z PVC-U rúr hrdlových odpadné D 110x2,2 | J140: m | K140: 25 | L140: 0 | N140: =ROUND(L140*K140,3) -> 0 | U140: znížená | W140: =V140*K140 -> 0 | X140: 0.00203 | Y140: =X140*K140 -> 0.05075 | Z140: 0 | AA140: =Z140*K140 -> 0 | AR140: 16 | AT140: K | AU140: 3 | AY140: ROZPOCET | BE140: =IF(U140="základná",N140,0) -> 0 | BF140: =IF(U140="znížená",N140,0) -> 0 | BG140: =IF(U140="zákl. prenesená",N140,0) -> 0 | BH140: =IF(U140="zníž. prenesená",N140,0) -> 0 | BI140: =IF(U140="nulová",N140,0) -> 0 | BJ140: 2 | BK140: =ROUND(L140*K140,3) -> 0 | BL140: 16 | BM140: 6
C141: 8 | D141: K | E141: 721171112 | F141: Potrubie kanal. z PVC-U rúr hrdlových odpadné D 160/3,2 | J141: m | K141: 10 | L141: 0 | N141: =ROUND(L141*K141,3) -> 0 | U141: znížená | W141: =V141*K141 -> 0 | X141: 0.00352 | Y141: =X141*K141 -> 0.0352 | Z141: 0 | AA141: =Z141*K141 -> 0 | AR141: 16 | AT141: K | AU141: 3 | AY141: ROZPOCET | BE141: =IF(U141="základná",N141,0) -> 0 | BF141: =IF(U141="znížená",N141,0) -> 0 | BG141: =IF(U141="zákl. prenesená",N141,0) -> 0 | BH141: =IF(U141="zníž. prenesená",N141,0) -> 0 | BI141: =IF(U141="nulová",N141,0) -> 0 | BJ141: 2 | BK141: =ROUND(L141*K141,3) -> 0 | BL141: 16 | BM141: 8
C142: 9 | D142: K | E142: 721173205 | F142: Potrubie kanal. z PVC rúr pripojovacie D 50x1.8 | J142: m | K142: 10 | L142: 0 | N142: =ROUND(L142*K142,3) -> 0 | U142: znížená | W142: =V142*K142 -> 0 | X142: 0.0004 | Y142: =X142*K142 -> 0.004 | Z142: 0 | AA142: =Z142*K142 -> 0 | AR142: 16 | AT142: K | AU142: 3 | AY142: ROZPOCET | BE142: =IF(U142="základná",N142,0) -> 0 | BF142: =IF(U142="znížená",N142,0) -> 0 | BG142: =IF(U142="zákl. prenesená",N142,0) -> 0 | BH142: =IF(U142="zníž. prenesená",N142,0) -> 0 | BI142: =IF(U142="nulová",N142,0) -> 0 | BJ142: 2 | BK142: =ROUND(L142*K142,3) -> 0 | BL142: 16 | BM142: 10
C143: 10 | D143: M | E143: 2862700700 | F143: PVC-U redukcia nesúosá kanalizačná 160/110 | J143: ks | K143: 1 | L143: 0 | N143: =ROUND(L143*K143,3) -> 0 | U143: znížená | W143: =V143*K143 -> 0 | X143: 0.00062 | Y143: =X143*K143 -> 0.00062 | Z143: 0 | AA143: =Z143*K143 -> 0 | AR143: 32 | AT143: M | AU143: 3 | AY143: ROZPOCET | BE143: =IF(U143="základná",N143,0) -> 0 | BF143: =IF(U143="znížená",N143,0) -> 0 | BG143: =IF(U143="zákl. prenesená",N143,0) -> 0 | BH143: =IF(U143="zníž. prenesená",N143,0) -> 0 | BI143: =IF(U143="nulová",N143,0) -> 0 | BJ143: 2 | BK143: =ROUND(L143*K143,3) -> 0 | BL143: 16 | BM143: -220762987
C144: 11 | D144: M | E144: 2862700100 | F144: PVC-U redukcia nesúosá kanalizačná 110/75 | J144: ks | K144: 1 | L144: 0 | N144: =ROUND(L144*K144,3) -> 0 | U144: znížená | W144: =V144*K144 -> 0 | X144: 0.00023 | Y144: =X144*K144 -> 0.00023 | Z144: 0 | AA144: =Z144*K144 -> 0 | AR144: 32 | AT144: M | AU144: 3 | AY144: ROZPOCET | BE144: =IF(U144="základná",N144,0) -> 0 | BF144: =IF(U144="znížená",N144,0) -> 0 | BG144: =IF(U144="zákl. prenesená",N144,0) -> 0 | BH144: =IF(U144="zníž. prenesená",N144,0) -> 0 | BI144: =IF(U144="nulová",N144,0) -> 0 | BJ144: 2 | BK144: =ROUND(L144*K144,3) -> 0 | BL144: 16 | BM144: -540766928
C145: 12 | D145: M | E145: 2863106300 | F145: PVC-U koleno odpadové (1/2) 75/ 45° | J145: ks | K145: 4 | L145: 0 | N145: =ROUND(L145*K145,3) -> 0 | U145: znížená | W145: =V145*K145 -> 0 | X145: 9e-05 | Y145: =X145*K145 -> 0.00036 | Z145: 0 | AA145: =Z145*K145 -> 0 | AR145: 32 | AT145: M | AU145: 3 | AY145: ROZPOCET | BE145: =IF(U145="základná",N145,0) -> 0 | BF145: =IF(U145="znížená",N145,0) -> 0 | BG145: =IF(U145="zákl. prenesená",N145,0) -> 0 | BH145: =IF(U145="zníž. prenesená",N145,0) -> 0 | BI145: =IF(U145="nulová",N145,0) -> 0 | BJ145: 2 | BK145: =ROUND(L145*K145,3) -> 0 | BL145: 16 | BM145: -884777951
C146: 13 | D146: M | E146: 2863105600 | F146: PVC-U koleno odpadové (1/2) 50/ 45° | J146: ks | K146: 1 | L146: 0 | N146: =ROUND(L146*K146,3) -> 0 | U146: znížená | W146: =V146*K146 -> 0 | X146: 6e-05 | Y146: =X146*K146 -> 6e-05 | Z146: 0 | AA146: =Z146*K146 -> 0 | AR146: 32 | AT146: M | AU146: 3 | AY146: ROZPOCET | BE146: =IF(U146="základná",N146,0) -> 0 | BF146: =IF(U146="znížená",N146,0) -> 0 | BG146: =IF(U146="zákl. prenesená",N146,0) -> 0 | BH146: =IF(U146="zníž. prenesená",N146,0) -> 0 | BI146: =IF(U146="nulová",N146,0) -> 0 | BJ146: 2 | BK146: =ROUND(L146*K146,3) -> 0 | BL146: 16 | BM146: 738069517
C147: 14 | D147: M | E147: 2863106800 | F147: PVC-U koleno odpadové (1/2) 110/ 45° | J147: ks | K147: 3 | L147: 0 | N147: =ROUND(L147*K147,3) -> 0 | U147: znížená | W147: =V147*K147 -> 0 | X147: 0.00027 | Y147: =X147*K147 -> 0.00081 | Z147: 0 | AA147: =Z147*K147 -> 0 | AR147: 32 | AT147: M | AU147: 3 | AY147: ROZPOCET | BE147: =IF(U147="základná",N147,0) -> 0 | BF147: =IF(U147="znížená",N147,0) -> 0 | BG147: =IF(U147="zákl. prenesená",N147,0) -> 0 | BH147: =IF(U147="zníž. prenesená",N147,0) -> 0 | BI147: =IF(U147="nulová",N147,0) -> 0 | BJ147: 2 | BK147: =ROUND(L147*K147,3) -> 0 | BL147: 16 | BM147: 606169696
C148: 15 | D148: M | E148: 2862108200 | F148: Odbočka odpadová PVC D 75/75/45° mm | J148: ks | K148: 2 | L148: 0 | N148: =ROUND(L148*K148,3) -> 0 | U148: znížená | W148: =V148*K148 -> 0 | X148: 0.00022 | Y148: =X148*K148 -> 0.00044 | Z148: 0 | AA148: =Z148*K148 -> 0 | AR148: 32 | AT148: M | AU148: 3 | AY148: ROZPOCET | BE148: =IF(U148="základná",N148,0) -> 0 | BF148: =IF(U148="znížená",N148,0) -> 0 | BG148: =IF(U148="zákl. prenesená",N148,0) -> 0 | BH148: =IF(U148="zníž. prenesená",N148,0) -> 0 | BI148: =IF(U148="nulová",N148,0) -> 0 | BJ148: 2 | BK148: =ROUND(L148*K148,3) -> 0 | BL148: 16 | BM148: -1164585338
C149: 16 | D149: M | E149: 2862108400 | F149: PVC-U odbočka jednoduchá odpadová 110/ 50 45° | J149: ks | K149: 1 | L149: 0 | N149: =ROUND(L149*K149,3) -> 0 | U149: znížená | W149: =V149*K149 -> 0 | X149: 0.00032 | Y149: =X149*K149 -> 0.00032 | Z149: 0 | AA149: =Z149*K149 -> 0 | AR149: 32 | AT149: M | AU149: 3 | AY149: ROZPOCET | BE149: =IF(U149="základná",N149,0) -> 0 | BF149: =IF(U149="znížená",N149,0) -> 0 | BG149: =IF(U149="zákl. prenesená",N149,0) -> 0 | BH149: =IF(U149="zníž. prenesená",N149,0) -> 0 | BI149: =IF(U149="nulová",N149,0) -> 0 | BJ149: 2 | BK149: =ROUND(L149*K149,3) -> 0 | BL149: 16 | BM149: 1687815040
... C158: 25 | D158: K | E158: 998721102 | F158: Presun hmôt pre vnútornú kanalizáciu v objektoch výšky do 12 m | J158: t | K158: 0.145 | L158: 0 | N158: =ROUND(L158*K158,3) -> 0 | U158: znížená | W158: =V158*K158 -> 0 | X158: 0 | Y158: =X158*K158 -> 0 | Z158: 0 | AA158: =Z158*K158 -> 0 | AR158: 16 | AT158: K | AU158: 3 | AY158: ROZPOCET | BE158: =IF(U158="základná",N158,0) -> 0 | BF158: =IF(U158="znížená",N158,0) -> 0 | BG158: =IF(U158="zákl. prenesená",N158,0) -> 0 | BH158: =IF(U158="zníž. prenesená",N158,0) -> 0 | BI158: =IF(U158="nulová",N158,0) -> 0 | BJ158: 2 | BK158: =ROUND(L158*K158,3) -> 0 | BL158: 16 | BM158: 24
D159: 722 - Vnútorný vodovod | N159: =BK159 -> 0 | W159: =SUM(W160:W182) -> 0 | Y159: =SUM(Y160:Y182) -> 0.08067 | AA159: =SUM(AA160:AA182) -> 0 | AR159: 2 | AT159: D | AU159: 2 | AY159: ROZPOCET | BK159: =SUM(BK160:BK182) -> 0
C160: 26 | D160: K | E160: 722173018 | F160: Montáž plasthliníkového potrubia Radopress lisovaním D 16x2 | J160: m | K160: 60 | L160: 0 | N160: =ROUND(L160*K160,3) -> 0 | U160: znížená | W160: =V160*K160 -> 0 | X160: 5e-05 | Y160: =X160*K160 -> 0.003 | Z160: 0 | AA160: =Z160*K160 -> 0 | AR160: 16 | AT160: K | AU160: 3 | AY160: ROZPOCET | BE160: =IF(U160="základná",N160,0) -> 0 | BF160: =IF(U160="znížená",N160,0) -> 0 | BG160: =IF(U160="zákl. prenesená",N160,0) -> 0 | BH160: =IF(U160="zníž. prenesená",N160,0) -> 0 | BI160: =IF(U160="nulová",N160,0) -> 0 | BJ160: 2 | BK160: =ROUND(L160*K160,3) -> 0 | BL160: 16 | BM160: -381193582
C161: 27 | D161: M | E161: 2860030080 | F161: RADOPRESS rúra PEX-AL-PEX 16x2mm/200m kotúč - PeX/Al/PeX systém PIPELIFE | J161: m | K161: 60 | L161: 0 | N161: =ROUND(L161*K161,3) -> 0 | U161: znížená | W161: =V161*K161 -> 0 | X161: 0.00012 | Y161: =X161*K161 -> 0.0072 | Z161: 0 | AA161: =Z161*K161 -> 0 | AR161: 32 | AT161: M | AU161: 3 | AY161: ROZPOCET | BE161: =IF(U161="základná",N161,0) -> 0 | BF161: =IF(U161="znížená",N161,0) -> 0 | BG161: =IF(U161="zákl. prenesená",N161,0) -> 0 | BH161: =IF(U161="zníž. prenesená",N161,0) -> 0 | BI161: =IF(U161="nulová",N161,0) -> 0 | BJ161: 2 | BK161: =ROUND(L161*K161,3) -> 0 | BL161: 16 | BM161: -2002119900
C162: 28 | D162: M | E162: 2860030390 | F162: RADOPRESS spojka 16 - PeX/Al/PeX systém PIPELIFE | J162: ks | K162: 60 | L162: 0 | N162: =ROUND(L162*K162,3) -> 0 | U162: znížená | W162: =V162*K162 -> 0 | X162: 6e-05 | Y162: =X162*K162 -> 0.0036 | Z162: 0 | AA162: =Z162*K162 -> 0 | AR162: 32 | AT162: M | AU162: 3 | AY162: ROZPOCET | BE162: =IF(U162="základná",N162,0) -> 0 | BF162: =IF(U162="znížená",N162,0) -> 0 | BG162: =IF(U162="zákl. prenesená",N162,0) -> 0 | BH162: =IF(U162="zníž. prenesená",N162,0) -> 0 | BI162: =IF(U162="nulová",N162,0) -> 0 | BJ162: 2 | BK162: =ROUND(L162*K162,3) -> 0 | BL162: 16 | BM162: 1326558029
C163: 29 | D163: K | E163: 722173024 | F163: Montáž plasthliníkového potrubia Radopress lisovaním D 20x2 | J163: m | K163: 55 | L163: 0 | N163: =ROUND(L163*K163,3) -> 0 | U163: znížená | W163: =V163*K163 -> 0 | X163: 5e-05 | Y163: =X163*K163 -> 0.00275 | Z163: 0 | AA163: =Z163*K163 -> 0 | AR163: 16 | AT163: K | AU163: 3 | AY163: ROZPOCET | BE163: =IF(U163="základná",N163,0) -> 0 | BF163: =IF(U163="znížená",N163,0) -> 0 | BG163: =IF(U163="zákl. prenesená",N163,0) -> 0 | BH163: =IF(U163="zníž. prenesená",N163,0) -> 0 | BI163: =IF(U163="nulová",N163,0) -> 0 | BJ163: 2 | BK163: =ROUND(L163*K163,3) -> 0 | BL163: 16 | BM163: 1665170783
C164: 30 | D164: M | E164: 2860030100 | F164: RADOPRESS rúra PEX-AL-PEX 20x2mm/100m kotúč - PeX/Al/PeX systém PIPELIFE | J164: m | K164: 55 | L164: 0 | N164: =ROUND(L164*K164,3) -> 0 | U164: znížená | W164: =V164*K164 -> 0 | X164: 0.00016 | Y164: =X164*K164 -> 0.0088 | Z164: 0 | AA164: =Z164*K164 -> 0 | AR164: 32 | AT164: M | AU164: 3 | AY164: ROZPOCET | BE164: =IF(U164="základná",N164,0) -> 0 | BF164: =IF(U164="znížená",N164,0) -> 0 | BG164: =IF(U164="zákl. prenesená",N164,0) -> 0 | BH164: =IF(U164="zníž. prenesená",N164,0) -> 0 | BI164: =IF(U164="nulová",N164,0) -> 0 | BJ164: 2 | BK164: =ROUND(L164*K164,3) -> 0 | BL164: 16 | BM164: -278369254
C165: 31 | D165: M | E165: 2860030410 | F165: RADOPRESS spojka 20 - PeX/Al/PeX systém PIPELIFE | J165: ks | K165: 55 | L165: 0 | N165: =ROUND(L165*K165,3) -> 0 | U165: znížená | W165: =V165*K165 -> 0 | X165: 8e-05 | Y165: =X165*K165 -> 0.0044 | Z165: 0 | AA165: =Z165*K165 -> 0 | AR165: 32 | AT165: M | AU165: 3 | AY165: ROZPOCET | BE165: =IF(U165="základná",N165,0) -> 0 | BF165: =IF(U165="znížená",N165,0) -> 0 | BG165: =IF(U165="zákl. prenesená",N165,0) -> 0 | BH165: =IF(U165="zníž. prenesená",N165,0) -> 0 | BI165: =IF(U165="nulová",N165,0) -> 0 | BJ165: 2 | BK165: =ROUND(L165*K165,3) -> 0 | BL165: 16 | BM165: -194147327
C166: 32 | D166: K | E166: 722173030 | F166: Montáž plasthliníkového potrubia Radopress lisovaním D 32x3 | J166: m | K166: 13 | L166: 0 | N166: =ROUND(L166*K166,3) -> 0 | U166: znížená | W166: =V166*K166 -> 0 | X166: 4e-05 | Y166: =X166*K166 -> 0.00052 | Z166: 0 | AA166: =Z166*K166 -> 0 | AR166: 16 | AT166: K | AU166: 3 | AY166: ROZPOCET | BE166: =IF(U166="základná",N166,0) -> 0 | BF166: =IF(U166="znížená",N166,0) -> 0 | BG166: =IF(U166="zákl. prenesená",N166,0) -> 0 | BH166: =IF(U166="zníž. prenesená",N166,0) -> 0 | BI166: =IF(U166="nulová",N166,0) -> 0 | BJ166: 2 | BK166: =ROUND(L166*K166,3) -> 0 | BL166: 16 | BM166: -1986123861
C167: 33 | D167: M | E167: 2860030120 | F167: RADOPRESS rúra PEX-AL-PEX 32x3mm/50m kotúč - PeX/Al/PeX systém PIPELIFE | J167: m | K167: 13 | L167: 0 | N167: =ROUND(L167*K167,3) -> 0 | U167: znížená | W167: =V167*K167 -> 0 | X167: 0.00039 | Y167: =X167*K167 -> 0.00507 | Z167: 0 | AA167: =Z167*K167 -> 0 | AR167: 32 | AT167: M | AU167: 3 | AY167: ROZPOCET | BE167: =IF(U167="základná",N167,0) -> 0 | BF167: =IF(U167="znížená",N167,0) -> 0 | BG167: =IF(U167="zákl. prenesená",N167,0) -> 0 | BH167: =IF(U167="zníž. prenesená",N167,0) -> 0 | BI167: =IF(U167="nulová",N167,0) -> 0 | BJ167: 2 | BK167: =ROUND(L167*K167,3) -> 0 | BL167: 16 | BM167: -1526198960
C168: 34 | D168: M | E168: 2860030430 | F168: RADOPRESS spojka 32 - PeX/Al/PeX systém PIPELIFE | J168: ks | K168: 13 | L168: 0 | N168: =ROUND(L168*K168,3) -> 0 | U168: znížená | W168: =V168*K168 -> 0 | X168: 0.00016 | Y168: =X168*K168 -> 0.00208 | Z168: 0 | AA168: =Z168*K168 -> 0 | AR168: 32 | AT168: M | AU168: 3 | AY168: ROZPOCET | BE168: =IF(U168="základná",N168,0) -> 0 | BF168: =IF(U168="znížená",N168,0) -> 0 | BG168: =IF(U168="zákl. prenesená",N168,0) -> 0 | BH168: =IF(U168="zníž. prenesená",N168,0) -> 0 | BI168: =IF(U168="nulová",N168,0) -> 0 | BJ168: 2 | BK168: =ROUND(L168*K168,3) -> 0 | BL168: 16 | BM168: 1962312658
...

Sheet Časť 3. - KANALIZAČNÁ PRÍ...
D1: Hárok obsahuje: | F1: 1) Krycí list rozpočtu | H1: 2) Rekapitulácia rozpočtu | L1: 3) Rozpočet | O1: Späť na hárok: | S1: Rekapitulácia stavby
C2: optimalizované pre tlač zostáv vo formáte A4 - na výšku | S2: >> skryté stĺpce << | AT2: {06343e37-2442-49ce-aeab-60603001cbd6}
AT3: 0
C4: KRYCÍ LIST ROZPOČTU | T4: v --- nižšie sa nachádzajú doplnkové a pomocné údaje k zostavám --- v | AT4: False
D6: Stavba: | F6: ='Rekapitulácia stavby'!K6 -> PRESTAVBA BUDOVY NA KOMUNITNÉ CENTRUM - OBEC TERANY
D7: Objekt: | F7: SO 01 - Prestavba budovy na klub dôchodcov a spoločenské centrum
D8: Časť: | F8: Časť 3. - KANALIZAČNÁ PRÍPOJKA
D9: JKSO: | M9: KS:
D10: Miesto: | F10: TERANY, 962 68, parc. č.: 1/5 | M10: Dátum: | O10: ='Rekapitulácia stavby'!AN8 -> 0
D12: Objednávateľ: | M12: IČO: | O12: 00320323
E13: Obec Terany, Terany 116, PSČ: 962 68 | M13: IČO DPH:
D15: Zhotoviteľ: | M15: IČO: | O15: =IF('Rekapitulácia stavby'!AN13="","",'Rekapitulácia stavby'!AN13) -> Vyplň údaj
E16: =IF('Rekapitulácia stavby'!E14="","",'Rekapitulácia stavby'!E14) -> Vyplň údaj | M16: IČO DPH: | O16: =IF('Rekapitulácia stavby'!AN14="","",'Rekapitulácia stavby'!AN14) -> Vyplň údaj
D18: Projektant: | M18: IČO: | O18: 44413301
E19: Cobra Bauart s.r.o. Športová 2/20, Balog nad Ipľom | M19: IČO DPH: | O19: 2022709282
D21: Spracovateľ: | M21: IČO: | O21: =IF('Rekapitulácia stavby'!AN19="","",'Rekapitulácia stavby'!AN19)
E22: =IF('Rekapitulácia stavby'!E20="","",'Rekapitulácia stavby'!E20) | M22: IČO DPH: | O22: =IF('Rekapitulácia stavby'!AN20="","",'Rekapitulácia stavby'!AN20)
D24: Poznámka:
D28: Náklady z rozpočtu | M28: =N89 -> 0
D29: Ostatné náklady | M29: =N96 -> 0
D31: Cena bez DPH | M31: =ROUND(M28+M29,2) -> 0
D33: DPH | E33: základná | F33: 0.2 | G33: z | H33: =ROUND((((SUM(BE96:BE103)+SUM(BE122:BE144))+SUM(BE146:BE148))),2) -> 0 | M33: =ROUND(((ROUND((SUM(BE96:BE103)+SUM(BE122:BE144)), 2)*F33)+SUM(BE146:BE148)*F33),2) -> 0
E34: znížená | F34: 0.2 | G34: z | H34: =ROUND((((SUM(BF96:BF103)+SUM(BF122:BF144))+SUM(BF146:BF148))),2) -> 0 | M34: =ROUND(((ROUND((SUM(BF96:BF103)+SUM(BF122:BF144)), 2)*F34)+SUM(BF146:BF148)*F34),2) -> 0
E35: zákl. prenesená | F35: 0.2 | G35: z | H35: =ROUND((((SUM(BG96:BG103)+SUM(BG122:BG144))+SUM(BG146:BG148))),2) -> 0 | M35: 0
E36: zníž. prenesená | F36: 0.2 | G36: z | H36: =ROUND((((SUM(BH96:BH103)+SUM(BH122:BH144))+SUM(BH146:BH148))),2) -> 0 | M36: 0
E37: nulová | F37: 0 | G37: z | H37: =ROUND((((SUM(BI96:BI103)+SUM(BI122:BI144))+SUM(BI146:BI148))),2) -> 0 | M37: 0
D39: Cena s DPH | G39: v | H39: EUR | L39: =SUM(M31:M37) -> 0
D50: Projektant | J50: Spracovateľ
D59: Dátum a podpis: | G59: Pečiatka | J59: Dátum a podpis: | N59: Pečiatka
D61: Objednávateľ | J61: Zhotoviteľ
D70: Dátum a podpis: | G70: Pečiatka | J70: Dátum a podpis: | N70: Pečiatka
C76: REKAPITULÁCIA ROZPOČTU
C78: Stavba: | F78: =F6 -> PRESTAVBA BUDOVY NA KOMUNITNÉ CENTRUM - OBEC TERANY
C79: Objekt: | F79: SO 01 - Prestavba budovy na klub dôchodcov a spoločenské centrum
C80: Časť: | F80: =F8 -> Časť 3. - KANALIZAČNÁ PRÍPOJKA
C82: Miesto: | F82: =F10 -> TERANY, 962 68, parc. č.: 1/5 | K82: Dátum: | M82: =IF(O10="","",O10) -> 0
C84: Objednávateľ: | F84: =E13 -> Obec Terany, Terany 116, PSČ: 962 68 | K84: Projektant: | M84: =E19 -> Cobra Bauart s.r.o. Športová 2/20, Balog nad Ipľom
C85: Zhotoviteľ: | F85: =IF(E16="","",E16) -> Vyplň údaj | K85: Spracovateľ: | M85: =E22
C87: Kód - Popis | N87: Cena celkom [EUR]
C89: 1) Náklady z rozpočtu | N89: =N122 -> 0 | AU89: -1
D90: HSV - Práce a dodávky HSV | N90: =N123 -> 0
D91: 1 - Zemné práce | N91: =N124 -> 0
D92: 8 - Rúrové vedenie | N92: =N136 -> 0
D93: 99 - Presun hmôt HSV | N93: =N143 -> 0
D94: VP - Práce naviac | N94: =N145 -> 0
C96: 2) Ostatné náklady | N96: =ROUND(N97+N98+N99+N100+N101+N102,2) -> 0 | U96: DPH
D97: GZS | N97: =ROUND(N89*T97,2) -> 0 | U97: znížená | AY97: VRN | BE97: =IF(U97="základná",N97,0) -> 0 | BF97: =IF(U97="znížená",N97,0) -> 0 | BG97: =IF(U97="zákl. prenesená",N97,0) -> 0 | BH97: =IF(U97="zníž. prenesená",N97,0) -> 0 | BI97: =IF(U97="nulová",N97,0) -> 0 | BJ97: 2
D98: Projektové práce | N98: =ROUND(N89*T98,2) -> 0 | U98: znížená | AY98: VRN | BE98: =IF(U98="základná",N98,0) -> 0 | BF98: =IF(U98="znížená",N98,0) -> 0 | BG98: =IF(U98="zákl. prenesená",N98,0) -> 0 | BH98: =IF(U98="zníž. prenesená",N98,0) -> 0 | BI98: =IF(U98="nulová",N98,0) -> 0 | BJ98: 2
D99: Sťažené podmienky | N99: =ROUND(N89*T99,2) -> 0 | U99: znížená | AY99: VRN | BE99: =IF(U99="základná",N99,0) -> 0 | BF99: =IF(U99="znížená",N99,0) -> 0 | BG99: =IF(U99="zákl. prenesená",N99,0) -> 0 | BH99: =IF(U99="zníž. prenesená",N99,0) -> 0 | BI99: =IF(U99="nulová",N99,0) -> 0 | BJ99: 2
D100: Vplyv prostredia | N100: =ROUND(N89*T100,2) -> 0 | U100: znížená | AY100: VRN | BE100: =IF(U100="základná",N100,0) -> 0 | BF100: =IF(U100="znížená",N100,0) -> 0 | BG100: =IF(U100="zákl. prenesená",N100,0) -> 0 | BH100: =IF(U100="zníž. prenesená",N100,0) -> 0 | BI100: =IF(U100="nulová",N100,0) -> 0 | BJ100: 2
D101: Iné VRN | N101: =ROUND(N89*T101,2) -> 0 | U101: znížená | AY101: VRN | BE101: =IF(U101="základná",N101,0) -> 0 | BF101: =IF(U101="znížená",N101,0) -> 0 | BG101: =IF(U101="zákl. prenesená",N101,0) -> 0 | BH101: =IF(U101="zníž. prenesená",N101,0) -> 0 | BI101: =IF(U101="nulová",N101,0) -> 0 | BJ101: 2
D102: Kompletačná činnosť | N102: =ROUND(N89*T102,2) -> 0 | U102: znížená | AY102: KOMPLETACNA | BE102: =IF(U102="základná",N102,0) -> 0 | BF102: =IF(U102="znížená",N102,0) -> 0 | BG102: =IF(U102="zákl. prenesená",N102,0) -> 0 | BH102: =IF(U102="zníž. prenesená",N102,0) -> 0 | BI102: =IF(U102="nulová",N102,0) -> 0 | BJ102: 2
C104: Celkové náklady za stavbu 1) + 2) | L104: =ROUND(SUM(N89+N96),2) -> 0
C110: ROZPOČET
C112: Stavba: | F112: =F6 -> PRESTAVBA BUDOVY NA KOMUNITNÉ CENTRUM - OBEC TERANY
C113: Objekt: | F113: SO 01 - Prestavba budovy na klub dôchodcov a spoločenské centrum
C114: Časť: | F114: =F8 -> Časť 3. - KANALIZAČNÁ PRÍPOJKA
C116: Miesto: | F116: =F10 -> TERANY, 962 68, parc. č.: 1/5 | K116: Dátum: | M116: =IF(O10="","",O10) -> 0
C118: Objednávateľ: | F118: =E13 -> Obec Terany, Terany 116, PSČ: 962 68 | K118: Projektant: | M118: =E19 -> Cobra Bauart s.r.o. Športová 2/20, Balog nad Ipľom
C119: Zhotoviteľ: | F119: =IF(E16="","",E16) -> Vyplň údaj | K119: Spracovateľ: | M119: =E22
C121: PČ | D121: Typ | E121: Kód | F121: Popis | J121: MJ | K121: Množstvo | L121: J.cena [EUR] | N121: Cena celkom [EUR] | T121: Poznámka | U121: DPH | V121: J. Nh [h] | W121: Nh celkom [h] | X121: J. hmotnosť_x000D_ [t] | Y121: Hmotnosť_x000D_ celkom [t] | Z121: J. suť [t] | AA121: Suť Celkom [t]
C122: Náklady z rozpočtu | N122: =BK122 -> 0 | W122: =W123+W145 -> 0 | Y122: =Y123+Y145 -> 1.58756 | AA122: =AA123+AA145 -> 0 | AT122: D | AU122: -1 | BK122: =BK123+BK145 -> 0
D123: HSV - Práce a dodávky HSV | N123: =BK123 -> 0 | W123: =W124+W136+W143 -> 0 | Y123: =Y124+Y136+Y143 -> 1.58756 | AA123: =AA124+AA136+AA143 -> 0 | AR123: 1 | AT123: D | AU123: 0 | AY123: ROZPOCET | BK123: =BK124+BK136+BK143 -> 0
D124: 1 - Zemné práce | N124: =BK124 -> 0 | W124: =SUM(W125:W135) -> 0 | Y124: =SUM(Y125:Y135) -> 1.09872 | AA124: =SUM(AA125:AA135) -> 0 | AR124: 1 | AT124: D | AU124: 1 | AY124: ROZPOCET | BK124: =SUM(BK125:BK135) -> 0
C125: 1 | D125: K | E125: 132201201 | F125: Výkop ryhy šírky 600-2000mm horn.3 do 100m3 | J125: m3 | K125: 25.2 | L125: 0 | N125: =ROUND(L125*K125,3) -> 0 | U125: znížená | W125: =V125*K125 -> 0 | X125: 0 | Y125: =X125*K125 -> 0 | Z125: 0 | AA125: =Z125*K125 -> 0 | AR125: 16 | AT125: K | AU125: 2 | AY125: ROZPOCET | BE125: =IF(U125="základná",N125,0) -> 0 | BF125: =IF(U125="znížená",N125,0) -> 0 | BG125: =IF(U125="zákl. prenesená",N125,0) -> 0 | BH125: =IF(U125="zníž. prenesená",N125,0) -> 0 | BI125: =IF(U125="nulová",N125,0) -> 0 | BJ125: 2 | BK125: =ROUND(L125*K125,3) -> 0 | BL125: 16 | BM125: 2080197956
C126: 2 | D126: K | E126: 132201209 | F126: Príplatok k cenám za lepivosť horniny 3 | J126: m3 | K126: 25.2 | L126: 0 | N126: =ROUND(L126*K126,3) -> 0 | U126: znížená | W126: =V126*K126 -> 0 | X126: 0 | Y126: =X126*K126 -> 0 | Z126: 0 | AA126: =Z126*K126 -> 0 | AR126: 16 | AT126: K | AU126: 2 | AY126: ROZPOCET | BE126: =IF(U126="základná",N126,0) -> 0 | BF126: =IF(U126="znížená",N126,0) -> 0 | BG126: =IF(U126="zákl. prenesená",N126,0) -> 0 | BH126: =IF(U126="zníž. prenesená",N126,0) -> 0 | BI126: =IF(U126="nulová",N126,0) -> 0 | BJ126: 2 | BK126: =ROUND(L126*K126,3) -> 0 | BL126: 16 | BM126: 1669081757
C127: 3 | D127: K | E127: 151101102 | F127: Paženie a rozopretie stien rýh pre podzemné vedenie, príložné do 4 m | J127: m2 | K127: 42 | L127: 0 | N127: =ROUND(L127*K127,3) -> 0 | U127: znížená | W127: =V127*K127 -> 0 | X127: 0.02616 | Y127: =X127*K127 -> 1.09872 | Z127: 0 | AA127: =Z127*K127 -> 0 | AR127: 16 | AT127: K | AU127: 2 | AY127: ROZPOCET | BE127: =IF(U127="základná",N127,0) -> 0 | BF127: =IF(U127="znížená",N127,0) -> 0 | BG127: =IF(U127="zákl. prenesená",N127,0) -> 0 | BH127: =IF(U127="zníž. prenesená",N127,0) -> 0 | BI127: =IF(U127="nulová",N127,0) -> 0 | BJ127: 2 | BK127: =ROUND(L127*K127,3) -> 0 | BL127: 16 | BM127: -1347323638
C128: 4 | D128: K | E128: 151101112 | F128: Odstránenie paženia rýh pre podzemné vedenie, príložné hĺbky do 4 m | J128: m2 | K128: 42 | L128: 0 | N128: =ROUND(L128*K128,3) -> 0 | U128: znížená | W128: =V128*K128 -> 0 | X128: 0 | Y128: =X128*K128 -> 0 | Z128: 0 | AA128: =Z128*K128 -> 0 | AR128: 16 | AT128: K | AU128: 2 | AY128: ROZPOCET | BE128: =IF(U128="základná",N128,0) -> 0 | BF128: =IF(U128="znížená",N128,0) -> 0 | BG128: =IF(U128="zákl. prenesená",N128,0) -> 0 | BH128: =IF(U128="zníž. prenesená",N128,0) -> 0 | BI128: =IF(U128="nulová",N128,0) -> 0 | BJ128: 2 | BK128: =ROUND(L128*K128,3) -> 0 | BL128: 16 | BM128: -1574542546
C129: 5 | D129: K | E129: 162301101 | F129: Vodorovné premiestnenie výkopku z horniny tr.1-4, do 100 m3 na vzdialenosť do 500 m | J129: m3 | K129: 25.2 | L129: 0 | N129: =ROUND(L129*K129,3) -> 0 | U129: znížená | W129: =V129*K129 -> 0 | X129: 0 | Y129: =X129*K129 -> 0 | Z129: 0 | AA129: =Z129*K129 -> 0 | AR129: 16 | AT129: K | AU129: 2 | AY129: ROZPOCET | BE129: =IF(U129="základná",N129,0) -> 0 | BF129: =IF(U129="znížená",N129,0) -> 0 | BG129: =IF(U129="zákl. prenesená",N129,0) -> 0 | BH129: =IF(U129="zníž. prenesená",N129,0) -> 0 | BI129: =IF(U129="nulová",N129,0) -> 0 | BJ129: 2 | BK129: =ROUND(L129*K129,3) -> 0 | BL129: 16 | BM129: 475879996
C130: 6 | D130: K | E130: 162401102 | F130: Vodorovné premiestnenie výkopku po spevnenej ceste z horniny tr.1-4, do 100 m3 na vzdialenosť do 2000 m | J130: m3 | K130: 25.2 | L130: 0 | N130: =ROUND(L130*K130,3) -> 0 | U130: znížená | W130: =V130*K130 -> 0 | X130: 0 | Y130: =X130*K130 -> 0 | Z130: 0 | AA130: =Z130*K130 -> 0 | AR130: 16 | AT130: K | AU130: 2 | AY130: ROZPOCET | BE130: =IF(U130="základná",N130,0) -> 0 | BF130: =IF(U130="znížená",N130,0) -> 0 | BG130: =IF(U130="zákl. prenesená",N130,0) -> 0 | BH130: =IF(U130="zníž. prenesená",N130,0) -> 0 | BI130: =IF(U130="nulová",N130,0) -> 0 | BJ130: 2 | BK130: =ROUND(L130*K130,3) -> 0 | BL130: 16 | BM130: -551925985
C131: 7 | D131: K | E131: 171201201 | F131: Uloženie sypaniny na skládky do 100 m3 | J131: m3 | K131: 10 | L131: 0 | N131: =ROUND(L131*K131,3) -> 0 | U131: znížená | W131: =V131*K131 -> 0 | X131: 0 | Y131: =X131*K131 -> 0 | Z131: 0 | AA131: =Z131*K131 -> 0 | AR131: 16 | AT131: K | AU131: 2 | AY131: ROZPOCET | BE131: =IF(U131="základná",N131,0) -> 0 | BF131: =IF(U131="znížená",N131,0) -> 0 | BG131: =IF(U131="zákl. prenesená",N131,0) -> 0 | BH131: =IF(U131="zníž. prenesená",N131,0) -> 0 | BI131: =IF(U131="nulová",N131,0) -> 0 | BJ131: 2 | BK131: =ROUND(L131*K131,3) -> 0 | BL131: 16 | BM131: 1030326119
C132: 8 | D132: K | E132: 171209002 | F132: Poplatok za skladovanie - zemina a kamenivo (17 05) ostatné | J132: t | K132: 10 | L132: 0 | N132: =ROUND(L132*K132,3) -> 0 | U132: znížená | W132: =V132*K132 -> 0 | X132: 0 | Y132: =X132*K132 -> 0 | Z132: 0 | AA132: =Z132*K132 -> 0 | AR132: 16 | AT132: K | AU132: 2 | AY132: ROZPOCET | BE132: =IF(U132="základná",N132,0) -> 0 | BF132: =IF(U132="znížená",N132,0) -> 0 | BG132: =IF(U132="zákl. prenesená",N132,0) -> 0 | BH132: =IF(U132="zníž. prenesená",N132,0) -> 0 | BI132: =IF(U132="nulová",N132,0) -> 0 | BJ132: 2 | BK132: =ROUND(L132*K132,3) -> 0 | BL132: 16 | BM132: -407934388
C133: 9 | D133: K | E133: 175101101 | F133: Obsyp potrubia sypaninou z vhodných hornín 1 až 4 bez prehodenia sypaniny | J133: m3 | K133: 5.04 | L133: 0 | N133: =ROUND(L133*K133,3) -> 0 | U133: znížená | W133: =V133*K133 -> 0 | X133: 0 | Y133: =X133*K133 -> 0 | Z133: 0 | AA133: =Z133*K133 -> 0 | AR133: 16 | AT133: K | AU133: 2 | AY133: ROZPOCET | BE133: =IF(U133="základná",N133,0) -> 0 | BF133: =IF(U133="znížená",N133,0) -> 0 | BG133: =IF(U133="zákl. prenesená",N133,0) -> 0 | BH133: =IF(U133="zníž. prenesená",N133,0) -> 0 | BI133: =IF(U133="nulová",N133,0) -> 0 | BJ133: 2 | BK133: =ROUND(L133*K133,3) -> 0 | BL133: 16 | BM133: -2117270553
C134: 10 | D134: M | E134: 5833773700 | F134: Štrkopiesok drvený 0-16 N | J134: m3 | K134: 5.04 | L134: 0 | N134: =ROUND(L134*K134,3) -> 0 | U134: znížená | W134: =V134*K134 -> 0 | X134: 0 | Y134: =X134*K134 -> 0 | Z134: 0 | AA134: =Z134*K134 -> 0 | AR134: 32 | AT134: M | AU134: 2 | AY134: ROZPOCET | BE134: =IF(U134="základná",N134,0) -> 0 | BF134: =IF(U134="znížená",N134,0) -> 0 | BG134: =IF(U134="zákl. prenesená",N134,0) -> 0 | BH134: =IF(U134="zníž. prenesená",N134,0) -> 0 | BI134: =IF(U134="nulová",N134,0) -> 0 | BJ134: 2 | BK134: =ROUND(L134*K134,3) -> 0 | BL134: 16 | BM134: -1152271562
C135: 11 | D135: K | E135: 181101102 | F135: Úprava pláne v zárezoch v hornine 1-4 so zhutnením | J135: m2 | K135: 46.2 | L135: 0 | N135: =ROUND(L135*K135,3) -> 0 | U135: znížená | W135: =V135*K135 -> 0 | X135: 0 | Y135: =X135*K135 -> 0 | Z135: 0 | AA135: =Z135*K135 -> 0 | AR135: 16 | AT135: K | AU135: 2 | AY135: ROZPOCET | BE135: =IF(U135="základná",N135,0) -> 0 | BF135: =IF(U135="znížená",N135,0) -> 0 | BG135: =IF(U135="zákl. prenesená",N135,0) -> 0 | BH135: =IF(U135="zníž. prenesená",N135,0) -> 0 | BI135: =IF(U135="nulová",N135,0) -> 0 | BJ135: 2 | BK135: =ROUND(L135*K135,3) -> 0 | BL135: 16 | BM135: -1833320742
D136: 8 - Rúrové vedenie | N136: =BK136 -> 0 | W136: =SUM(W137:W142) -> 0 | Y136: =SUM(Y137:Y142) -> 0.48884 | AA136: =SUM(AA137:AA142) -> 0 | AR136: 1 | AT136: D | AU136: 1 | AY136: ROZPOCET | BK136: =SUM(BK137:BK142) -> 0
C137: 12 | D137: K | E137: 831263195 | F137: Príplatok k cene za zriadenie kanalizačnej prípojky DN od 100 do 300 | J137: ks | K137: 1 | L137: 0 | N137: =ROUND(L137*K137,3) -> 0 | U137: znížená | W137: =V137*K137 -> 0 | X137: 0.07082 | Y137: =X137*K137 -> 0.07082 | Z137: 0 | AA137: =Z137*K137 -> 0 | AR137: 16 | AT137: K | AU137: 2 | AY137: ROZPOCET | BE137: =IF(U137="základná",N137,0) -> 0 | BF137: =IF(U137="znížená",N137,0) -> 0 | BG137: =IF(U137="zákl. prenesená",N137,0) -> 0 | BH137: =IF(U137="zníž. prenesená",N137,0) -> 0 | BI137: =IF(U137="nulová",N137,0) -> 0 | BJ137: 2 | BK137: =ROUND(L137*K137,3) -> 0 | BL137: 16 | BM137: -1226785011
C138: 13 | D138: K | E138: 871313121 | F138: Montáž kanalizačného potrubia z kanalizačných rúr z tvrdého PVC tesn. gumovým krúžkom DN 160 | J138: m | K138: 42 | L138: 0 | N138: =ROUND(L138*K138,3) -> 0 | U138: znížená | W138: =V138*K138 -> 0 | X138: 0 | Y138: =X138*K138 -> 0 | Z138: 0 | AA138: =Z138*K138 -> 0 | AR138: 16 | AT138: K | AU138: 2 | AY138: ROZPOCET | BE138: =IF(U138="základná",N138,0) -> 0 | BF138: =IF(U138="znížená",N138,0) -> 0 | BG138: =IF(U138="zákl. prenesená",N138,0) -> 0 | BH138: =IF(U138="zníž. prenesená",N138,0) -> 0 | BI138: =IF(U138="nulová",N138,0) -> 0 | BJ138: 2 | BK138: =ROUND(L138*K138,3) -> 0 | BL138: 16 | BM138: 858992643
C139: 14 | D139: M | E139: 2860002140 | F139: Kanalizačná PVC rúra 160 - hladký kanalizačný systém SN4 | J139: m | K139: 42 | L139: 0 | N139: =ROUND(L139*K139,3) -> 0 | U139: znížená | W139: =V139*K139 -> 0 | X139: 0.00959 | Y139: =X139*K139 -> 0.40278 | Z139: 0 | AA139: =Z139*K139 -> 0 | AR139: 32 | AT139: M | AU139: 2 | AY139: ROZPOCET | BE139: =IF(U139="základná",N139,0) -> 0 | BF139: =IF(U139="znížená",N139,0) -> 0 | BG139: =IF(U139="zákl. prenesená",N139,0) -> 0 | BH139: =IF(U139="zníž. prenesená",N139,0) -> 0 | BI139: =IF(U139="nulová",N139,0) -> 0 | BJ139: 2 | BK139: =ROUND(L139*K139,3) -> 0 | BL139: 16 | BM139: -2107198500
C140: 15 | D140: K | E140: 877373122 | F140: Montáž tvarovky na potrubí z rúr z tvrdého PVC, presuvka DN 160 | J140: ks | K140: 3 | L140: 0 | N140: =ROUND(L140*K140,3) -> 0 | U140: znížená | W140: =V140*K140 -> 0 | X140: 8e-05 | Y140: =X140*K140 -> 0.00024 | Z140: 0 | AA140: =Z140*K140 -> 0 | AR140: 16 | AT140: K | AU140: 2 | AY140: ROZPOCET | BE140: =IF(U140="základná",N140,0) -> 0 | BF140: =IF(U140="znížená",N140,0) -> 0 | BG140: =IF(U140="zákl. prenesená",N140,0) -> 0 | BH140: =IF(U140="zníž. prenesená",N140,0) -> 0 | BI140: =IF(U140="nulová",N140,0) -> 0 | BJ140: 2 | BK140: =ROUND(L140*K140,3) -> 0 | BL140: 16 | BM140: -1997480595
C141: 16 | D141: M | E141: 2864202109 | F141: PVC-U presuvka kanalizačná DN 160 pre kanalizačné rúry | J141: ks | K141: 3 | L141: 0 | N141: =ROUND(L141*K141,3) -> 0 | U141: znížená | W141: =V141*K141 -> 0 | X141: 0.005 | Y141: =X141*K141 -> 0.015 | Z141: 0 | AA141: =Z141*K141 -> 0 | AR141: 32 | AT141: M | AU141: 2 | AY141: ROZPOCET | BE141: =IF(U141="základná",N141,0) -> 0 | BF141: =IF(U141="znížená",N141,0) -> 0 | BG141: =IF(U141="zákl. prenesená",N141,0) -> 0 | BH141: =IF(U141="zníž. prenesená",N141,0) -> 0 | BI141: =IF(U141="nulová",N141,0) -> 0 | BJ141: 2 | BK141: =ROUND(L141*K141,3) -> 0 | BL141: 16 | BM141: 1404358207
C142: 17 | D142: K | E142: 892371000 | F142: Skúška tesnosti kanalizácie D 160 | J142: m | K142: 42 | L142: 0 | N142: =ROUND(L142*K142,3) -> 0 | U142: znížená | W142: =V142*K142 -> 0 | X142: 0 | Y142: =X142*K142 -> 0 | Z142: 0 | AA142: =Z142*K142 -> 0 | AR142: 16 | AT142: K | AU142: 2 | AY142: ROZPOCET | BE142: =IF(U142="základná",N142,0) -> 0 | BF142: =IF(U142="znížená",N142,0) -> 0 | BG142: =IF(U142="zákl. prenesená",N142,0) -> 0 | BH142: =IF(U142="zníž. prenesená",N142,0) -> 0 | BI142: =IF(U142="nulová",N142,0) -> 0 | BJ142: 2 | BK142: =ROUND(L142*K142,3) -> 0 | BL142: 16 | BM142: 1277498695
D143: 99 - Presun hmôt HSV | N143: =BK143 -> 0 | W143: =W144 -> 0 | Y143: =Y144 -> 0 | AA143: =AA144 -> 0 | AR143: 1 | AT143: D | AU143: 1 | AY143: ROZPOCET | BK143: =BK144 -> 0
C144: 18 | D144: K | E144: 998276101 | F144: Presun hmôt pre rúrové vedenie hĺbené z rúr z plast. hmôt alebo sklolamin. v otvorenom výkope | J144: t | K144: 1.588 | L144: 0 | N144: =ROUND(L144*K144,3) -> 0 | U144: znížená | W144: =V144*K144 -> 0 | X144: 0 | Y144: =X144*K144 -> 0 | Z144: 0 | AA144: =Z144*K144 -> 0 | AR144: 16 | AT144: K | AU144: 2 | AY144: ROZPOCET | BE144: =IF(U144="základná",N144,0) -> 0 | BF144: =IF(U144="znížená",N144,0) -> 0 | BG144: =IF(U144="zákl. prenesená",N144,0) -> 0 | BH144: =IF(U144="zníž. prenesená",N144,0) -> 0 | BI144: =IF(U144="nulová",N144,0) -> 0 | BJ144: 2 | BK144: =ROUND(L144*K144,3) -> 0 | BL144: 16 | BM144: -1802958978
D145: VP - Práce naviac | N145: =BK145 -> 0 | AT145: D | AU145: 0 | AY145: PN | BK145: =SUM(BK146:BK148) -> 0
D146: K | N146: =BK146 -> 0 | U146: znížená | AT146: PN | AU146: 1 | AY146: PN | BE146: =IF(U146="základná",N146,0) -> 0 | BF146: =IF(U146="znížená",N146,0) -> 0 | BG146: =IF(U146="zákl. prenesená",N146,0) -> 0 | BH146: =IF(U146="zníž. prenesená",N146,0) -> 0 | BI146: =IF(U146="nulová",N146,0) -> 0 | BJ146: 2 | BK146: =L146*K146 -> 0
D147: K | N147: =BK147 -> 0 | U147: znížená | AT147: PN | AU147: 1 | AY147: PN | BE147: =IF(U147="základná",N147,0) -> 0 | BF147: =IF(U147="znížená",N147,0) -> 0 | BG147: =IF(U147="zákl. prenesená",N147,0) -> 0 | BH147: =IF(U147="zníž. prenesená",N147,0) -> 0 | BI147: =IF(U147="nulová",N147,0) -> 0 | BJ147: 2 | BK147: =L147*K147 -> 0
D148: K | N148: =BK148 -> 0 | U148: znížená | AT148: PN | AU148: 1 | AY148: PN | BE148: =IF(U148="základná",N148,0) -> 0 | BF148: =IF(U148="znížená",N148,0) -> 0 | BG148: =IF(U148="zákl. prenesená",N148,0) -> 0 | BH148: =IF(U148="zníž. prenesená",N148,0) -> 0 | BI148: =IF(U148="nulová",N148,0) -> 0 | BJ148: 2 | BK148: =L148*K148 -> 0

Sheet Časť 4. - VYKUROVANIE
D1: Hárok obsahuje: | F1: 1) Krycí list rozpočtu | H1: 2) Rekapitulácia rozpočtu | L1: 3) Rozpočet | O1: Späť na hárok: | S1: Rekapitulácia stavby
C2: optimalizované pre tlač zostáv vo formáte A4 - na výšku | S2: >> skryté stĺpce << | AT2: {0725c460-1d86-4a6b-832b-df0d83b9d9d2}
AT3: 0
C4: KRYCÍ LIST ROZPOČTU | T4: v --- nižšie sa nachádzajú doplnkové a pomocné údaje k zostavám --- v | AT4: False
D6: Stavba: | F6: ='Rekapitulácia stavby'!K6 -> PRESTAVBA BUDOVY NA KOMUNITNÉ CENTRUM - OBEC TERANY
D7: Objekt: | F7: SO 01 - Prestavba budovy na klub dôchodcov a spoločenské centrum
D8: Časť: | F8: Časť 4. - VYKUROVANIE
D9: JKSO: | M9: KS:
D10: Miesto: | F10: TERANY, 962 68, parc. č.: 1/5 | M10: Dátum: | O10: ='Rekapitulácia stavby'!AN8 -> 0
D12: Objednávateľ: | M12: IČO: | O12: 00320323
E13: Obec Terany, Terany 116, PSČ: 962 68 | M13: IČO DPH:
D15: Zhotoviteľ: | M15: IČO: | O15: =IF('Rekapitulácia stavby'!AN13="","",'Rekapitulácia stavby'!AN13) -> Vyplň údaj
E16: =IF('Rekapitulácia stavby'!E14="","",'Rekapitulácia stavby'!E14) -> Vyplň údaj | M16: IČO DPH: | O16: =IF('Rekapitulácia stavby'!AN14="","",'Rekapitulácia stavby'!AN14) -> Vyplň údaj
D18: Projektant: | M18: IČO: | O18: 44413301
E19: Cobra Bauart s.r.o. Športová 2/20, Balog nad Ipľom | M19: IČO DPH: | O19: 2022709282
D21: Spracovateľ: | M21: IČO: | O21: =IF('Rekapitulácia stavby'!AN19="","",'Rekapitulácia stavby'!AN19)
E22: =IF('Rekapitulácia stavby'!E20="","",'Rekapitulácia stavby'!E20) | M22: IČO DPH: | O22: =IF('Rekapitulácia stavby'!AN20="","",'Rekapitulácia stavby'!AN20)
D24: Poznámka:
D28: Náklady z rozpočtu | M28: =N89 -> 0
D29: Ostatné náklady | M29: =N102 -> 0
D31: Cena bez DPH | M31: =ROUND(M28+M29,2) -> 0
D33: DPH | E33: základná | F33: 0.2 | G33: z | H33: =ROUND((((SUM(BE102:BE109)+SUM(BE128:BE188))+SUM(BE190:BE192))),2) -> 0 | M33: =ROUND(((ROUND((SUM(BE102:BE109)+SUM(BE128:BE188)), 2)*F33)+SUM(BE190:BE192)*F33),2) -> 0
E34: znížená | F34: 0.2 | G34: z | H34: =ROUND((((SUM(BF102:BF109)+SUM(BF128:BF188))+SUM(BF190:BF192))),2) -> 0 | M34: =ROUND(((ROUND((SUM(BF102:BF109)+SUM(BF128:BF188)), 2)*F34)+SUM(BF190:BF192)*F34),2) -> 0
E35: zákl. prenesená | F35: 0.2 | G35: z | H35: =ROUND((((SUM(BG102:BG109)+SUM(BG128:BG188))+SUM(BG190:BG192))),2) -> 0 | M35: 0
E36: zníž. prenesená | F36: 0.2 | G36: z | H36: =ROUND((((SUM(BH102:BH109)+SUM(BH128:BH188))+SUM(BH190:BH192))),2) -> 0 | M36: 0
E37: nulová | F37: 0 | G37: z | H37: =ROUND((((SUM(BI102:BI109)+SUM(BI128:BI188))+SUM(BI190:BI192))),2) -> 0 | M37: 0
D39: Cena s DPH | G39: v | H39: EUR | L39: =SUM(M31:M37) -> 0
D50: Projektant | J50: Spracovateľ
D59: Dátum a podpis: | G59: Pečiatka | J59: Dátum a podpis: | N59: Pečiatka
D61: Objednávateľ | J61: Zhotoviteľ
D70: Dátum a podpis: | G70: Pečiatka | J70: Dátum a podpis: | N70: Pečiatka
C76: REKAPITULÁCIA ROZPOČTU
C78: Stavba: | F78: =F6 -> PRESTAVBA BUDOVY NA KOMUNITNÉ CENTRUM - OBEC TERANY
C79: Objekt: | F79: SO 01 - Prestavba budovy na klub dôchodcov a spoločenské centrum
C80: Časť: | F80: =F8 -> Časť 4. - VYKUROVANIE
C82: Miesto: | F82: =F10 -> TERANY, 962 68, parc. č.: 1/5 | K82: Dátum: | M82: =IF(O10="","",O10) -> 0
C84: Objednávateľ: | F84: =E13 -> Obec Terany, Terany 116, PSČ: 962 68 | K84: Projektant: | M84: =E19 -> Cobra Bauart s.r.o. Športová 2/20, Balog nad Ipľom
C85: Zhotoviteľ: | F85: =IF(E16="","",E16) -> Vyplň údaj | K85: Spracovateľ: | M85: =E22
C87: Kód - Popis | N87: Cena celkom [EUR]
C89: 1) Náklady z rozpočtu | N89: =N128 -> 0 | AU89: -1
D90: PSV - Práce a dodávky PSV | N90: =N129 -> 0
D91: 713 - Izolácie tepelné | N91: =N130 -> 0
D92: 73 - Ústredné vykurovanie | N92: =N136 -> 0
D93: 731 - Kotolne | N93: =N137 -> 0
D94: 732 - Strojovne | N94: =N141 -> 0
D95: 733 - Rozvodné potrubie | N95: =N147 -> 0
D96: 734 - Armatúry | N96: =N165 -> 0
D97: 735 - Ústredné kúrenie, vykurov. telesá | N97: =N170 -> 0
D98: 795 - Lokálne kúrenie | N98: =N181 -> 0
D99: OST - Ostatné | N99: =N185 -> 0
D100: VP - Práce naviac | N100: =N189 -> 0
C102: 2) Ostatné náklady | N102: =ROUND(N103+N104+N105+N106+N107+N108,2) -> 0 | U102: DPH
D103: GZS | N103: =ROUND(N89*T103,2) -> 0 | U103: znížená | AY103: VRN | BE103: =IF(U103="základná",N103,0) -> 0 | BF103: =IF(U103="znížená",N103,0) -> 0 | BG103: =IF(U103="zákl. prenesená",N103,0) -> 0 | BH103: =IF(U103="zníž. prenesená",N103,0) -> 0 | BI103: =IF(U103="nulová",N103,0) -> 0 | BJ103: 2
D104: Projektové práce | N104: =ROUND(N89*T104,2) -> 0 | U104: znížená | AY104: VRN | BE104: =IF(U104="základná",N104,0) -> 0 | BF104: =IF(U104="znížená",N104,0) -> 0 | BG104: =IF(U104="zákl. prenesená",N104,0) -> 0 | BH104: =IF(U104="zníž. prenesená",N104,0) -> 0 | BI104: =IF(U104="nulová",N104,0) -> 0 | BJ104: 2
D105: Sťažené podmienky | N105: =ROUND(N89*T105,2) -> 0 | U105: znížená | AY105: VRN | BE105: =IF(U105="základná",N105,0) -> 0 | BF105: =IF(U105="znížená",N105,0) -> 0 | BG105: =IF(U105="zákl. prenesená",N105,0) -> 0 | BH105: =IF(U105="zníž. prenesená",N105,0) -> 0 | BI105: =IF(U105="nulová",N105,0) -> 0 | BJ105: 2
D106: Vplyv prostredia | N106: =ROUND(N89*T106,2) -> 0 | U106: znížená | AY106: VRN | BE106: =IF(U106="základná",N106,0) -> 0 | BF106: =IF(U106="znížená",N106,0) -> 0 | BG106: =IF(U106="zákl. prenesená",N106,0) -> 0 | BH106: =IF(U106="zníž. prenesená",N106,0) -> 0 | BI106: =IF(U106="nulová",N106,0) -> 0 | BJ106: 2
D107: Iné VRN | N107: =ROUND(N89*T107,2) -> 0 | U107: znížená | AY107: VRN | BE107: =IF(U107="základná",N107,0) -> 0 | BF107: =IF(U107="znížená",N107,0) -> 0 | BG107: =IF(U107="zákl. prenesená",N107,0) -> 0 | BH107: =IF(U107="zníž. prenesená",N107,0) -> 0 | BI107: =IF(U107="nulová",N107,0) -> 0 | BJ107: 2
D108: Kompletačná činnosť | N108: =ROUND(N89*T108,2) -> 0 | U108: znížená | AY108: KOMPLETACNA | BE108: =IF(U108="základná",N108,0) -> 0 | BF108: =IF(U108="znížená",N108,0) -> 0 | BG108: =IF(U108="zákl. prenesená",N108,0) -> 0 | BH108: =IF(U108="zníž. prenesená",N108,0) -> 0 | BI108: =IF(U108="nulová",N108,0) -> 0 | BJ108: 2
C110: Celkové náklady za stavbu 1) + 2) | L110: =ROUND(SUM(N89+N102),2) -> 0
C116: ROZPOČET
C118: Stavba: | F118: =F6 -> PRESTAVBA BUDOVY NA KOMUNITNÉ CENTRUM - OBEC TERANY
C119: Objekt: | F119: SO 01 - Prestavba budovy na klub dôchodcov a spoločenské centrum
C120: Časť: | F120: =F8 -> Časť 4. - VYKUROVANIE
C122: Miesto: | F122: =F10 -> TERANY, 962 68, parc. č.: 1/5 | K122: Dátum: | M122: =IF(O10="","",O10) -> 0
C124: Objednávateľ: | F124: =E13 -> Obec Terany, Terany 116, PSČ: 962 68 | K124: Projektant: | M124: =E19 -> Cobra Bauart s.r.o. Športová 2/20, Balog nad Ipľom
C125: Zhotoviteľ: | F125: =IF(E16="","",E16) -> Vyplň údaj | K125: Spracovateľ: | M125: =E22
C127: PČ | D127: Typ | E127: Kód | F127: Popis | J127: MJ | K127: Množstvo | L127: J.cena [EUR] | N127: Cena celkom [EUR] | T127: Poznámka | U127: DPH | V127: J. Nh [h] | W127: Nh celkom [h] | X127: J. hmotnosť_x000D_ [t] | Y127: Hmotnosť_x000D_ celkom [t] | Z127: J. suť [t] | AA127: Suť Celkom [t]
C128: Náklady z rozpočtu | N128: =BK128 -> 0 | W128: =W129+W189 -> 0 | Y128: =Y129+Y189 -> 0.865132 | AA128: =AA129+AA189 -> 0 | AT128: D | AU128: -1 | BK128: =BK129+BK189 -> 0
D129: PSV - Práce a dodávky PSV | N129: =BK129 -> 0 | W129: =W130+W136+W185 -> 0 | Y129: =Y130+Y136+Y185 -> 0.865132 | AA129: =AA130+AA136+AA185 -> 0 | AR129: 2 | AT129: D | AU129: 0 | AY129: ROZPOCET | BK129: =BK130+BK136+BK185 -> 0
D130: 713 - Izolácie tepelné | N130: =BK130 -> 0 | W130: =SUM(W131:W135) -> 0 | Y130: =SUM(Y131:Y135) -> 0.01554 | AA130: =SUM(AA131:AA135) -> 0 | AR130: 2 | AT130: D | AU130: 1 | AY130: ROZPOCET | BK130: =SUM(BK131:BK135) -> 0
C131: 1 | D131: K | E131: 713482301 | F131: Montaž trubíc MIRELON hr. do 6 mm, vnút.priemer do 18 mm | J131: m | K131: 78 | L131: 0 | N131: =ROUND(L131*K131,3) -> 0 | U131: znížená | W131: =V131*K131 -> 0 | X131: 3e-05 | Y131: =X131*K131 -> 0.00234 | Z131: 0 | AA131: =Z131*K131 -> 0 | AR131: 16 | AT131: K | AU131: 2 | AY131: ROZPOCET | BE131: =IF(U131="základná",N131,0) -> 0 | BF131: =IF(U131="znížená",N131,0) -> 0 | BG131: =IF(U131="zákl. prenesená",N131,0) -> 0 | BH131: =IF(U131="zníž. prenesená",N131,0) -> 0 | BI131: =IF(U131="nulová",N131,0) -> 0 | BJ131: 2 | BK131: =ROUND(L131*K131,3) -> 0 | BL131: 16 | BM131: 293527987
C132: 2 | D132: M | E132: 2837710100 | F132: Izolácia potrubia- 18/6" MIRELON potrubie DN16 | J132: m | K132: 78 | L132: 0 | N132: =ROUND(L132*K132,3) -> 0 | U132: znížená | W132: =V132*K132 -> 0 | X132: 4e-05 | Y132: =X132*K132 -> 0.00312 | Z132: 0 | AA132: =Z132*K132 -> 0 | AR132: 32 | AT132: M | AU132: 2 | AY132: ROZPOCET | BE132: =IF(U132="základná",N132,0) -> 0 | BF132: =IF(U132="znížená",N132,0) -> 0 | BG132: =IF(U132="zákl. prenesená",N132,0) -> 0 | BH132: =IF(U132="zníž. prenesená",N132,0) -> 0 | BI132: =IF(U132="nulová",N132,0) -> 0 | BJ132: 2 | BK132: =ROUND(L132*K132,3) -> 0 | BL132: 16 | BM132: -1846534972
C133: 3 | D133: K | E133: 713482121 | F133: Montáž trubíc z PE, hr.15-20 mm,vnút.priemer do 38 mm | J133: m | K133: 63 | L133: 0 | N133: =ROUND(L133*K133,3) -> 0 | U133: znížená | W133: =V133*K133 -> 0 | X133: 2e-05 | Y133: =X133*K133 -> 0.00126 | Z133: 0 | AA133: =Z133*K133 -> 0 | AR133: 16 | AT133: K | AU133: 2 | AY133: ROZPOCET | BE133: =IF(U133="základná",N133,0) -> 0 | BF133: =IF(U133="znížená",N133,0) -> 0 | BG133: =IF(U133="zákl. prenesená",N133,0) -> 0 | BH133: =IF(U133="zníž. prenesená",N133,0) -> 0 | BI133: =IF(U133="nulová",N133,0) -> 0 | BJ133: 2 | BK133: =ROUND(L133*K133,3) -> 0 | BL133: 16 | BM133: -191924900
C134: 4 | D134: M | E134: 2837710400 | F134: Izolácia potrubia- 22/13" MIRELON potrubie DN 20 | J134: m | K134: 63 | L134: 0 | N134: =ROUND(L134*K134,3) -> 0 | U134: znížená | W134: =V134*K134 -> 0 | X134: 0.00014 | Y134: =X134*K134 -> 0.00882 | Z134: 0 | AA134: =Z134*K134 -> 0 | AR134: 32 | AT134: M | AU134: 2 | AY134: ROZPOCET | BE134: =IF(U134="základná",N134,0) -> 0 | BF134: =IF(U134="znížená",N134,0) -> 0 | BG134: =IF(U134="zákl. prenesená",N134,0) -> 0 | BH134: =IF(U134="zníž. prenesená",N134,0) -> 0 | BI134: =IF(U134="nulová",N134,0) -> 0 | BJ134: 2 | BK134: =ROUND(L134*K134,3) -> 0 | BL134: 16 | BM134: -1823307991
C135: 5 | D135: K | E135: 998713101 | F135: Presun hmôt pre izolácie tepelné v objektoch výšky do 6 m | J135: t | K135: 0.016 | L135: 0 | N135: =ROUND(L135*K135,3) -> 0 | U135: znížená | W135: =V135*K135 -> 0 | X135: 0 | Y135: =X135*K135 -> 0 | Z135: 0 | AA135: =Z135*K135 -> 0 | AR135: 16 | AT135: K | AU135: 2 | AY135: ROZPOCET | BE135: =IF(U135="základná",N135,0) -> 0 | BF135: =IF(U135="znížená",N135,0) -> 0 | BG135: =IF(U135="zákl. prenesená",N135,0) -> 0 | BH135: =IF(U135="zníž. prenesená",N135,0) -> 0 | BI135: =IF(U135="nulová",N135,0) -> 0 | BJ135: 2 | BK135: =ROUND(L135*K135,3) -> 0 | BL135: 16 | BM135: -196672227
D136: 73 - Ústredné vykurovanie | N136: =BK136 -> 0 | W136: =W137+W141+W147+W165+W170+W181 -> 0 | Y136: =Y137+Y141+Y147+Y165+Y170+Y181 -> 0.849592 | AA136: =AA137+AA141+AA147+AA165+AA170+AA181 -> 0 | AR136: 1 | AT136: D | AU136: 1 | AY136: ROZPOCET | BK136: =BK137+BK141+BK147+BK165+BK170+BK181 -> 0
D137: 731 - Kotolne | N137: =BK137 -> 0 | W137: =SUM(W138:W140) -> 0 | Y137: =SUM(Y138:Y140) -> 0.124 | AA137: =SUM(AA138:AA140) -> 0 | AR137: 2 | AT137: D | AU137: 2 | AY137: ROZPOCET | BK137: =SUM(BK138:BK140) -> 0
C138: 6 | D138: K | E138: 731161000 | F138: Montáž plynového kotla kondenzačného do 35 kW - pripojenie a zapojenie | J138: ks | K138: 1 | L138: 0 | N138: =ROUND(L138*K138,3) -> 0 | U138: znížená | W138: =V138*K138 -> 0 | X138: 0 | Y138: =X138*K138 -> 0 | Z138: 0 | AA138: =Z138*K138 -> 0 | AR138: 16 | AT138: K | AU138: 3 | AY138: ROZPOCET | BE138: =IF(U138="základná",N138,0) -> 0 | BF138: =IF(U138="znížená",N138,0) -> 0 | BG138: =IF(U138="zákl. prenesená",N138,0) -> 0 | BH138: =IF(U138="zníž. prenesená",N138,0) -> 0 | BI138: =IF(U138="nulová",N138,0) -> 0 | BJ138: 2 | BK138: =ROUND(L138*K138,3) -> 0 | BL138: 16 | BM138: -342641157
C139: 7 | D139: M | E139: 4849110370 | F139: VITODENS 100-W,turbo, výkon 8,8až35 kW Plynový kondenzačný kotol WB1C098 VIESSMANN | J139: ks | K139: 1 | L139: 0 | N139: =ROUND(L139*K139,3) -> 0 | U139: znížená | W139: =V139*K139 -> 0 | X139: 0.124 | Y139: =X139*K139 -> 0.124 | Z139: 0 | AA139: =Z139*K139 -> 0 | AR139: 32 | AT139: M | AU139: 3 | AY139: ROZPOCET | BE139: =IF(U139="základná",N139,0) -> 0 | BF139: =IF(U139="znížená",N139,0) -> 0 | BG139: =IF(U139="zákl. prenesená",N139,0) -> 0 | BH139: =IF(U139="zníž. prenesená",N139,0) -> 0 | BI139: =IF(U139="nulová",N139,0) -> 0 | BJ139: 2 | BK139: =ROUND(L139*K139,3) -> 0 | BL139: 16 | BM139: -1105588529
C140: 8 | D140: K | E140: 998731101 | F140: Presun hmôt pre kotolne umiestnené vo výške (hĺbke) do 6 m | J140: t | K140: 0.124 | L140: 0 | N140: =ROUND(L140*K140,3) -> 0 | U140: znížená | W140: =V140*K140 -> 0 | X140: 0 | Y140: =X140*K140 -> 0 | Z140: 0 | AA140: =Z140*K140 -> 0 | AR140: 16 | AT140: K | AU140: 3 | AY140: ROZPOCET | BE140: =IF(U140="základná",N140,0) -> 0 | BF140: =IF(U140="znížená",N140,0) -> 0 | BG140: =IF(U140="zákl. prenesená",N140,0) -> 0 | BH140: =IF(U140="zníž. prenesená",N140,0) -> 0 | BI140: =IF(U140="nulová",N140,0) -> 0 | BJ140: 2 | BK140: =ROUND(L140*K140,3) -> 0 | BL140: 16 | BM140: 252201661
D141: 732 - Strojovne | N141: =BK141 -> 0 | W141: =SUM(W142:W146) -> 0 | Y141: =SUM(Y142:Y146) -> 0.013442 | AA141: =SUM(AA142:AA146) -> 0 | AR141: 2 | AT141: D | AU141: 2 | AY141: ROZPOCET | BK141: =SUM(BK142:BK146) -> 0
C142: 9 | D142: K | E142: 732331513 | F142: Nádoba expanzná tlaková s membránou typ Expanzomat I bez poistného ventilu objemu 25 l | J142: ks | K142: 1 | L142: 0 | N142: =ROUND(L142*K142,3) -> 0 | U142: znížená | W142: =V142*K142 -> 0 | X142: 0.01142 | Y142: =X142*K142 -> 0.01142 | Z142: 0 | AA142: =Z142*K142 -> 0 | AR142: 16 | AT142: K | AU142: 3 | AY142: ROZPOCET | BE142: =IF(U142="základná",N142,0) -> 0 | BF142: =IF(U142="znížená",N142,0) -> 0 | BG142: =IF(U142="zákl. prenesená",N142,0) -> 0 | BH142: =IF(U142="zníž. prenesená",N142,0) -> 0 | BI142: =IF(U142="nulová",N142,0) -> 0 | BJ142: 2 | BK142: =ROUND(L142*K142,3) -> 0 | BL142: 16 | BM142: -1601734476
C143: 10 | D143: M | E143: 4849210147 | F143: Poistný ventil pre vykurovanie, 1/2"MF, 6 bar, mosadz OT 58 IVAR (pre expanzomat) | J143: ks | K143: 1 | L143: 0 | N143: =ROUND(L143*K143,3) -> 0 | U143: znížená | W143: =V143*K143 -> 0 | X143: 0.000112 | Y143: =X143*K143 -> 0.000112 | Z143: 0 | AA143: =Z143*K143 -> 0 | AR143: 32 | AT143: M | AU143: 3 | AY143: ROZPOCET | BE143: =IF(U143="základná",N143,0) -> 0 | BF143: =IF(U143="znížená",N143,0) -> 0 | BG143: =IF(U143="zákl. prenesená",N143,0) -> 0 | BH143: =IF(U143="zníž. prenesená",N143,0) -> 0 | BI143: =IF(U143="nulová",N143,0) -> 0 | BJ143: 2 | BK143: =ROUND(L143*K143,3) -> 0 | BL143: 16 | BM143: -1525959266
C144: 11 | D144: K | E144: 732429111 | F144: Montáž čerpadla (do potrubia) obehového špirálového DN 25 | J144: ks | K144: 1 | L144: 0 | N144: =ROUND(L144*K144,3) -> 0 | U144: znížená | W144: =V144*K144 -> 0 | X144: 3e-05 | Y144: =X144*K144 -> 3e-05 | Z144: 0 | AA144: =Z144*K144 -> 0 | AR144: 16 | AT144: K | AU144: 3 | AY144: ROZPOCET | BE144: =IF(U144="základná",N144,0) -> 0 | BF144: =IF(U144="znížená",N144,0) -> 0 | BG144: =IF(U144="zákl. prenesená",N144,0) -> 0 | BH144: =IF(U144="zníž. prenesená",N144,0) -> 0 | BI144: =IF(U144="nulová",N144,0) -> 0 | BJ144: 2 | BK144: =ROUND(L144*K144,3) -> 0 | BL144: 16 | BM144: -402386715
C145: 12 | D145: M | E145: 4268155140 | F145: Obehové čerpadlo GRUNDFOS ALPHA2 25-60 130 1x230V 50Hz 6H | J145: ks | K145: 1 | L145: 0 | N145: =ROUND(L145*K145,3) -> 0 | U145: znížená | W145: =V145*K145 -> 0 | X145: 0.00188 | Y145: =X145*K145 -> 0.00188 | Z145: 0 | AA145: =Z145*K145 -> 0 | AR145: 32 | AT145: M | AU145: 3 | AY145: ROZPOCET | BE145: =IF(U145="základná",N145,0) -> 0 | BF145: =IF(U145="znížená",N145,0) -> 0 | BG145: =IF(U145="zákl. prenesená",N145,0) -> 0 | BH145: =IF(U145="zníž. prenesená",N145,0) -> 0 | BI145: =IF(U145="nulová",N145,0) -> 0 | BJ145: 2 | BK145: =ROUND(L145*K145,3) -> 0 | BL145: 16 | BM145: 141637748
C146: 13 | D146: K | E146: 998732101 | F146: Presun hmôt pre strojovne v objektoch výšky do 6 m | J146: t | K146: 0.013 | L146: 0 | N146: =ROUND(L146*K146,3) -> 0 | U146: znížená | W146: =V146*K146 -> 0 | X146: 0 | Y146: =X146*K146 -> 0 | Z146: 0 | AA146: =Z146*K146 -> 0 | AR146: 16 | AT146: K | AU146: 3 | AY146: ROZPOCET | BE146: =IF(U146="základná",N146,0) -> 0 | BF146: =IF(U146="znížená",N146,0) -> 0 | BG146: =IF(U146="zákl. prenesená",N146,0) -> 0 | BH146: =IF(U146="zníž. prenesená",N146,0) -> 0 | BI146: =IF(U146="nulová",N146,0) -> 0 | BJ146: 2 | BK146: =ROUND(L146*K146,3) -> 0 | BL146: 16 | BM146: -1727462222
D147: 733 - Rozvodné potrubie | N147: =BK147 -> 0 | W147: =SUM(W148:W164) -> 0 | Y147: =SUM(Y148:Y164) -> 0.04197 | AA147: =SUM(AA148:AA164) -> 0 | AR147: 2 | AT147: D | AU147: 2 | AY147: ROZPOCET | BK147: =SUM(BK148:BK164) -> 0
C148: 14 | D148: K | E148: 733167300 | F148: Montáž plasthliníkového potrubia Radopress lisovaním D 16x2 | J148: m | K148: 78 | L148: 0 | N148: =ROUND(L148*K148,3) -> 0 | U148: znížená | W148: =V148*K148 -> 0 | X148: 5e-05 | Y148: =X148*K148 -> 0.0039 | Z148: 0 | AA148: =Z148*K148 -> 0 | AR148: 16 | AT148: K | AU148: 3 | AY148: ROZPOCET | BE148: =IF(U148="základná",N148,0) -> 0 | BF148: =IF(U148="znížená",N148,0) -> 0 | BG148: =IF(U148="zákl. prenesená",N148,0) -> 0 | BH148: =IF(U148="zníž. prenesená",N148,0) -> 0 | BI148: =IF(U148="nulová",N148,0) -> 0 | BJ148: 2 | BK148: =ROUND(L148*K148,3) -> 0 | BL148: 16 | BM148: -1828952819
C149: 15 | D149: M | E149: 2860030080 | F149: RADOPRESS rúra PEX-AL-PEX 16x2mm/200m kotúč - PeX/Al/PeX systém PIPELIFE | J149: m | K149: 78 | L149: 0 | N149: =ROUND(L149*K149,3) -> 0 | U149: znížená | W149: =V149*K149 -> 0 | X149: 0.00012 | Y149: =X149*K149 -> 0.00936 | Z149: 0 | AA149: =Z149*K149 -> 0 | AR149: 32 | AT149: M | AU149: 3 | AY149: ROZPOCET | BE149: =IF(U149="základná",N149,0) -> 0 | BF149: =IF(U149="znížená",N149,0) -> 0 | BG149: =IF(U149="zákl. prenesená",N149,0) -> 0 | BH149: =IF(U149="zníž. prenesená",N149,0) -> 0 | BI149: =IF(U149="nulová",N149,0) -> 0 | BJ149: 2 | BK149: =ROUND(L149*K149,3) -> 0 | BL149: 16 | BM149: -1743410353
C150: 16 | D150: M | E150: 2860030390 | F150: RADOPRESS spojka 16 - PeX/Al/PeX systém PIPELIFE | J150: ks | K150: 78 | L150: 0 | N150: =ROUND(L150*K150,3) -> 0 | U150: znížená | W150: =V150*K150 -> 0 | X150: 6e-05 | Y150: =X150*K150 -> 0.00468 | Z150: 0 | AA150: =Z150*K150 -> 0 | AR150: 32 | AT150: M | AU150: 3 | AY150: ROZPOCET | BE150: =IF(U150="základná",N150,0) -> 0 | BF150: =IF(U150="znížená",N150,0) -> 0 | BG150: =IF(U150="zákl. prenesená",N150,0) -> 0 | BH150: =IF(U150="zníž. prenesená",N150,0) -> 0 | BI150: =IF(U150="nulová",N150,0) -> 0 | BJ150: 2 | BK150: =ROUND(L150*K150,3) -> 0 | BL150: 16 | BM150: -1193444123
C151: 17 | D151: K | E151: 733167306 | F151: Montáž plasthliníkového potrubia Radopress lisovaním D 20x2 | J151: m | K151: 63 | L151: 0 | N151: =ROUND(L151*K151,3) -> 0 | U151: znížená | W151: =V151*K151 -> 0 | X151: 5e-05 | Y151: =X151*K151 -> 0.00315 | Z151: 0 | AA151: =Z151*K151 -> 0 | AR151: 16 | AT151: K | AU151: 3 | AY151: ROZPOCET | BE151: =IF(U151="základná",N151,0) -> 0 | BF151: =IF(U151="znížená",N151,0) -> 0 | BG151: =IF(U151="zákl. prenesená",N151,0) -> 0 | BH151: =IF(U151="zníž. prenesená",N151,0) -> 0 | BI151: =IF(U151="nulová",N151,0) -> 0 | BJ151: 2 | BK151: =ROUND(L151*K151,3) -> 0 | BL151: 16 | BM151: -1018544313
C152: 18 | D152: M | E152: 2860030100 | F152: RADOPRESS rúra PEX-AL-PEX 20x2mm/100m kotúč - PeX/Al/PeX systém PIPELIFE | J152: m | K152: 63 | L152: 0 | N152: =ROUND(L152*K152,3) -> 0 | U152: znížená | W152: =V152*K152 -> 0 | X152: 0.00016 | Y152: =X152*K152 -> 0.01008 | Z152: 0 | AA152: =Z152*K152 -> 0 | AR152: 32 | AT152: M | AU152: 3 | AY152: ROZPOCET | BE152: =IF(U152="základná",N152,0) -> 0 | BF152: =IF(U152="znížená",N152,0) -> 0 | BG152: =IF(U152="zákl. prenesená",N152,0) -> 0 | BH152: =IF(U152="zníž. prenesená",N152,0) -> 0 | BI152: =IF(U152="nulová",N152,0) -> 0 | BJ152: 2 | BK152: =ROUND(L152*K152,3) -> 0 | BL152: 16 | BM152: 963144001
C153: 19 | D153: M | E153: 2860030410 | F153: RADOPRESS spojka 20 - PeX/Al/PeX systém PIPELIFE | J153: ks | K153: 63 | L153: 0 | N153: =ROUND(L153*K153,3) -> 0 | U153: znížená | W153: =V153*K153 -> 0 | X153: 8e-05 | Y153: =X153*K153 -> 0.00504 | Z153: 0 | AA153: =Z153*K153 -> 0 | AR153: 32 | AT153: M | AU153: 3 | AY153: ROZPOCET | BE153: =IF(U153="základná",N153,0) -> 0 | BF153: =IF(U153="znížená",N153,0) -> 0 | BG153: =IF(U153="zákl. prenesená",N153,0) -> 0 | BH153: =IF(U153="zníž. prenesená",N153,0) -> 0 | BI153: =IF(U153="nulová",N153,0) -> 0 | BJ153: 2 | BK153: =ROUND(L153*K153,3) -> 0 | BL153: 16 | BM153: -229676355
C154: 20 | D154: K | E154: 733167354 | F154: Montáž plasthliníkového kolena Radopress lisovaním D 20 | J154: ks | K154: 16 | L154: 0 | N154: =ROUND(L154*K154,3) -> 0 | U154: znížená | W154: =V154*K154 -> 0 | X154: 0 | Y154: =X154*K154 -> 0 | Z154: 0 | AA154: =Z154*K154 -> 0 | AR154: 16 | AT154: K | AU154: 3 | AY154: ROZPOCET | BE154: =IF(U154="základná",N154,0) -> 0 | BF154: =IF(U154="znížená",N154,0) -> 0 | BG154: =IF(U154="zákl. prenesená",N154,0) -> 0 | BH154: =IF(U154="zníž. prenesená",N154,0) -> 0 | BI154: =IF(U154="nulová",N154,0) -> 0 | BJ154: 2 | BK154: =ROUND(L154*K154,3) -> 0 | BL154: 16 | BM154: 1681543715
C155: 21 | D155: M | E155: 2860030690 | F155: RADOPRESS koleno 20/90 - PeX/Al/PeX systém PIPELIFE | J155: ks | K155: 16 | L155: 0 | N155: =ROUND(L155*K155,3) -> 0 | U155: znížená | W155: =V155*K155 -> 0 | X155: 0.00011 | Y155: =X155*K155 -> 0.00176 | Z155: 0 | AA155: =Z155*K155 -> 0 | AR155: 32 | AT155: M | AU155: 3 | AY155: ROZPOCET | BE155: =IF(U155="základná",N155,0) -> 0 | BF155: =IF(U155="znížená",N155,0) -> 0 | BG155: =IF(U155="zákl. prenesená",N155,0) -> 0 | BH155: =IF(U155="zníž. prenesená",N155,0) -> 0 | BI155: =IF(U155="nulová",N155,0) -> 0 | BJ155: 2 | BK155: =ROUND(L155*K155,3) -> 0 | BL155: 16 | BM155: -190367319
C156: 22 | D156: K | E156: 733167399 | F156: Montáž plasthliníkového T-kusu Radopress lisovaním D 20 | J156: ks | K156: 25 | L156: 0 | N156: =ROUND(L156*K156,3) -> 0 | U156: znížená | W156: =V156*K156 -> 0 | X156: 0 | Y156: =X156*K156 -> 0 | Z156: 0 | AA156: =Z156*K156 -> 0 | AR156: 16 | AT156: K | AU156: 3 | AY156: ROZPOCET | BE156: =IF(U156="základná",N156,0) -> 0 | BF156: =IF(U156="znížená",N156,0) -> 0 | BG156: =IF(U156="zákl. prenesená",N156,0) -> 0 | BH156: =IF(U156="zníž. prenesená",N156,0) -> 0 | BI156: =IF(U156="nulová",N156,0) -> 0 | BJ156: 2 | BK156: =ROUND(L156*K156,3) -> 0 | BL156: 16 | BM156: 816234076
C157: 23 | D157: M | E157: 2860030810 | F157: RADOPRESS T - kus 20 - PeX/Al/PeX systém PIPELIFE | J157: ks | K157: 25 | L157: 0 | N157: =ROUND(L157*K157,3) -> 0 | U157: znížená | W157: =V157*K157 -> 0 | X157: 0.00016 | Y157: =X157*K157 -> 0.004 | Z157: 0 | AA157: =Z157*K157 -> 0 | AR157: 32 | AT157: M | AU157: 3 | AY157: ROZPOCET | BE157: =IF(U157="základná",N157,0) -> 0 | BF157: =IF(U157="znížená",N157,0) -> 0 | BG157: =IF(U157="zákl. prenesená",N157,0) -> 0 | BH157: =IF(U157="zníž. prenesená",N157,0) -> 0 | BI157: =IF(U157="nulová",N157,0) -> 0 | BJ157: 2 | BK157: =ROUND(L157*K157,3) -> 0 | BL157: 16 | BM157: -42585061
C158: 24 | D158: M | E158: 5519013406 | F158: Krúžok tesniaci EPDM pr.18mm, čierny Steelpress | J158: ks | K158: 60 | L158: 0 | N158: =ROUND(L158*K158,3) -> 0 | U158: znížená | W158: =V158*K158 -> 0 | X158: 0 | Y158: =X158*K158 -> 0 | Z158: 0 | AA158: =Z158*K158 -> 0 | AR158: 32 | AT158: M | AU158: 3 | AY158: ROZPOCET | BE158: =IF(U158="základná",N158,0) -> 0 | BF158: =IF(U158="znížená",N158,0) -> 0 | BG158: =IF(U158="zákl. prenesená",N158,0) -> 0 | BH158: =IF(U158="zníž. prenesená",N158,0) -> 0 | BI158: =IF(U158="nulová",N158,0) -> 0 | BJ158: 2 | BK158: =ROUND(L158*K158,3) -> 0 | BL158: 16 | BM158: 1570897140
C159: 25 | D159: M | E159: 5519013409 | F159: Krúžok tesniaci FMK pr.18mm, zelený Steelpress | J159: ks | K159: 60 | L159: 0 | N159: =ROUND(L159*K159,3) -> 0 | U159: znížená | W159: =V159*K159 -> 0 | X159: 0 | Y159: =X159*K159 -> 0 | Z159: 0 | AA159: =Z159*K159 -> 0 | AR159: 32 | AT159: M | AU159: 3 | AY159: ROZPOCET | BE159: =IF(U159="základná",N159,0) -> 0 | BF159: =IF(U159="znížená",N159,0) -> 0 | BG159: =IF(U159="zákl. prenesená",N159,0) -> 0 | BH159: =IF(U159="zníž. prenesená",N159,0) -> 0 | BI159: =IF(U159="nulová",N159,0) -> 0 | BJ159: 2 | BK159: =ROUND(L159*K159,3) -> 0 | BL159: 16 | BM159: 2063622052
... C164: 30 | D164: K | E164: 998733101 | F164: Presun hmôt pre rozvody potrubia v objektoch výšky do 6 m | J164: t | K164: 0.042 | L164: 0 | N164: =ROUND(L164*K164,3) -> 0 | U164: znížená | W164: =V164*K164 -> 0 | X164: 0 | Y164: =X164*K164 -> 0 | Z164: 0 | AA164: =Z164*K164 -> 0 | AR164: 16 | AT164: K | AU164: 3 | AY164: ROZPOCET | BE164: =IF(U164="základná",N164,0) -> 0 | BF164: =IF(U164="znížená",N164,0) -> 0 | BG164: =IF(U164="zákl. prenesená",N164,0) -> 0 | BH164: =IF(U164="zníž. prenesená",N164,0) -> 0 | BI164: =IF(U164="nulová",N164,0) -> 0 | BJ164: 2 | BK164: =ROUND(L164*K164,3) -> 0 | BL164: 16 | BM164: -69074063
...

Sheet a) - Elektroinštalácia
D1: Hárok obsahuje: | F1: 1) Krycí list rozpočtu | H1: 2) Rekapitulácia rozpočtu | L1: 3) Rozpočet | O1: Späť na hárok: | S1: Rekapitulácia stavby
C2: optimalizované pre tlač zostáv vo formáte A4 - na výšku | S2: >> skryté stĺpce << | AT2: {c013d974-9d99-4c44-8a75-17e0f735941c}
AT3: 0
C4: KRYCÍ LIST ROZPOČTU | T4: v --- nižšie sa nachádzajú doplnkové a pomocné údaje k zostavám --- v | AT4: False
D6: Stavba: | F6: ='Rekapitulácia stavby'!K6 -> PRESTAVBA BUDOVY NA KOMUNITNÉ CENTRUM - OBEC TERANY
D7: Objekt: | F7: SO 01 - Prestavba budovy na klub dôchodcov a spoločenské centrum
D8: Časť: | F8: Časť 5. - ELEKTRO ČASŤ
D9: Úroveň 3: | F9: a) - Elektroinštalácia
D10: JKSO: | M10: KS:
D11: Miesto: | F11: TERANY, 962 68, parc. č.: 1/5 | M11: Dátum: | O11: ='Rekapitulácia stavby'!AN8 -> 0
D13: Objednávateľ: | M13: IČO: | O13: 00320323
E14: Obec Terany, Terany 116, PSČ: 962 68 | M14: IČO DPH:
D16: Zhotoviteľ: | M16: IČO: | O16: =IF('Rekapitulácia stavby'!AN13="","",'Rekapitulácia stavby'!AN13) -> Vyplň údaj
E17: =IF('Rekapitulácia stavby'!E14="","",'Rekapitulácia stavby'!E14) -> Vyplň údaj | M17: IČO DPH: | O17: =IF('Rekapitulácia stavby'!AN14="","",'Rekapitulácia stavby'!AN14) -> Vyplň údaj
D19: Projektant: | M19: IČO: | O19: 44413301
E20: Cobra Bauart s.r.o. Športová 2/20, Balog nad Ipľom | M20: IČO DPH: | O20: 2022709282
D22: Spracovateľ: | M22: IČO: | O22: =IF('Rekapitulácia stavby'!AN19="","",'Rekapitulácia stavby'!AN19)
E23: =IF('Rekapitulácia stavby'!E20="","",'Rekapitulácia stavby'!E20) | M23: IČO DPH: | O23: =IF('Rekapitulácia stavby'!AN20="","",'Rekapitulácia stavby'!AN20)
D25: Poznámka:
D29: Náklady z rozpočtu | M29: =N90 -> 0
D30: Ostatné náklady | M30: =N102 -> 0
D32: Cena bez DPH | M32: =ROUND(M29+M30,2) -> 0
D34: DPH | E34: základná | F34: 0.2 | G34: z | H34: =ROUND((((SUM(BE102:BE109)+SUM(BE129:BE196))+SUM(BE198:BE200))),2) -> 0 | M34: =ROUND(((ROUND((SUM(BE102:BE109)+SUM(BE129:BE196)), 2)*F34)+SUM(BE198:BE200)*F34),2) -> 0
E35: znížená | F35: 0.2 | G35: z | H35: =ROUND((((SUM(BF102:BF109)+SUM(BF129:BF196))+SUM(BF198:BF200))),2) -> 0 | M35: =ROUND(((ROUND((SUM(BF102:BF109)+SUM(BF129:BF196)), 2)*F35)+SUM(BF198:BF200)*F35),2) -> 0
E36: zákl. prenesená | F36: 0.2 | G36: z | H36: =ROUND((((SUM(BG102:BG109)+SUM(BG129:BG196))+SUM(BG198:BG200))),2) -> 0 | M36: 0
E37: zníž. prenesená | F37: 0.2 | G37: z | H37: =ROUND((((SUM(BH102:BH109)+SUM(BH129:BH196))+SUM(BH198:BH200))),2) -> 0 | M37: 0
E38: nulová | F38: 0 | G38: z | H38: =ROUND((((SUM(BI102:BI109)+SUM(BI129:BI196))+SUM(BI198:BI200))),2) -> 0 | M38: 0
D40: Cena s DPH | G40: v | H40: EUR | L40: =SUM(M32:M38) -> 0
D50: Projektant | J50: Spracovateľ
D59: Dátum a podpis: | G59: Pečiatka | J59: Dátum a podpis: | N59: Pečiatka
D61: Objednávateľ | J61: Zhotoviteľ
D70: Dátum a podpis: | G70: Pečiatka | J70: Dátum a podpis: | N70: Pečiatka
C76: REKAPITULÁCIA ROZPOČTU
C78: Stavba: | F78: =F6 -> PRESTAVBA BUDOVY NA KOMUNITNÉ CENTRUM - OBEC TERANY
C79: Objekt: | F79: SO 01 - Prestavba budovy na klub dôchodcov a spoločenské centrum
C80: Časť: | F80: Časť 5. - ELEKTRO ČASŤ
C81: Úroveň 3: | F81: =F9 -> a) - Elektroinštalácia
C83: Miesto: | F83: =F11 -> TERANY, 962 68, parc. č.: 1/5 | K83: Dátum: | M83: =IF(O11="","",O11) -> 0
C85: Objednávateľ: | F85: =E14 -> Obec Terany, Terany 116, PSČ: 962 68 | K85: Projektant: | M85: =E20 -> Cobra Bauart s.r.o. Športová 2/20, Balog nad Ipľom
C86: Zhotoviteľ: | F86: =IF(E17="","",E17) -> Vyplň údaj | K86: Spracovateľ: | M86: =E23
C88: Kód - Popis | N88: Cena celkom [EUR]
C90: 1) Náklady z rozpočtu | N90: =N129 -> 0 | AU90: -1
D91: M - Práce a dodávky M | N91: =N130 -> 0
D92: 21-M - Elektromontáže - osvetlenie | N92: =N131 -> 0
D93: 21-M-2 - Rozvodné krabice a rúrky | N93: =N145 -> 0
D94: 21-M-3 - Káble a vodiče silnoprúdu | N94: =N153 -> 0
D95: 21-M-5 - Rozvádzače a skrine | N95: =N164 -> 0
D96: 21-M-4 - Vypínače, prepínače a zásuvky | N96: =N169 -> 0
D97: 21-M-6 - Ventilátory | N97: =N182 -> 0
D98: 21-M-7 - Slaboprúdové komponenty | N98: =N186 -> 0
D99: HZS - Hodinové zúčtovacie sadzby - LED svietidlá | N99: =N191 -> 0
D100: VP - Práce naviac | N100: =N197 -> 0
C102: 2) Ostatné náklady | N102: =ROUND(N103+N104+N105+N106+N107+N108,2) -> 0 | U102: DPH
D103: GZS | N103: =ROUND(N90*T103,2) -> 0 | U103: znížená | AY103: VRN | BE103: =IF(U103="základná",N103,0) -> 0 | BF103: =IF(U103="znížená",N103,0) -> 0 | BG103: =IF(U103="zákl. prenesená",N103,0) -> 0 | BH103: =IF(U103="zníž. prenesená",N103,0) -> 0 | BI103: =IF(U103="nulová",N103,0) -> 0 | BJ103: 2
D104: Projektové práce | N104: =ROUND(N90*T104,2) -> 0 | U104: znížená | AY104: VRN | BE104: =IF(U104="základná",N104,0) -> 0 | BF104: =IF(U104="znížená",N104,0) -> 0 | BG104: =IF(U104="zákl. prenesená",N104,0) -> 0 | BH104: =IF(U104="zníž. prenesená",N104,0) -> 0 | BI104: =IF(U104="nulová",N104,0) -> 0 | BJ104: 2
D105: Sťažené podmienky | N105: =ROUND(N90*T105,2) -> 0 | U105: znížená | AY105: VRN | BE105: =IF(U105="základná",N105,0) -> 0 | BF105: =IF(U105="znížená",N105,0) -> 0 | BG105: =IF(U105="zákl. prenesená",N105,0) -> 0 | BH105: =IF(U105="zníž. prenesená",N105,0) -> 0 | BI105: =IF(U105="nulová",N105,0) -> 0 | BJ105: 2
D106: Vplyv prostredia | N106: =ROUND(N90*T106,2) -> 0 | U106: znížená | AY106: VRN | BE106: =IF(U106="základná",N106,0) -> 0 | BF106: =IF(U106="znížená",N106,0) -> 0 | BG106: =IF(U106="zákl. prenesená",N106,0) -> 0 | BH106: =IF(U106="zníž. prenesená",N106,0) -> 0 | BI106: =IF(U106="nulová",N106,0) -> 0 | BJ106: 2
D107: Iné VRN | N107: =ROUND(N90*T107,2) -> 0 | U107: znížená | AY107: VRN | BE107: =IF(U107="základná",N107,0) -> 0 | BF107: =IF(U107="znížená",N107,0) -> 0 | BG107: =IF(U107="zákl. prenesená",N107,0) -> 0 | BH107: =IF(U107="zníž. prenesená",N107,0) -> 0 | BI107: =IF(U107="nulová",N107,0) -> 0 | BJ107: 2
D108: Kompletačná činnosť | N108: =ROUND(N90*T108,2) -> 0 | U108: znížená | AY108: KOMPLETACNA | BE108: =IF(U108="základná",N108,0) -> 0 | BF108: =IF(U108="znížená",N108,0) -> 0 | BG108: =IF(U108="zákl. prenesená",N108,0) -> 0 | BH108: =IF(U108="zníž. prenesená",N108,0) -> 0 | BI108: =IF(U108="nulová",N108,0) -> 0 | BJ108: 2
C110: Celkové náklady za stavbu 1) + 2) | L110: =ROUND(SUM(N90+N102),2) -> 0
C116: ROZPOČET
C118: Stavba: | F118: =F6 -> PRESTAVBA BUDOVY NA KOMUNITNÉ CENTRUM - OBEC TERANY
C119: Objekt: | F119: SO 01 - Prestavba budovy na klub dôchodcov a spoločenské centrum
C120: Časť: | F120: Časť 5. - ELEKTRO ČASŤ
C121: Úroveň 3: | F121: =F9 -> a) - Elektroinštalácia
C123: Miesto: | F123: =F11 -> TERANY, 962 68, parc. č.: 1/5 | K123: Dátum: | M123: =IF(O11="","",O11) -> 0
C125: Objednávateľ: | F125: =E14 -> Obec Terany, Terany 116, PSČ: 962 68 | K125: Projektant: | M125: =E20 -> Cobra Bauart s.r.o. Športová 2/20, Balog nad Ipľom
C126: Zhotoviteľ: | F126: =IF(E17="","",E17) -> Vyplň údaj | K126: Spracovateľ: | M126: =E23
C128: PČ | D128: Typ | E128: Kód | F128: Popis | J128: MJ | K128: Množstvo | L128: J.cena [EUR] | N128: Cena celkom [EUR] | T128: Poznámka | U128: DPH | V128: J. Nh [h] | W128: Nh celkom [h] | X128: J. hmotnosť_x000D_ [t] | Y128: Hmotnosť_x000D_ celkom [t] | Z128: J. suť [t] | AA128: Suť Celkom [t]
C129: Náklady z rozpočtu | N129: =BK129 -> 0 | W129: =W130+W197 -> 0 | Y129: =Y130+Y197 -> 0.80905 | AA129: =AA130+AA197 -> 0 | AT129: D | AU129: -1 | BK129: =BK130+BK197 -> 0
D130: M - Práce a dodávky M | N130: =BK130 -> 0 | W130: =W131+W145+W153+W164+W169+W182+W186+W191 -> 0 | Y130: =Y131+Y145+Y153+Y164+Y169+Y182+Y186+Y191 -> 0.80905 | AA130: =AA131+AA145+AA153+AA164+AA169+AA182+AA186+AA191 -> 0 | AR130: 3 | AT130: D | AU130: 0 | AY130: ROZPOCET | BK130: =BK131+BK145+BK153+BK164+BK169+BK182+BK186+BK191 -> 0
D131: 21-M - Elektromontáže - osvetlenie | N131: =BK131 -> 0 | W131: =SUM(W132:W144) -> 0 | Y131: =SUM(Y132:Y144) -> 0.58936 | AA131: =SUM(AA132:AA144) -> 0 | AR131: 3 | AT131: D | AU131: 1 | AY131: ROZPOCET | BK131: =SUM(BK132:BK144) -> 0
C132: 1 | D132: K | E132: 210201080 | F132: Montáž a zapojenie svietidlá IP20, stropného - nástenného LED | J132: ks | K132: 20 | L132: 0 | N132: =ROUND(L132*K132,3) -> 0 | U132: znížená | W132: =V132*K132 -> 0 | X132: 0 | Y132: =X132*K132 -> 0 | Z132: 0 | AA132: =Z132*K132 -> 0 | AR132: 64 | AT132: K | AU132: 2 | AY132: ROZPOCET | BE132: =IF(U132="základná",N132,0) -> 0 | BF132: =IF(U132="znížená",N132,0) -> 0 | BG132: =IF(U132="zákl. prenesená",N132,0) -> 0 | BH132: =IF(U132="zníž. prenesená",N132,0) -> 0 | BI132: =IF(U132="nulová",N132,0) -> 0 | BJ132: 2 | BK132: =ROUND(L132*K132,3) -> 0 | BL132: 64 | BM132: -1043869726
C133: 2 | D133: M | E133: 3480571431/B | F133: Svietidlo LED (strop-násten.) Typ: Tesla-LR12P263/230V;12W; (0840 lm) IP 20 | J133: ks | K133: 13 | L133: 0 | N133: =ROUND(L133*K133,3) -> 0 | U133: znížená | W133: =V133*K133 -> 0 | X133: 0.00028 | Y133: =X133*K133 -> 0.00364 | Z133: 0 | AA133: =Z133*K133 -> 0 | AR133: 256 | AT133: M | AU133: 2 | AY133: ROZPOCET | BE133: =IF(U133="základná",N133,0) -> 0 | BF133: =IF(U133="znížená",N133,0) -> 0 | BG133: =IF(U133="zákl. prenesená",N133,0) -> 0 | BH133: =IF(U133="zníž. prenesená",N133,0) -> 0 | BI133: =IF(U133="nulová",N133,0) -> 0 | BJ133: 2 | BK133: =ROUND(L133*K133,3) -> 0 | BL133: 64 | BM133: 664667969
C134: 3 | D134: M | E134: 3483501224/G | F134: Svietidlo LED (strop-násten.) Typ: Tesla-LP664040-3E LED-230V/21W (3000 lm) IP 20 | J134: ks | K134: 7 | L134: 0 | N134: =ROUND(L134*K134,3) -> 0 | U134: znížená | W134: =V134*K134 -> 0 | X134: 0.01 | Y134: =X134*K134 -> 0.07 | Z134: 0 | AA134: =Z134*K134 -> 0 | AR134: 256 | AT134: M | AU134: 2 | AY134: ROZPOCET | BE134: =IF(U134="základná",N134,0) -> 0 | BF134: =IF(U134="znížená",N134,0) -> 0 | BG134: =IF(U134="zákl. prenesená",N134,0) -> 0 | BH134: =IF(U134="zníž. prenesená",N134,0) -> 0 | BI134: =IF(U134="nulová",N134,0) -> 0 | BJ134: 2 | BK134: =ROUND(L134*K134,3) -> 0 | BL134: 64 | BM134: 487555767
C135: 4 | D135: K | E135: 210201086 | F135: Montáž a zapojenie svietidlá IP20, stropného - bočného LED | J135: ks | K135: 37 | L135: 0 | N135: =ROUND(L135*K135,3) -> 0 | U135: znížená | W135: =V135*K135 -> 0 | X135: 0 | Y135: =X135*K135 -> 0 | Z135: 0 | AA135: =Z135*K135 -> 0 | AR135: 64 | AT135: K | AU135: 2 | AY135: ROZPOCET | BE135: =IF(U135="základná",N135,0) -> 0 | BF135: =IF(U135="znížená",N135,0) -> 0 | BG135: =IF(U135="zákl. prenesená",N135,0) -> 0 | BH135: =IF(U135="zníž. prenesená",N135,0) -> 0 | BI135: =IF(U135="nulová",N135,0) -> 0 | BJ135: 2 | BK135: =ROUND(L135*K135,3) -> 0 | BL135: 64 | BM135: 252114896
C136: 5 | D136: M | E136: 3483501226/J | F136: Svietidlo stropné (bočné)LED Typ: LED LX-502/3 W (0156 lm) IP 20 | J136: ks | K136: 37 | L136: 0 | N136: =ROUND(L136*K136,3) -> 0 | U136: znížená | W136: =V136*K136 -> 0 | X136: 0.01 | Y136: =X136*K136 -> 0.37 | Z136: 0 | AA136: =Z136*K136 -> 0 | AR136: 256 | AT136: M | AU136: 2 | AY136: ROZPOCET | BE136: =IF(U136="základná",N136,0) -> 0 | BF136: =IF(U136="znížená",N136,0) -> 0 | BG136: =IF(U136="zákl. prenesená",N136,0) -> 0 | BH136: =IF(U136="zníž. prenesená",N136,0) -> 0 | BI136: =IF(U136="nulová",N136,0) -> 0 | BJ136: 2 | BK136: =ROUND(L136*K136,3) -> 0 | BL136: 64 | BM136: 1236286357
C137: 6 | D137: K | E137: 210201320 | F137: Montáž a zapojenie svietidla priemyselného závesného IP40 | J137: ks | K137: 12 | L137: 0 | N137: =ROUND(L137*K137,3) -> 0 | U137: znížená | W137: =V137*K137 -> 0 | X137: 0 | Y137: =X137*K137 -> 0 | Z137: 0 | AA137: =Z137*K137 -> 0 | AR137: 64 | AT137: K | AU137: 2 | AY137: ROZPOCET | BE137: =IF(U137="základná",N137,0) -> 0 | BF137: =IF(U137="znížená",N137,0) -> 0 | BG137: =IF(U137="zákl. prenesená",N137,0) -> 0 | BH137: =IF(U137="zníž. prenesená",N137,0) -> 0 | BI137: =IF(U137="nulová",N137,0) -> 0 | BJ137: 2 | BK137: =ROUND(L137*K137,3) -> 0 | BL137: 64 | BM137: 1950969597
C138: 7 | D138: M | E138: 3483501288/H | F138: Priemyselné závesné svietidlo ECOLOGIC INDUSTRY Line LED24B/ Cree XT-E/50W/230V, (5130 lm) IP 40 | J138: ks | K138: 12 | L138: 0 | N138: =ROUND(L138*K138,3) -> 0 | U138: znížená | W138: =V138*K138 -> 0 | X138: 0.00631 | Y138: =X138*K138 -> 0.07572 | Z138: 0 | AA138: =Z138*K138 -> 0 | AR138: 256 | AT138: M | AU138: 2 | AY138: ROZPOCET | BE138: =IF(U138="základná",N138,0) -> 0 | BF138: =IF(U138="znížená",N138,0) -> 0 | BG138: =IF(U138="zákl. prenesená",N138,0) -> 0 | BH138: =IF(U138="zníž. prenesená",N138,0) -> 0 | BI138: =IF(U138="nulová",N138,0) -> 0 | BJ138: 2 | BK138: =ROUND(L138*K138,3) -> 0 | BL138: 64 | BM138: -1445985290
C139: 8 | D139: K | E139: 210201510 | F139: Montáž a zapojenie svietidla 1x svetelný zdroj, núdzového | J139: ks | K139: 20 | L139: 0 | N139: =ROUND(L139*K139,3) -> 0 | U139: znížená | W139: =V139*K139 -> 0 | X139: 0 | Y139: =X139*K139 -> 0 | Z139: 0 | AA139: =Z139*K139 -> 0 | AR139: 64 | AT139: K | AU139: 2 | AY139: ROZPOCET | BE139: =IF(U139="základná",N139,0) -> 0 | BF139: =IF(U139="znížená",N139,0) -> 0 | BG139: =IF(U139="zákl. prenesená",N139,0) -> 0 | BH139: =IF(U139="zníž. prenesená",N139,0) -> 0 | BI139: =IF(U139="nulová",N139,0) -> 0 | BJ139: 2 | BK139: =ROUND(L139*K139,3) -> 0 | BL139: 64 | BM139: 1317565103
C140: 9 | D140: M | E140: 3486801090/N | F140: Svietidlo núdzové Typ: WAYLUX 9W.3;230V/50Hz;3h; (0600 lm) IP 20 | J140: ks | K140: 20 | L140: 0 | N140: =ROUND(L140*K140,3) -> 0 | U140: znížená | W140: =V140*K140 -> 0 | X140: 0.0007 | Y140: =X140*K140 -> 0.014 | Z140: 0 | AA140: =Z140*K140 -> 0 | AR140: 256 | AT140: M | AU140: 2 | AY140: ROZPOCET | BE140: =IF(U140="základná",N140,0) -> 0 | BF140: =IF(U140="znížená",N140,0) -> 0 | BG140: =IF(U140="zákl. prenesená",N140,0) -> 0 | BH140: =IF(U140="zníž. prenesená",N140,0) -> 0 | BI140: =IF(U140="nulová",N140,0) -> 0 | BJ140: 2 | BK140: =ROUND(L140*K140,3) -> 0 | BL140: 64 | BM140: -1823381197
C141: 10 | D141: K | E141: 210203057 | F141: Montáž a zapojenie LED panelu Ø145 mm prisadeného | J141: ks | K141: 8 | L141: 0 | N141: =ROUND(L141*K141,3) -> 0 | U141: znížená | W141: =V141*K141 -> 0 | X141: 0 | Y141: =X141*K141 -> 0 | Z141: 0 | AA141: =Z141*K141 -> 0 | AR141: 64 | AT141: K | AU141: 2 | AY141: ROZPOCET | BE141: =IF(U141="základná",N141,0) -> 0 | BF141: =IF(U141="znížená",N141,0) -> 0 | BG141: =IF(U141="zákl. prenesená",N141,0) -> 0 | BH141: =IF(U141="zníž. prenesená",N141,0) -> 0 | BI141: =IF(U141="nulová",N141,0) -> 0 | BJ141: 2 | BK141: =ROUND(L141*K141,3) -> 0 | BL141: 64 | BM141: -666982406
C142: 11 | D142: M | E142: 3480571733/O | F142: Svietidlo LED Panel kruhový Typ: ø145mm; modro biely prisadený; 12+6W/230V; (830+415 lm) IP 20 | J142: ks | K142: 8 | L142: 0 | N142: =ROUND(L142*K142,3) -> 0 | U142: znížená | W142: =V142*K142 -> 0 | X142: 0.00075 | Y142: =X142*K142 -> 0.006 | Z142: 0 | AA142: =Z142*K142 -> 0 | AR142: 256 | AT142: M | AU142: 2 | AY142: ROZPOCET | BE142: =IF(U142="základná",N142,0) -> 0 | BF142: =IF(U142="znížená",N142,0) -> 0 | BG142: =IF(U142="zákl. prenesená",N142,0) -> 0 | BH142: =IF(U142="zníž. prenesená",N142,0) -> 0 | BI142: =IF(U142="nulová",N142,0) -> 0 | BJ142: 2 | BK142: =ROUND(L142*K142,3) -> 0 | BL142: 64 | BM142: 2122725989
C143: 12 | D143: K | E143: 210203066 | F143: Montáž a zapojenie LED svietidla so senzorom IP65 | J143: ks | K143: 5 | L143: 0 | N143: =ROUND(L143*K143,3) -> 0 | U143: znížená | W143: =V143*K143 -> 0 | X143: 0 | Y143: =X143*K143 -> 0 | Z143: 0 | AA143: =Z143*K143 -> 0 | AR143: 64 | AT143: K | AU143: 2 | AY143: ROZPOCET | BE143: =IF(U143="základná",N143,0) -> 0 | BF143: =IF(U143="znížená",N143,0) -> 0 | BG143: =IF(U143="zákl. prenesená",N143,0) -> 0 | BH143: =IF(U143="zníž. prenesená",N143,0) -> 0 | BI143: =IF(U143="nulová",N143,0) -> 0 | BJ143: 2 | BK143: =ROUND(L143*K143,3) -> 0 | BL143: 64 | BM143: -1415095227
C144: 13 | D144: M | E144: 3483502334/D | F144: Svietidlo LED Senzor Typ: SHELL 10 W;230V/50Hz (0550 lm) IP 65/D | J144: ks | K144: 5 | L144: 0 | N144: =ROUND(L144*K144,3) -> 0 | U144: znížená | W144: =V144*K144 -> 0 | X144: 0.01 | Y144: =X144*K144 -> 0.05 | Z144: 0 | AA144: =Z144*K144 -> 0 | AR144: 256 | AT144: M | AU144: 2 | AY144: ROZPOCET | BE144: =IF(U144="základná",N144,0) -> 0 | BF144: =IF(U144="znížená",N144,0) -> 0 | BG144: =IF(U144="zákl. prenesená",N144,0) -> 0 | BH144: =IF(U144="zníž. prenesená",N144,0) -> 0 | BI144: =IF(U144="nulová",N144,0) -> 0 | BJ144: 2 | BK144: =ROUND(L144*K144,3) -> 0 | BL144: 64 | BM144: -93423229
D145: 21-M-2 - Rozvodné krabice a rúrky | N145: =BK145 -> 0 | W145: =SUM(W146:W152) -> 0 | Y145: =SUM(Y146:Y152) -> 0.00468 | AA145: =SUM(AA146:AA152) -> 0 | AR145: 1 | AT145: D | AU145: 1 | AY145: ROZPOCET | BK145: =SUM(BK146:BK152) -> 0
C146: 14 | D146: K | E146: 210010199 | F146: Rúrka ochranná z PE, typ 2316E | J146: m | K146: 5 | L146: 0 | N146: =ROUND(L146*K146,3) -> 0 | U146: znížená | W146: =V146*K146 -> 0 | X146: 0 | Y146: =X146*K146 -> 0 | Z146: 0 | AA146: =Z146*K146 -> 0 | AR146: 64 | AT146: K | AU146: 2 | AY146: ROZPOCET | BE146: =IF(U146="základná",N146,0) -> 0 | BF146: =IF(U146="znížená",N146,0) -> 0 | BG146: =IF(U146="zákl. prenesená",N146,0) -> 0 | BH146: =IF(U146="zníž. prenesená",N146,0) -> 0 | BI146: =IF(U146="nulová",N146,0) -> 0 | BJ146: 2 | BK146: =ROUND(L146*K146,3) -> 0 | BL146: 64 | BM146: -587266548
C147: 15 | D147: M | E147: 3450716700 | F147: Rúrka 2316E/LPE-1 | J147: m | K147: 5 | L147: 0 | N147: =ROUND(L147*K147,3) -> 0 | U147: znížená | W147: =V147*K147 -> 0 | X147: 0.0005 | Y147: =X147*K147 -> 0.0025 | Z147: 0 | AA147: =Z147*K147 -> 0 | AR147: 256 | AT147: M | AU147: 2 | AY147: ROZPOCET | BE147: =IF(U147="základná",N147,0) -> 0 | BF147: =IF(U147="znížená",N147,0) -> 0 | BG147: =IF(U147="zákl. prenesená",N147,0) -> 0 | BH147: =IF(U147="zníž. prenesená",N147,0) -> 0 | BI147: =IF(U147="nulová",N147,0) -> 0 | BJ147: 2 | BK147: =ROUND(L147*K147,3) -> 0 | BL147: 64 | BM147: -398457498
C148: 16 | D148: K | E148: 210010306 | F148: Rozvodná krabica KU 68 | J148: ks | K148: 65 | L148: 0 | N148: =ROUND(L148*K148,3) -> 0 | U148: znížená | W148: =V148*K148 -> 0 | X148: 0 | Y148: =X148*K148 -> 0 | Z148: 0 | AA148: =Z148*K148 -> 0 | AR148: 64 | AT148: K | AU148: 2 | AY148: ROZPOCET | BE148: =IF(U148="základná",N148,0) -> 0 | BF148: =IF(U148="znížená",N148,0) -> 0 | BG148: =IF(U148="zákl. prenesená",N148,0) -> 0 | BH148: =IF(U148="zníž. prenesená",N148,0) -> 0 | BI148: =IF(U148="nulová",N148,0) -> 0 | BJ148: 2 | BK148: =ROUND(L148*K148,3) -> 0 | BL148: 64 | BM148: -1925196104
C149: 17 | D149: M | E149: 3450906510 | F149: Rozvodná krabica univerzálna PO - KU 68/1 ( pre zásuvky ) | J149: ks | K149: 26 | L149: 0 | N149: =ROUND(L149*K149,3) -> 0 | U149: znížená | W149: =V149*K149 -> 0 | X149: 3e-05 | Y149: =X149*K149 -> 0.00078 | Z149: 0 | AA149: =Z149*K149 -> 0 | AR149: 256 | AT149: M | AU149: 2 | AY149: ROZPOCET | BE149: =IF(U149="základná",N149,0) -> 0 | BF149: =IF(U149="znížená",N149,0) -> 0 | BG149: =IF(U149="zákl. prenesená",N149,0) -> 0 | BH149: =IF(U149="zníž. prenesená",N149,0) -> 0 | BI149: =IF(U149="nulová",N149,0) -> 0 | BJ149: 2 | BK149: =ROUND(L149*K149,3) -> 0 | BL149: 64 | BM149: -436240608
C150: 18 | D150: M | E150: 3450906511 | F150: Rozvodná krabica univerzálna PO - KU 68/2 ( pre vypínače a prepínače ) | J150: ks | K150: 30 | L150: 0 | N150: =ROUND(L150*K150,3) -> 0 | U150: znížená | W150: =V150*K150 -> 0 | X150: 3e-05 | Y150: =X150*K150 -> 0.0009 | Z150: 0 | AA150: =Z150*K150 -> 0 | AR150: 256 | AT150: M | AU150: 2 | AY150: ROZPOCET | BE150: =IF(U150="základná",N150,0) -> 0 | BF150: =IF(U150="znížená",N150,0) -> 0 | BG150: =IF(U150="zákl. prenesená",N150,0) -> 0 | BH150: =IF(U150="zníž. prenesená",N150,0) -> 0 | BI150: =IF(U150="nulová",N150,0) -> 0 | BJ150: 2 | BK150: =ROUND(L150*K150,3) -> 0 | BL150: 64 | BM150: 234963863
C151: 19 | D151: K | E151: 210010313 | F151: Krabica KO 125 | J151: ks | K151: 10 | L151: 0 | N151: =ROUND(L151*K151,3) -> 0 | U151: znížená | W151: =V151*K151 -> 0 | X151: 0 | Y151: =X151*K151 -> 0 | Z151: 0 | AA151: =Z151*K151 -> 0 | AR151: 64 | AT151: K | AU151: 2 | AY151: ROZPOCET | BE151: =IF(U151="základná",N151,0) -> 0 | BF151: =IF(U151="znížená",N151,0) -> 0 | BG151: =IF(U151="zákl. prenesená",N151,0) -> 0 | BH151: =IF(U151="zníž. prenesená",N151,0) -> 0 | BI151: =IF(U151="nulová",N151,0) -> 0 | BJ151: 2 | BK151: =ROUND(L151*K151,3) -> 0 | BL151: 64 | BM151: 530361235
C152: 20 | D152: M | E152: 3410300258 | F152: Krabica rozvodná KO 125 E; V 125 E; SP-96; | J152: ks | K152: 10 | L152: 0 | N152: =ROUND(L152*K152,3) -> 0 | U152: znížená | W152: =V152*K152 -> 0 | X152: 5e-05 | Y152: =X152*K152 -> 0.0005 | Z152: 0 | AA152: =Z152*K152 -> 0 | AR152: 256 | AT152: M | AU152: 2 | AY152: ROZPOCET | BE152: =IF(U152="základná",N152,0) -> 0 | BF152: =IF(U152="znížená",N152,0) -> 0 | BG152: =IF(U152="zákl. prenesená",N152,0) -> 0 | BH152: =IF(U152="zníž. prenesená",N152,0) -> 0 | BI152: =IF(U152="nulová",N152,0) -> 0 | BJ152: 2 | BK152: =ROUND(L152*K152,3) -> 0 | BL152: 64 | BM152: -1962533058
D153: 21-M-3 - Káble a vodiče silnoprúdu | N153: =BK153 -> 0 | W153: =SUM(W154:W163) -> 0 | Y153: =SUM(Y154:Y163) -> 0.1925 | AA153: =SUM(AA154:AA163) -> 0 | AR153: 1 | AT153: D | AU153: 1 | AY153: ROZPOCET | BK153: =SUM(BK154:BK163) -> 0
C154: 21 | D154: K | E154: 210025301 | F154: Montáž káblových žľabov KZ | J154: m | K154: 150 | L154: 0 | N154: =ROUND(L154*K154,3) -> 0 | U154: znížená | W154: =V154*K154 -> 0 | X154: 0 | Y154: =X154*K154 -> 0 | Z154: 0 | AA154: =Z154*K154 -> 0 | AR154: 64 | AT154: K | AU154: 2 | AY154: ROZPOCET | BE154: =IF(U154="základná",N154,0) -> 0 | BF154: =IF(U154="znížená",N154,0) -> 0 | BG154: =IF(U154="zákl. prenesená",N154,0) -> 0 | BH154: =IF(U154="zníž. prenesená",N154,0) -> 0 | BI154: =IF(U154="nulová",N154,0) -> 0 | BJ154: 2 | BK154: =ROUND(L154*K154,3) -> 0 | BL154: 64 | BM154: 19240105
C155: 22 | D155: M | E155: 3450610001 | F155: Káblový žľab KZ 35/50 mm, elektroinštalačný materiál | J155: m | K155: 100 | L155: 0 | N155: =ROUND(L155*K155,3) -> 0 | U155: znížená | W155: =V155*K155 -> 0 | X155: 0.00122 | Y155: =X155*K155 -> 0.122 | Z155: 0 | AA155: =Z155*K155 -> 0 | AR155: 256 | AT155: M | AU155: 2 | AY155: ROZPOCET | BE155: =IF(U155="základná",N155,0) -> 0 | BF155: =IF(U155="znížená",N155,0) -> 0 | BG155: =IF(U155="zákl. prenesená",N155,0) -> 0 | BH155: =IF(U155="zníž. prenesená",N155,0) -> 0 | BI155: =IF(U155="nulová",N155,0) -> 0 | BJ155: 2 | BK155: =ROUND(L155*K155,3) -> 0 | BL155: 64 | BM155: -92117821
C156: 23 | D156: M | E156: 3450610002 | F156: Káblový žľab KZ 35/75 mm, elektroinštalačný materiál | J156: m | K156: 50 | L156: 0 | N156: =ROUND(L156*K156,3) -> 0 | U156: znížená | W156: =V156*K156 -> 0 | X156: 0.00141 | Y156: =X156*K156 -> 0.0705 | Z156: 0 | AA156: =Z156*K156 -> 0 | AR156: 256 | AT156: M | AU156: 2 | AY156: ROZPOCET | BE156: =IF(U156="základná",N156,0) -> 0 | BF156: =IF(U156="znížená",N156,0) -> 0 | BG156: =IF(U156="zákl. prenesená",N156,0) -> 0 | BH156: =IF(U156="zníž. prenesená",N156,0) -> 0 | BI156: =IF(U156="nulová",N156,0) -> 0 | BJ156: 2 | BK156: =ROUND(L156*K156,3) -> 0 | BL156: 64 | BM156: 964293310
C157: 24 | D157: K | E157: 210810566 | F157: Montáž kábel silový CXKE-V | K157: 650 | L157: 0 | N157: =ROUND(L157*K157,3) -> 0 | U157: znížená | W157: =V157*K157 -> 0 | X157: 0 | Y157: =X157*K157 -> 0 | Z157: 0 | AA157: =Z157*K157 -> 0 | AR157: 64 | AT157: K | AU157: 2 | AY157: ROZPOCET | BE157: =IF(U157="základná",N157,0) -> 0 | BF157: =IF(U157="znížená",N157,0) -> 0 | BG157: =IF(U157="zákl. prenesená",N157,0) -> 0 | BH157: =IF(U157="zníž. prenesená",N157,0) -> 0 | BI157: =IF(U157="nulová",N157,0) -> 0 | BJ157: 2 | BK157: =ROUND(L157*K157,3) -> 0 | BL157: 64 | BM157: -579489104
C158: 25 | D158: M | E158: 3450350905 | F158: Kábel pre svetelné rozvody - Typ CXKE-V 3J x 1,5 mm2 | J158: m | K158: 200 | L158: 0 | N158: =ROUND(L158*K158,3) -> 0 | U158: znížená | W158: =V158*K158 -> 0 | X158: 0 | Y158: =X158*K158 -> 0 | Z158: 0 | AA158: =Z158*K158 -> 0 | AR158: 256 | AT158: M | AU158: 2 | AY158: ROZPOCET | BE158: =IF(U158="základná",N158,0) -> 0 | BF158: =IF(U158="znížená",N158,0) -> 0 | BG158: =IF(U158="zákl. prenesená",N158,0) -> 0 | BH158: =IF(U158="zníž. prenesená",N158,0) -> 0 | BI158: =IF(U158="nulová",N158,0) -> 0 | BJ158: 2 | BK158: =ROUND(L158*K158,3) -> 0 | BL158: 64 | BM158: 1319719238
C159: 26 | D159: M | E159: 3450350905.1 | F159: Kábel pre ventilátory + ovládanie, Typ: CXKE-V 3J x 1,5 mm | J159: m | K159: 80 | L159: 0 | N159: =ROUND(L159*K159,3) -> 0 | U159: znížená | W159: =V159*K159 -> 0 | X159: 0 | Y159: =X159*K159 -> 0 | Z159: 0 | AA159: =Z159*K159 -> 0 | AR159: 256 | AT159: M | AU159: 2 | AY159: ROZPOCET | BE159: =IF(U159="základná",N159,0) -> 0 | BF159: =IF(U159="znížená",N159,0) -> 0 | BG159: =IF(U159="zákl. prenesená",N159,0) -> 0 | BH159: =IF(U159="zníž. prenesená",N159,0) -> 0 | BI159: =IF(U159="nulová",N159,0) -> 0 | BJ159: 2 | BK159: =ROUND(L159*K159,3) -> 0 | BL159: 64 | BM159: -37879361
...

Sheet b) - Bleskozvod
D1: Hárok obsahuje: | F1: 1) Krycí list rozpočtu | H1: 2) Rekapitulácia rozpočtu | L1: 3) Rozpočet | O1: Späť na hárok: | S1: Rekapitulácia stavby
C2: optimalizované pre tlač zostáv vo formáte A4 - na výšku | S2: >> skryté stĺpce << | AT2: {23ffc10c-6dc0-4871-a1c7-be01dc3ac0e7}
AT3: 0
C4: KRYCÍ LIST ROZPOČTU | T4: v --- nižšie sa nachádzajú doplnkové a pomocné údaje k zostavám --- v | AT4: False
D6: Stavba: | F6: ='Rekapitulácia stavby'!K6 -> PRESTAVBA BUDOVY NA KOMUNITNÉ CENTRUM - OBEC TERANY
D7: Objekt: | F7: SO 01 - Prestavba budovy na klub dôchodcov a spoločenské centrum
D8: Časť: | F8: Časť 5. - ELEKTRO ČASŤ
D9: Úroveň 3: | F9: b) - Bleskozvod
D10: JKSO: | M10: KS:
D11: Miesto: | F11: TERANY, 962 68, parc. č.: 1/5 | M11: Dátum: | O11: ='Rekapitulácia stavby'!AN8 -> 0
D13: Objednávateľ: | M13: IČO: | O13: 00320323
E14: Obec Terany, Terany 116, PSČ: 962 68 | M14: IČO DPH:
D16: Zhotoviteľ: | M16: IČO: | O16: =IF('Rekapitulácia stavby'!AN13="","",'Rekapitulácia stavby'!AN13) -> Vyplň údaj
E17: =IF('Rekapitulácia stavby'!E14="","",'Rekapitulácia stavby'!E14) -> Vyplň údaj | M17: IČO DPH: | O17: =IF('Rekapitulácia stavby'!AN14="","",'Rekapitulácia stavby'!AN14) -> Vyplň údaj
D19: Projektant: | M19: IČO: | O19: 44413301
E20: Cobra Bauart s.r.o. Športová 2/20, Balog nad Ipľom | M20: IČO DPH: | O20: 2022709282
D22: Spracovateľ: | M22: IČO: | O22: =IF('Rekapitulácia stavby'!AN19="","",'Rekapitulácia stavby'!AN19)
E23: =IF('Rekapitulácia stavby'!E20="","",'Rekapitulácia stavby'!E20) | M23: IČO DPH: | O23: =IF('Rekapitulácia stavby'!AN20="","",'Rekapitulácia stavby'!AN20)
D25: Poznámka:
D29: Náklady z rozpočtu | M29: =N90 -> 0
D30: Ostatné náklady | M30: =N96 -> 0
D32: Cena bez DPH | M32: =ROUND(M29+M30,2) -> 0
D34: DPH | E34: základná | F34: 0.2 | G34: z | H34: =ROUND((((SUM(BE96:BE103)+SUM(BE123:BE170))+SUM(BE172:BE174))),2) -> 0 | M34: =ROUND(((ROUND((SUM(BE96:BE103)+SUM(BE123:BE170)), 2)*F34)+SUM(BE172:BE174)*F34),2) -> 0
E35: znížená | F35: 0.2 | G35: z | H35: =ROUND((((SUM(BF96:BF103)+SUM(BF123:BF170))+SUM(BF172:BF174))),2) -> 0 | M35: =ROUND(((ROUND((SUM(BF96:BF103)+SUM(BF123:BF170)), 2)*F35)+SUM(BF172:BF174)*F35),2) -> 0
E36: zákl. prenesená | F36: 0.2 | G36: z | H36: =ROUND((((SUM(BG96:BG103)+SUM(BG123:BG170))+SUM(BG172:BG174))),2) -> 0 | M36: 0
E37: zníž. prenesená | F37: 0.2 | G37: z | H37: =ROUND((((SUM(BH96:BH103)+SUM(BH123:BH170))+SUM(BH172:BH174))),2) -> 0 | M37: 0
E38: nulová | F38: 0 | G38: z | H38: =ROUND((((SUM(BI96:BI103)+SUM(BI123:BI170))+SUM(BI172:BI174))),2) -> 0 | M38: 0
D40: Cena s DPH | G40: v | H40: EUR | L40: =SUM(M32:M38) -> 0
D50: Projektant | J50: Spracovateľ
D59: Dátum a podpis: | G59: Pečiatka | J59: Dátum a podpis: | N59: Pečiatka
D61: Objednávateľ | J61: Zhotoviteľ
D70: Dátum a podpis: | G70: Pečiatka | J70: Dátum a podpis: | N70: Pečiatka
C76: REKAPITULÁCIA ROZPOČTU
C78: Stavba: | F78: =F6 -> PRESTAVBA BUDOVY NA KOMUNITNÉ CENTRUM - OBEC TERANY
C79: Objekt: | F79: SO 01 - Prestavba budovy na klub dôchodcov a spoločenské centrum
C80: Časť: | F80: Časť 5. - ELEKTRO ČASŤ
C81: Úroveň 3: | F81: =F9 -> b) - Bleskozvod
C83: Miesto: | F83: =F11 -> TERANY, 962 68, parc. č.: 1/5 | K83: Dátum: | M83: =IF(O11="","",O11) -> 0
C85: Objednávateľ: | F85: =E14 -> Obec Terany, Terany 116, PSČ: 962 68 | K85: Projektant: | M85: =E20 -> Cobra Bauart s.r.o. Športová 2/20, Balog nad Ipľom
C86: Zhotoviteľ: | F86: =IF(E17="","",E17) -> Vyplň údaj | K86: Spracovateľ: | M86: =E23
C88: Kód - Popis | N88: Cena celkom [EUR]
C90: 1) Náklady z rozpočtu | N90: =N123 -> 0 | AU90: -1
D91: M - Práce a dodávky M | N91: =N124 -> 0
D92: 21-M - Elektromontáže | N92: =N125 -> 0
D93: 46-M - Zemné práce pri extr.mont.prácach | N93: =N166 -> 0
D94: VP - Práce naviac | N94: =N171 -> 0
C96: 2) Ostatné náklady | N96: =ROUND(N97+N98+N99+N100+N101+N102,2) -> 0 | U96: DPH
D97: GZS | N97: =ROUND(N90*T97,2) -> 0 | U97: znížená | AY97: VRN | BE97: =IF(U97="základná",N97,0) -> 0 | BF97: =IF(U97="znížená",N97,0) -> 0 | BG97: =IF(U97="zákl. prenesená",N97,0) -> 0 | BH97: =IF(U97="zníž. prenesená",N97,0) -> 0 | BI97: =IF(U97="nulová",N97,0) -> 0 | BJ97: 2
D98: Projektové práce | N98: =ROUND(N90*T98,2) -> 0 | U98: znížená | AY98: VRN | BE98: =IF(U98="základná",N98,0) -> 0 | BF98: =IF(U98="znížená",N98,0) -> 0 | BG98: =IF(U98="zákl. prenesená",N98,0) -> 0 | BH98: =IF(U98="zníž. prenesená",N98,0) -> 0 | BI98: =IF(U98="nulová",N98,0) -> 0 | BJ98: 2
D99: Sťažené podmienky | N99: =ROUND(N90*T99,2) -> 0 | U99: znížená | AY99: VRN | BE99: =IF(U99="základná",N99,0) -> 0 | BF99: =IF(U99="znížená",N99,0) -> 0 | BG99: =IF(U99="zákl. prenesená",N99,0) -> 0 | BH99: =IF(U99="zníž. prenesená",N99,0) -> 0 | BI99: =IF(U99="nulová",N99,0) -> 0 | BJ99: 2
D100: Vplyv prostredia | N100: =ROUND(N90*T100,2) -> 0 | U100: znížená | AY100: VRN | BE100: =IF(U100="základná",N100,0) -> 0 | BF100: =IF(U100="znížená",N100,0) -> 0 | BG100: =IF(U100="zákl. prenesená",N100,0) -> 0 | BH100: =IF(U100="zníž. prenesená",N100,0) -> 0 | BI100: =IF(U100="nulová",N100,0) -> 0 | BJ100: 2
D101: Iné VRN | N101: =ROUND(N90*T101,2) -> 0 | U101: znížená | AY101: VRN | BE101: =IF(U101="základná",N101,0) -> 0 | BF101: =IF(U101="znížená",N101,0) -> 0 | BG101: =IF(U101="zákl. prenesená",N101,0) -> 0 | BH101: =IF(U101="zníž. prenesená",N101,0) -> 0 | BI101: =IF(U101="nulová",N101,0) -> 0 | BJ101: 2
D102: Kompletačná činnosť | N102: =ROUND(N90*T102,2) -> 0 | U102: znížená | AY102: KOMPLETACNA | BE102: =IF(U102="základná",N102,0) -> 0 | BF102: =IF(U102="znížená",N102,0) -> 0 | BG102: =IF(U102="zákl. prenesená",N102,0) -> 0 | BH102: =IF(U102="zníž. prenesená",N102,0) -> 0 | BI102: =IF(U102="nulová",N102,0) -> 0 | BJ102: 2
C104: Celkové náklady za stavbu 1) + 2) | L104: =ROUND(SUM(N90+N96),2) -> 0
C110: ROZPOČET
C112: Stavba: | F112: =F6 -> PRESTAVBA BUDOVY NA KOMUNITNÉ CENTRUM - OBEC TERANY
C113: Objekt: | F113: SO 01 - Prestavba budovy na klub dôchodcov a spoločenské centrum
C114: Časť: | F114: Časť 5. - ELEKTRO ČASŤ
C115: Úroveň 3: | F115: =F9 -> b) - Bleskozvod
C117: Miesto: | F117: =F11 -> TERANY, 962 68, parc. č.: 1/5 | K117: Dátum: | M117: =IF(O11="","",O11) -> 0
C119: Objednávateľ: | F119: =E14 -> Obec Terany, Terany 116, PSČ: 962 68 | K119: Projektant: | M119: =E20 -> Cobra Bauart s.r.o. Športová 2/20, Balog nad Ipľom
C120: Zhotoviteľ: | F120: =IF(E17="","",E17) -> Vyplň údaj | K120: Spracovateľ: | M120: =E23
C122: PČ | D122: Typ | E122: Kód | F122: Popis | J122: MJ | K122: Množstvo | L122: J.cena [EUR] | N122: Cena celkom [EUR] | T122: Poznámka | U122: DPH | V122: J. Nh [h] | W122: Nh celkom [h] | X122: J. hmotnosť_x000D_ [t] | Y122: Hmotnosť_x000D_ celkom [t] | Z122: J. suť [t] | AA122: Suť Celkom [t]
C123: Náklady z rozpočtu | N123: =BK123 -> 0 | W123: =W124+W171 -> 0 | Y123: =Y124+Y171 -> 0.128458 | AA123: =AA124+AA171 -> 0 | AT123: D | AU123: -1 | BK123: =BK124+BK171 -> 0
D124: M - Práce a dodávky M | N124: =BK124 -> 0 | W124: =W125 -> 0 | Y124: =Y125 -> 0.128458 | AA124: =AA125 -> 0 | AR124: 3 | AT124: D | AU124: 0 | AY124: ROZPOCET | BK124: =BK125 -> 0
D125: 21-M - Elektromontáže | N125: =BK125 -> 0 | W125: =W126+SUM(W127:W166) -> 0 | Y125: =Y126+SUM(Y127:Y166) -> 0.128458 | AA125: =AA126+SUM(AA127:AA166) -> 0 | AR125: 3 | AT125: D | AU125: 1 | AY125: ROZPOCET | BK125: =BK126+SUM(BK127:BK166) -> 0
C126: 1 | D126: K | E126: 210220241 | F126: Svorka FeZn krížová SK | J126: ks | K126: 1 | L126: 0 | N126: =ROUND(L126*K126,3) -> 0 | U126: znížená | W126: =V126*K126 -> 0 | X126: 0 | Y126: =X126*K126 -> 0 | Z126: 0 | AA126: =Z126*K126 -> 0 | AR126: 64 | AT126: K | AU126: 2 | AY126: ROZPOCET | BE126: =IF(U126="základná",N126,0) -> 0 | BF126: =IF(U126="znížená",N126,0) -> 0 | BG126: =IF(U126="zákl. prenesená",N126,0) -> 0 | BH126: =IF(U126="zníž. prenesená",N126,0) -> 0 | BI126: =IF(U126="nulová",N126,0) -> 0 | BJ126: 2 | BK126: =ROUND(L126*K126,3) -> 0 | BL126: 64 | BM126: 2143156459
C127: 2 | D127: M | E127: 3544219150 | F127: Svorka krížová ocelová žiarovo zinkovaná označenie SK | J127: ks | K127: 1 | L127: 0 | N127: =ROUND(L127*K127,3) -> 0 | U127: znížená | W127: =V127*K127 -> 0 | X127: 0.00022 | Y127: =X127*K127 -> 0.00022 | Z127: 0 | AA127: =Z127*K127 -> 0 | AR127: 256 | AT127: M | AU127: 2 | AY127: ROZPOCET | BE127: =IF(U127="základná",N127,0) -> 0 | BF127: =IF(U127="znížená",N127,0) -> 0 | BG127: =IF(U127="zákl. prenesená",N127,0) -> 0 | BH127: =IF(U127="zníž. prenesená",N127,0) -> 0 | BI127: =IF(U127="nulová",N127,0) -> 0 | BJ127: 2 | BK127: =ROUND(L127*K127,3) -> 0 | BL127: 64 | BM127: 282531972
C128: 3 | D128: K | E128: 210220243 | F128: Svorka FeZn spojovacia SS | J128: ks | K128: 4 | L128: 0 | N128: =ROUND(L128*K128,3) -> 0 | U128: znížená | W128: =V128*K128 -> 0 | X128: 0 | Y128: =X128*K128 -> 0 | Z128: 0 | AA128: =Z128*K128 -> 0 | AR128: 64 | AT128: K | AU128: 2 | AY128: ROZPOCET | BE128: =IF(U128="základná",N128,0) -> 0 | BF128: =IF(U128="znížená",N128,0) -> 0 | BG128: =IF(U128="zákl. prenesená",N128,0) -> 0 | BH128: =IF(U128="zníž. prenesená",N128,0) -> 0 | BI128: =IF(U128="nulová",N128,0) -> 0 | BJ128: 2 | BK128: =ROUND(L128*K128,3) -> 0 | BL128: 64 | BM128: -320332440
C129: 4 | D129: M | E129: 3544219500 | F129: Svorka spojovacia ocelová žiarovo zinkovaná označenie SS | J129: ks | K129: 4 | L129: 0 | N129: =ROUND(L129*K129,3) -> 0 | U129: znížená | W129: =V129*K129 -> 0 | X129: 0.00016 | Y129: =X129*K129 -> 0.00064 | Z129: 0 | AA129: =Z129*K129 -> 0 | AR129: 256 | AT129: M | AU129: 2 | AY129: ROZPOCET | BE129: =IF(U129="základná",N129,0) -> 0 | BF129: =IF(U129="znížená",N129,0) -> 0 | BG129: =IF(U129="zákl. prenesená",N129,0) -> 0 | BH129: =IF(U129="zníž. prenesená",N129,0) -> 0 | BI129: =IF(U129="nulová",N129,0) -> 0 | BJ129: 2 | BK129: =ROUND(L129*K129,3) -> 0 | BL129: 64 | BM129: 186140347
C130: 5 | D130: K | E130: 210220655 | F130: Svorka nerez 1.4301 pripojovacia SP 1 | J130: ks | K130: 4 | L130: 0 | N130: =ROUND(L130*K130,3) -> 0 | U130: znížená | W130: =V130*K130 -> 0 | X130: 0 | Y130: =X130*K130 -> 0 | Z130: 0 | AA130: =Z130*K130 -> 0 | AR130: 64 | AT130: K | AU130: 2 | AY130: ROZPOCET | BE130: =IF(U130="základná",N130,0) -> 0 | BF130: =IF(U130="znížená",N130,0) -> 0 | BG130: =IF(U130="zákl. prenesená",N130,0) -> 0 | BH130: =IF(U130="zníž. prenesená",N130,0) -> 0 | BI130: =IF(U130="nulová",N130,0) -> 0 | BJ130: 2 | BK130: =ROUND(L130*K130,3) -> 0 | BL130: 64 | BM130: 1152268041
C131: 6 | D131: M | E131: 3544237050 | F131: Svorka pripojovacia nerez akosť 1.4301 označenie SP1 | J131: ks | K131: 4 | L131: 0 | N131: =ROUND(L131*K131,3) -> 0 | U131: znížená | W131: =V131*K131 -> 0 | X131: 0.00014 | Y131: =X131*K131 -> 0.00056 | Z131: 0 | AA131: =Z131*K131 -> 0 | AR131: 256 | AT131: M | AU131: 2 | AY131: ROZPOCET | BE131: =IF(U131="základná",N131,0) -> 0 | BF131: =IF(U131="znížená",N131,0) -> 0 | BG131: =IF(U131="zákl. prenesená",N131,0) -> 0 | BH131: =IF(U131="zníž. prenesená",N131,0) -> 0 | BI131: =IF(U131="nulová",N131,0) -> 0 | BJ131: 2 | BK131: =ROUND(L131*K131,3) -> 0 | BL131: 64 | BM131: -1561204171
C132: 7 | D132: K | E132: 210220247 | F132: Svorka FeZn skúšobná SZ | J132: ks | K132: 4 | L132: 0 | N132: =ROUND(L132*K132,3) -> 0 | U132: znížená | W132: =V132*K132 -> 0 | X132: 0 | Y132: =X132*K132 -> 0 | Z132: 0 | AA132: =Z132*K132 -> 0 | AR132: 64 | AT132: K | AU132: 2 | AY132: ROZPOCET | BE132: =IF(U132="základná",N132,0) -> 0 | BF132: =IF(U132="znížená",N132,0) -> 0 | BG132: =IF(U132="zákl. prenesená",N132,0) -> 0 | BH132: =IF(U132="zníž. prenesená",N132,0) -> 0 | BI132: =IF(U132="nulová",N132,0) -> 0 | BJ132: 2 | BK132: =ROUND(L132*K132,3) -> 0 | BL132: 64 | BM132: 1686712142
C133: 8 | D133: M | E133: 3544220000 | F133: Svorka skušobná ocelová žiarovo zinkovaná označenie SZ | J133: ks | K133: 4 | L133: 0 | N133: =ROUND(L133*K133,3) -> 0 | U133: znížená | W133: =V133*K133 -> 0 | X133: 0.00039 | Y133: =X133*K133 -> 0.00156 | Z133: 0 | AA133: =Z133*K133 -> 0 | AR133: 256 | AT133: M | AU133: 2 | AY133: ROZPOCET | BE133: =IF(U133="základná",N133,0) -> 0 | BF133: =IF(U133="znížená",N133,0) -> 0 | BG133: =IF(U133="zákl. prenesená",N133,0) -> 0 | BH133: =IF(U133="zníž. prenesená",N133,0) -> 0 | BI133: =IF(U133="nulová",N133,0) -> 0 | BJ133: 2 | BK133: =ROUND(L133*K133,3) -> 0 | BL133: 64 | BM133: -529314635
C134: 9 | D134: K | E134: 210010313 | F134: Škatuľa odbočná s viečkom, bez zapojenia (KO 125) štvorcová | J134: ks | K134: 4 | L134: 0 | N134: =ROUND(L134*K134,3) -> 0 | U134: znížená | W134: =V134*K134 -> 0 | X134: 0 | Y134: =X134*K134 -> 0 | Z134: 0 | AA134: =Z134*K134 -> 0 | AR134: 64 | AT134: K | AU134: 2 | AY134: ROZPOCET | BE134: =IF(U134="základná",N134,0) -> 0 | BF134: =IF(U134="znížená",N134,0) -> 0 | BG134: =IF(U134="zákl. prenesená",N134,0) -> 0 | BH134: =IF(U134="zníž. prenesená",N134,0) -> 0 | BI134: =IF(U134="nulová",N134,0) -> 0 | BJ134: 2 | BK134: =ROUND(L134*K134,3) -> 0 | BL134: 64 | BM134: 2044968747
C135: 10 | D135: M | E135: 3450913000 | F135: Krabica KO-125 | J135: ks | K135: 4 | L135: 0 | N135: =ROUND(L135*K135,3) -> 0 | U135: znížená | W135: =V135*K135 -> 0 | X135: 0 | Y135: =X135*K135 -> 0 | Z135: 0 | AA135: =Z135*K135 -> 0 | AR135: 256 | AT135: M | AU135: 2 | AY135: ROZPOCET | BE135: =IF(U135="základná",N135,0) -> 0 | BF135: =IF(U135="znížená",N135,0) -> 0 | BG135: =IF(U135="zákl. prenesená",N135,0) -> 0 | BH135: =IF(U135="zníž. prenesená",N135,0) -> 0 | BI135: =IF(U135="nulová",N135,0) -> 0 | BJ135: 2 | BK135: =ROUND(L135*K135,3) -> 0 | BL135: 64 | BM135: 1178597881
C136: 11 | D136: K | E136: 210220253 | F136: Svorka FeZn uzemňovacia SR03 | J136: ks | K136: 9 | L136: 0 | N136: =ROUND(L136*K136,3) -> 0 | U136: znížená | W136: =V136*K136 -> 0 | X136: 0 | Y136: =X136*K136 -> 0 | Z136: 0 | AA136: =Z136*K136 -> 0 | AR136: 64 | AT136: K | AU136: 2 | AY136: ROZPOCET | BE136: =IF(U136="základná",N136,0) -> 0 | BF136: =IF(U136="znížená",N136,0) -> 0 | BG136: =IF(U136="zákl. prenesená",N136,0) -> 0 | BH136: =IF(U136="zníž. prenesená",N136,0) -> 0 | BI136: =IF(U136="nulová",N136,0) -> 0 | BJ136: 2 | BK136: =ROUND(L136*K136,3) -> 0 | BL136: 64 | BM136: 1570452383
C137: 12 | D137: M | E137: 3544221300 | F137: Uzemňovacia svorka ocelová žiarovo zinkovaná označenie SR 03 A | J137: ks | K137: 9 | L137: 0 | N137: =ROUND(L137*K137,3) -> 0 | U137: znížená | W137: =V137*K137 -> 0 | X137: 0.00021 | Y137: =X137*K137 -> 0.00189 | Z137: 0 | AA137: =Z137*K137 -> 0 | AR137: 256 | AT137: M | AU137: 2 | AY137: ROZPOCET | BE137: =IF(U137="základná",N137,0) -> 0 | BF137: =IF(U137="znížená",N137,0) -> 0 | BG137: =IF(U137="zákl. prenesená",N137,0) -> 0 | BH137: =IF(U137="zníž. prenesená",N137,0) -> 0 | BI137: =IF(U137="nulová",N137,0) -> 0 | BJ137: 2 | BK137: =ROUND(L137*K137,3) -> 0 | BL137: 64 | BM137: 2106913237
... C165: 40 | D165: K | E165: PPV.1 | F165: Podiel pridružených výkonov | J165: % | K165: 0 | L165: 0 | N165: =ROUND(L165*K165,3) -> 0 | U165: znížená | W165: =V165*K165 -> 0 | X165: 0 | Y165: =X165*K165 -> 0 | Z165: 0 | AA165: =Z165*K165 -> 0 | AR165: 64 | AT165: K | AU165: 2 | AY165: ROZPOCET | BE165: =IF(U165="základná",N165,0) -> 0 | BF165: =IF(U165="znížená",N165,0) -> 0 | BG165: =IF(U165="zákl. prenesená",N165,0) -> 0 | BH165: =IF(U165="zníž. prenesená",N165,0) -> 0 | BI165: =IF(U165="nulová",N165,0) -> 0 | BJ165: 2 | BK165: =ROUND(L165*K165,3) -> 0 | BL165: 64 | BM165: -1143152623
D166: 46-M - Zemné práce pri extr.mont.prácach | N166: =BK166 -> 0 | W166: =SUM(W167:W170) -> 0 | Y166: =SUM(Y167:Y170) -> 0 | AA166: =SUM(AA167:AA170) -> 0 | AR166: 3 | AT166: D | AU166: 2 | AY166: ROZPOCET | BK166: =SUM(BK167:BK170) -> 0
C167: 41 | D167: K | E167: 460200154 | F167: Hĺbenie káblovej ryhy 35 cm širokej a 70 cm hlbokej, v zemine triedy 4 | J167: m | K167: 75 | L167: 0 | N167: =ROUND(L167*K167,3) -> 0 | U167: znížená | W167: =V167*K167 -> 0 | X167: 0 | Y167: =X167*K167 -> 0 | Z167: 0 | AA167: =Z167*K167 -> 0 | AR167: 64 | AT167: K | AU167: 3 | AY167: ROZPOCET | BE167: =IF(U167="základná",N167,0) -> 0 | BF167: =IF(U167="znížená",N167,0) -> 0 | BG167: =IF(U167="zákl. prenesená",N167,0) -> 0 | BH167: =IF(U167="zníž. prenesená",N167,0) -> 0 | BI167: =IF(U167="nulová",N167,0) -> 0 | BJ167: 2 | BK167: =ROUND(L167*K167,3) -> 0 | BL167: 64 | BM167: -65641107
C168: 42 | D168: K | E168: 460560154 | F168: Ručný zásyp nezap. káblovej ryhy bez zhutn. zeminy, 35 cm širokej, 70 cm hlbokej v zemine tr. 4 | J168: m | K168: 75 | L168: 0 | N168: =ROUND(L168*K168,3) -> 0 | U168: znížená | W168: =V168*K168 -> 0 | X168: 0 | Y168: =X168*K168 -> 0 | Z168: 0 | AA168: =Z168*K168 -> 0 | AR168: 64 | AT168: K | AU168: 3 | AY168: ROZPOCET | BE168: =IF(U168="základná",N168,0) -> 0 | BF168: =IF(U168="znížená",N168,0) -> 0 | BG168: =IF(U168="zákl. prenesená",N168,0) -> 0 | BH168: =IF(U168="zníž. prenesená",N168,0) -> 0 | BI168: =IF(U168="nulová",N168,0) -> 0 | BJ168: 2 | BK168: =ROUND(L168*K168,3) -> 0 | BL168: 64 | BM168: 1981363032
C169: 43 | D169: K | E169: 460620014 | F169: Proviz. úprava terénu v zemine tr. 4, aby nerovnosti terénu neboli väčšie ako 2 cm od vodor.hladiny | J169: m2 | K169: 37.5 | L169: 0 | N169: =ROUND(L169*K169,3) -> 0 | U169: znížená | W169: =V169*K169 -> 0 | X169: 0 | Y169: =X169*K169 -> 0 | Z169: 0 | AA169: =Z169*K169 -> 0 | AR169: 64 | AT169: K | AU169: 3 | AY169: ROZPOCET | BE169: =IF(U169="základná",N169,0) -> 0 | BF169: =IF(U169="znížená",N169,0) -> 0 | BG169: =IF(U169="zákl. prenesená",N169,0) -> 0 | BH169: =IF(U169="zníž. prenesená",N169,0) -> 0 | BI169: =IF(U169="nulová",N169,0) -> 0 | BJ169: 2 | BK169: =ROUND(L169*K169,3) -> 0 | BL169: 64 | BM169: -881878897
C170: 44 | D170: K | E170: PPV | F170: Podiel pridružených výkonov | J170: % | K170: 0 | L170: 0 | N170: =ROUND(L170*K170,3) -> 0 | U170: znížená | W170: =V170*K170 -> 0 | X170: 0 | Y170: =X170*K170 -> 0 | Z170: 0 | AA170: =Z170*K170 -> 0 | AR170: 64 | AT170: K | AU170: 3 | AY170: ROZPOCET | BE170: =IF(U170="základná",N170,0) -> 0 | BF170: =IF(U170="znížená",N170,0) -> 0 | BG170: =IF(U170="zákl. prenesená",N170,0) -> 0 | BH170: =IF(U170="zníž. prenesená",N170,0) -> 0 | BI170: =IF(U170="nulová",N170,0) -> 0 | BJ170: 2 | BK170: =ROUND(L170*K170,3) -> 0 | BL170: 64 | BM170: 778211924
D171: VP - Práce naviac | N171: =BK171 -> 0 | AT171: D | AU171: 0 | AY171: PN | BK171: =SUM(BK172:BK174) -> 0
D172: K | N172: =BK172 -> 0 | U172: znížená | AT172: PN | AU172: 1 | AY172: PN | BE172: =IF(U172="základná",N172,0) -> 0 | BF172: =IF(U172="znížená",N172,0) -> 0 | BG172: =IF(U172="zákl. prenesená",N172,0) -> 0 | BH172: =IF(U172="zníž. prenesená",N172,0) -> 0 | BI172: =IF(U172="nulová",N172,0) -> 0 | BJ172: 2 | BK172: =L172*K172 -> 0
D173: K | N173: =BK173 -> 0 | U173: znížená | AT173: PN | AU173: 1 | AY173: PN | BE173: =IF(U173="základná",N173,0) -> 0 | BF173: =IF(U173="znížená",N173,0) -> 0 | BG173: =IF(U173="zákl. prenesená",N173,0) -> 0 | BH173: =IF(U173="zníž. prenesená",N173,0) -> 0 | BI173: =IF(U173="nulová",N173,0) -> 0 | BJ173: 2 | BK173: =L173*K173 -> 0
D174: K | N174: =BK174 -> 0 | U174: znížená | AT174: PN | AU174: 1 | AY174: PN | BE174: =IF(U174="základná",N174,0) -> 0 | BF174: =IF(U174="znížená",N174,0) -> 0 | BG174: =IF(U174="zákl. prenesená",N174,0) -> 0 | BH174: =IF(U174="zníž. prenesená",N174,0) -> 0 | BI174: =IF(U174="nulová",N174,0) -> 0 | BJ174: 2 | BK174: =L174*K174 -> 0

Sheet Časť 6. - NTL PLYNOVOD
D1: Hárok obsahuje: | F1: 1) Krycí list rozpočtu | H1: 2) Rekapitulácia rozpočtu | L1: 3) Rozpočet | O1: Späť na hárok: | S1: Rekapitulácia stavby
C2: optimalizované pre tlač zostáv vo formáte A4 - na výšku | S2: >> skryté stĺpce << | AT2: {9176b90d-2d54-4bde-92c0-639ea530c856}
AT3: 0
C4: KRYCÍ LIST ROZPOČTU | T4: v --- nižšie sa nachádzajú doplnkové a pomocné údaje k zostavám --- v | AT4: False
D6: Stavba: | F6: ='Rekapitulácia stavby'!K6 -> PRESTAVBA BUDOVY NA KOMUNITNÉ CENTRUM - OBEC TERANY
D7: Objekt: | F7: SO 01 - Prestavba budovy na klub dôchodcov a spoločenské centrum
D8: Časť: | F8: Časť 6. - NTL PLYNOVOD
D9: JKSO: | M9: KS:
D10: Miesto: | F10: TERANY, 962 68, parc. č.: 1/5 | M10: Dátum: | O10: ='Rekapitulácia stavby'!AN8 -> 0
D12: Objednávateľ: | M12: IČO: | O12: 00320323
E13: Obec Terany, Terany 116, PSČ: 962 68 | M13: IČO DPH:
D15: Zhotoviteľ: | M15: IČO: | O15: =IF('Rekapitulácia stavby'!AN13="","",'Rekapitulácia stavby'!AN13) -> Vyplň údaj
E16: =IF('Rekapitulácia stavby'!E14="","",'Rekapitulácia stavby'!E14) -> Vyplň údaj | M16: IČO DPH: | O16: =IF('Rekapitulácia stavby'!AN14="","",'Rekapitulácia stavby'!AN14) -> Vyplň údaj
D18: Projektant: | M18: IČO: | O18: 44413301
E19: Cobra Bauart s.r.o. Športová 2/20, Balog nad Ipľom | M19: IČO DPH: | O19: 2022709282
D21: Spracovateľ: | M21: IČO: | O21: =IF('Rekapitulácia stavby'!AN19="","",'Rekapitulácia stavby'!AN19)
E22: =IF('Rekapitulácia stavby'!E20="","",'Rekapitulácia stavby'!E20) | M22: IČO DPH: | O22: =IF('Rekapitulácia stavby'!AN20="","",'Rekapitulácia stavby'!AN20)
D24: Poznámka:
D28: Náklady z rozpočtu | M28: =N89 -> 0
D29: Ostatné náklady | M29: =N101 -> 0
D31: Cena bez DPH | M31: =ROUND(M28+M29,2) -> 0
D33: DPH | E33: základná | F33: 0.2 | G33: z | H33: =ROUND((((SUM(BE101:BE108)+SUM(BE127:BE161))+SUM(BE163:BE165))),2) -> 0 | M33: =ROUND(((ROUND((SUM(BE101:BE108)+SUM(BE127:BE161)), 2)*F33)+SUM(BE163:BE165)*F33),2) -> 0
E34: znížená | F34: 0.2 | G34: z | H34: =ROUND((((SUM(BF101:BF108)+SUM(BF127:BF161))+SUM(BF163:BF165))),2) -> 0 | M34: =ROUND(((ROUND((SUM(BF101:BF108)+SUM(BF127:BF161)), 2)*F34)+SUM(BF163:BF165)*F34),2) -> 0
E35: zákl. prenesená | F35: 0.2 | G35: z | H35: =ROUND((((SUM(BG101:BG108)+SUM(BG127:BG161))+SUM(BG163:BG165))),2) -> 0 | M35: 0
E36: zníž. prenesená | F36: 0.2 | G36: z | H36: =ROUND((((SUM(BH101:BH108)+SUM(BH127:BH161))+SUM(BH163:BH165))),2) -> 0 | M36: 0
E37: nulová | F37: 0 | G37: z | H37: =ROUND((((SUM(BI101:BI108)+SUM(BI127:BI161))+SUM(BI163:BI165))),2) -> 0 | M37: 0
D39: Cena s DPH | G39: v | H39: EUR | L39: =SUM(M31:M37) -> 0
D50: Projektant | J50: Spracovateľ
D59: Dátum a podpis: | G59: Pečiatka | J59: Dátum a podpis: | N59: Pečiatka
D61: Objednávateľ | J61: Zhotoviteľ
D70: Dátum a podpis: | G70: Pečiatka | J70: Dátum a podpis: | N70: Pečiatka
C76: REKAPITULÁCIA ROZPOČTU
C78: Stavba: | F78: =F6 -> PRESTAVBA BUDOVY NA KOMUNITNÉ CENTRUM - OBEC TERANY
C79: Objekt: | F79: SO 01 - Prestavba budovy na klub dôchodcov a spoločenské centrum
C80: Časť: | F80: =F8 -> Časť 6. - NTL PLYNOVOD
C82: Miesto: | F82: =F10 -> TERANY, 962 68, parc. č.: 1/5 | K82: Dátum: | M82: =IF(O10="","",O10) -> 0
C84: Objednávateľ: | F84: =E13 -> Obec Terany, Terany 116, PSČ: 962 68 | K84: Projektant: | M84: =E19 -> Cobra Bauart s.r.o. Športová 2/20, Balog nad Ipľom
C85: Zhotoviteľ: | F85: =IF(E16="","",E16) -> Vyplň údaj | K85: Spracovateľ: | M85: =E22
C87: Kód - Popis | N87: Cena celkom [EUR]
C89: 1) Náklady z rozpočtu | N89: =N127 -> 0 | AU89: -1
D90: HSV - Práce a dodávky HSV | N90: =N128 -> 0
D91: 1 - Zemné práce | N91: =N129 -> 0
D92: 4 - Vodorovné konštrukcie | N92: =N138 -> 0
D93: 99 - Presun hmôt HSV | N93: =N140 -> 0
D94: PSV - Práce a dodávky PSV | N94: =N142 -> 0
D95: 783 - Dokončovacie práce - nátery | N95: =N143 -> 0
D96: 23-M - Montáže potrubia | N96: =N145 -> 0
D97: 46-M - Zemné práce pri extr.mont.prácach | N97: =N155 -> 0
D98: OST - Ostatné | N98: =N158 -> 0
D99: VP - Práce naviac | N99: =N162 -> 0
C101: 2) Ostatné náklady | N101: =ROUND(N102+N103+N104+N105+N106+N107,2) -> 0 | U101: DPH
D102: GZS | N102: =ROUND(N89*T102,2) -> 0 | U102: znížená | AY102: VRN | BE102: =IF(U102="základná",N102,0) -> 0 | BF102: =IF(U102="znížená",N102,0) -> 0 | BG102: =IF(U102="zákl. prenesená",N102,0) -> 0 | BH102: =IF(U102="zníž. prenesená",N102,0) -> 0 | BI102: =IF(U102="nulová",N102,0) -> 0 | BJ102: 2
D103: Projektové práce | N103: =ROUND(N89*T103,2) -> 0 | U103: znížená | AY103: VRN | BE103: =IF(U103="základná",N103,0) -> 0 | BF103: =IF(U103="znížená",N103,0) -> 0 | BG103: =IF(U103="zákl. prenesená",N103,0) -> 0 | BH103: =IF(U103="zníž. prenesená",N103,0) -> 0 | BI103: =IF(U103="nulová",N103,0) -> 0 | BJ103: 2
D104: Sťažené podmienky | N104: =ROUND(N89*T104,2) -> 0 | U104: znížená | AY104: VRN | BE104: =IF(U104="základná",N104,0) -> 0 | BF104: =IF(U104="znížená",N104,0) -> 0 | BG104: =IF(U104="zákl. prenesená",N104,0) -> 0 | BH104: =IF(U104="zníž. prenesená",N104,0) -> 0 | BI104: =IF(U104="nulová",N104,0) -> 0 | BJ104: 2
D105: Vplyv prostredia | N105: =ROUND(N89*T105,2) -> 0 | U105: znížená | AY105: VRN | BE105: =IF(U105="základná",N105,0) -> 0 | BF105: =IF(U105="znížená",N105,0) -> 0 | BG105: =IF(U105="zákl. prenesená",N105,0) -> 0 | BH105: =IF(U105="zníž. prenesená",N105,0) -> 0 | BI105: =IF(U105="nulová",N105,0) -> 0 | BJ105: 2
D106: Iné VRN | N106: =ROUND(N89*T106,2) -> 0 | U106: znížená | AY106: VRN | BE106: =IF(U106="základná",N106,0) -> 0 | BF106: =IF(U106="znížená",N106,0) -> 0 | BG106: =IF(U106="zákl. prenesená",N106,0) -> 0 | BH106: =IF(U106="zníž. prenesená",N106,0) -> 0 | BI106: =IF(U106="nulová",N106,0) -> 0 | BJ106: 2
D107: Kompletačná činnosť | N107: =ROUND(N89*T107,2) -> 0 | U107: znížená | AY107: KOMPLETACNA | BE107: =IF(U107="základná",N107,0) -> 0 | BF107: =IF(U107="znížená",N107,0) -> 0 | BG107: =IF(U107="zákl. prenesená",N107,0) -> 0 | BH107: =IF(U107="zníž. prenesená",N107,0) -> 0 | BI107: =IF(U107="nulová",N107,0) -> 0 | BJ107: 2
C109: Celkové náklady za stavbu 1) + 2) | L109: =ROUND(SUM(N89+N101),2) -> 0
C115: ROZPOČET
C117: Stavba: | F117: =F6 -> PRESTAVBA BUDOVY NA KOMUNITNÉ CENTRUM - OBEC TERANY
C118: Objekt: | F118: SO 01 - Prestavba budovy na klub dôchodcov a spoločenské centrum
C119: Časť: | F119: =F8 -> Časť 6. - NTL PLYNOVOD
C121: Miesto: | F121: =F10 -> TERANY, 962 68, parc. č.: 1/5 | K121: Dátum: | M121: =IF(O10="","",O10) -> 0
C123: Objednávateľ: | F123: =E13 -> Obec Terany, Terany 116, PSČ: 962 68 | K123: Projektant: | M123: =E19 -> Cobra Bauart s.r.o. Športová 2/20, Balog nad Ipľom
C124: Zhotoviteľ: | F124: =IF(E16="","",E16) -> Vyplň údaj | K124: Spracovateľ: | M124: =E22
C126: PČ | D126: Typ | E126: Kód | F126: Popis | J126: MJ | K126: Množstvo | L126: J.cena [EUR] | N126: Cena celkom [EUR] | T126: Poznámka | U126: DPH | V126: J. Nh [h] | W126: Nh celkom [h] | X126: J. hmotnosť_x000D_ [t] | Y126: Hmotnosť_x000D_ celkom [t] | Z126: J. suť [t] | AA126: Suť Celkom [t]
C127: Náklady z rozpočtu | N127: =BK127 -> 0 | W127: =W128+W142+W145+W155+W158+W162 -> 0 | Y127: =Y128+Y142+Y145+Y155+Y158+Y162 -> 2.973496 | AA127: =AA128+AA142+AA145+AA155+AA158+AA162 -> 0 | AT127: D | AU127: -1 | BK127: =BK128+BK142+BK145+BK155+BK158+BK162 -> 0
D128: HSV - Práce a dodávky HSV | N128: =BK128 -> 0 | W128: =W129+W138+W140 -> 0 | Y128: =Y129+Y138+Y140 -> 2.9722904 | AA128: =AA129+AA138+AA140 -> 0 | AR128: 1 | AT128: D | AU128: 0 | AY128: ROZPOCET | BK128: =BK129+BK138+BK140 -> 0
D129: 1 - Zemné práce | N129: =BK129 -> 0 | W129: =SUM(W130:W137) -> 0 | Y129: =SUM(Y130:Y137) -> 0 | AA129: =SUM(AA130:AA137) -> 0 | AR129: 1 | AT129: D | AU129: 1 | AY129: ROZPOCET | BK129: =SUM(BK130:BK137) -> 0
C130: 1 | D130: K | E130: 132201201 | F130: Výkop ryhy šírky 600-2000mm horn.3 do 100m3 | J130: m3 | K130: 10.48 | L130: 0 | N130: =ROUND(L130*K130,3) -> 0 | U130: znížená | W130: =V130*K130 -> 0 | X130: 0 | Y130: =X130*K130 -> 0 | Z130: 0 | AA130: =Z130*K130 -> 0 | AR130: 16 | AT130: K | AU130: 2 | AY130: ROZPOCET | BE130: =IF(U130="základná",N130,0) -> 0 | BF130: =IF(U130="znížená",N130,0) -> 0 | BG130: =IF(U130="zákl. prenesená",N130,0) -> 0 | BH130: =IF(U130="zníž. prenesená",N130,0) -> 0 | BI130: =IF(U130="nulová",N130,0) -> 0 | BJ130: 2 | BK130: =ROUND(L130*K130,3) -> 0 | BL130: 16 | BM130: 202598436
C131: 2 | D131: K | E131: 132201209 | F131: Hĺbenie rýh š. nad 600 do 2 000 mm zapažených i nezapažených, s urovnaním dna. Príplatok k cenám za lepivosť horniny 3 | J131: m3 | K131: 10.48 | L131: 0 | N131: =ROUND(L131*K131,3) -> 0 | U131: znížená | W131: =V131*K131 -> 0 | X131: 0 | Y131: =X131*K131 -> 0 | Z131: 0 | AA131: =Z131*K131 -> 0 | AR131: 16 | AT131: K | AU131: 2 | AY131: ROZPOCET | BE131: =IF(U131="základná",N131,0) -> 0 | BF131: =IF(U131="znížená",N131,0) -> 0 | BG131: =IF(U131="zákl. prenesená",N131,0) -> 0 | BH131: =IF(U131="zníž. prenesená",N131,0) -> 0 | BI131: =IF(U131="nulová",N131,0) -> 0 | BJ131: 2 | BK131: =ROUND(L131*K131,3) -> 0 | BL131: 16 | BM131: -131481416
C132: 3 | D132: K | E132: 162501102 | F132: Vodorovné premiestnenie výkopku tr.1-4 do 3000 m | J132: m3 | K132: 3.668 | L132: 0 | N132: =ROUND(L132*K132,3) -> 0 | U132: znížená | W132: =V132*K132 -> 0 | X132: 0 | Y132: =X132*K132 -> 0 | Z132: 0 | AA132: =Z132*K132 -> 0 | AR132: 16 | AT132: K | AU132: 2 | AY132: ROZPOCET | BE132: =IF(U132="základná",N132,0) -> 0 | BF132: =IF(U132="znížená",N132,0) -> 0 | BG132: =IF(U132="zákl. prenesená",N132,0) -> 0 | BH132: =IF(U132="zníž. prenesená",N132,0) -> 0 | BI132: =IF(U132="nulová",N132,0) -> 0 | BJ132: 2 | BK132: =ROUND(L132*K132,3) -> 0 | BL132: 16 | BM132: 395877663
C133: 4 | D133: K | E133: 167101101 | F133: Nakladanie neuľahnutého výkopku z hornín tr.1-4 do 100 m3 | J133: m3 | K133: 3.668 | L133: 0 | N133: =ROUND(L133*K133,3) -> 0 | U133: znížená | W133: =V133*K133 -> 0 | X133: 0 | Y133: =X133*K133 -> 0 | Z133: 0 | AA133: =Z133*K133 -> 0 | AR133: 16 | AT133: K | AU133: 2 | AY133: ROZPOCET | BE133: =IF(U133="základná",N133,0) -> 0 | BF133: =IF(U133="znížená",N133,0) -> 0 | BG133: =IF(U133="zákl. prenesená",N133,0) -> 0 | BH133: =IF(U133="zníž. prenesená",N133,0) -> 0 | BI133: =IF(U133="nulová",N133,0) -> 0 | BJ133: 2 | BK133: =ROUND(L133*K133,3) -> 0 | BL133: 16 | BM133: -2064481508
C134: 5 | D134: K | E134: 171201201 | F134: Uloženie sypaniny na skládky do 100 m3 | J134: m3 | K134: 3.668 | L134: 0 | N134: =ROUND(L134*K134,3) -> 0 | U134: znížená | W134: =V134*K134 -> 0 | X134: 0 | Y134: =X134*K134 -> 0 | Z134: 0 | AA134: =Z134*K134 -> 0 | AR134: 16 | AT134: K | AU134: 2 | AY134: ROZPOCET | BE134: =IF(U134="základná",N134,0) -> 0 | BF134: =IF(U134="znížená",N134,0) -> 0 | BG134: =IF(U134="zákl. prenesená",N134,0) -> 0 | BH134: =IF(U134="zníž. prenesená",N134,0) -> 0 | BI134: =IF(U134="nulová",N134,0) -> 0 | BJ134: 2 | BK134: =ROUND(L134*K134,3) -> 0 | BL134: 16 | BM134: -1730695070
C135: 6 | D135: K | E135: 174101001 | F135: Zásyp sypaninou so zhutnením jám, šachiet, rýh, zárezov alebo okolo objektov do 100 m3 | J135: m3 | K135: 6.812 | L135: 0 | N135: =ROUND(L135*K135,3) -> 0 | U135: znížená | W135: =V135*K135 -> 0 | X135: 0 | Y135: =X135*K135 -> 0 | Z135: 0 | AA135: =Z135*K135 -> 0 | AR135: 16 | AT135: K | AU135: 2 | AY135: ROZPOCET | BE135: =IF(U135="základná",N135,0) -> 0 | BF135: =IF(U135="znížená",N135,0) -> 0 | BG135: =IF(U135="zákl. prenesená",N135,0) -> 0 | BH135: =IF(U135="zníž. prenesená",N135,0) -> 0 | BI135: =IF(U135="nulová",N135,0) -> 0 | BJ135: 2 | BK135: =ROUND(L135*K135,3) -> 0 | BL135: 16 | BM135: 824182678
C136: 7 | D136: K | E136: 175101101 | F136: Obsyp potrubia sypaninou z vhodných hornín 1 až 4 bez prehodenia sypaniny | J136: m3 | K136: 2.096 | L136: 0 | N136: =ROUND(L136*K136,3) -> 0 | U136: znížená | W136: =V136*K136 -> 0 | X136: 0 | Y136: =X136*K136 -> 0 | Z136: 0 | AA136: =Z136*K136 -> 0 | AR136: 16 | AT136: K | AU136: 2 | AY136: ROZPOCET | BE136: =IF(U136="základná",N136,0) -> 0 | BF136: =IF(U136="znížená",N136,0) -> 0 | BG136: =IF(U136="zákl. prenesená",N136,0) -> 0 | BH136: =IF(U136="zníž. prenesená",N136,0) -> 0 | BI136: =IF(U136="nulová",N136,0) -> 0 | BJ136: 2 | BK136: =ROUND(L136*K136,3) -> 0 | BL136: 16 | BM136: -715661507
C137: 8 | D137: M | E137: 5833773700 | F137: Štrkopiesok drvený 0-16 N | J137: m3 | K137: 2.515 | L137: 0 | N137: =ROUND(L137*K137,3) -> 0 | U137: znížená | W137: =V137*K137 -> 0 | X137: 0 | Y137: =X137*K137 -> 0 | Z137: 0 | AA137: =Z137*K137 -> 0 | AR137: 32 | AT137: M | AU137: 2 | AY137: ROZPOCET | BE137: =IF(U137="základná",N137,0) -> 0 | BF137: =IF(U137="znížená",N137,0) -> 0 | BG137: =IF(U137="zákl. prenesená",N137,0) -> 0 | BH137: =IF(U137="zníž. prenesená",N137,0) -> 0 | BI137: =IF(U137="nulová",N137,0) -> 0 | BJ137: 2 | BK137: =ROUND(L137*K137,3) -> 0 | BL137: 16 | BM137: -476001491
D138: 4 - Vodorovné konštrukcie | N138: =BK138 -> 0 | W138: =W139 -> 0 | Y138: =Y139 -> 2.9722904 | AA138: =AA139 -> 0 | AR138: 1 | AT138: D | AU138: 1 | AY138: ROZPOCET | BK138: =BK139 -> 0
C139: 9 | D139: K | E139: 451573111 | F139: Lôžko pod potrubie, stoky a drobné objekty, v otvorenom výkope z piesku a štrkopiesku do 63 mm | J139: m3 | K139: 1.572 | L139: 0 | N139: =ROUND(L139*K139,3) -> 0 | U139: znížená | W139: =V139*K139 -> 0 | X139: 1.89077 | Y139: =X139*K139 -> 2.9722904 | Z139: 0 | AA139: =Z139*K139 -> 0 | AR139: 16 | AT139: K | AU139: 2 | AY139: ROZPOCET | BE139: =IF(U139="základná",N139,0) -> 0 | BF139: =IF(U139="znížená",N139,0) -> 0 | BG139: =IF(U139="zákl. prenesená",N139,0) -> 0 | BH139: =IF(U139="zníž. prenesená",N139,0) -> 0 | BI139: =IF(U139="nulová",N139,0) -> 0 | BJ139: 2 | BK139: =ROUND(L139*K139,3) -> 0 | BL139: 16 | BM139: 1498970886
D140: 99 - Presun hmôt HSV | N140: =BK140 -> 0 | W140: =W141 -> 0 | Y140: =Y141 -> 0 | AA140: =AA141 -> 0 | AR140: 1 | AT140: D | AU140: 1 | AY140: ROZPOCET | BK140: =BK141 -> 0
C141: 10 | D141: K | E141: 998276101 | F141: Presun hmôt pre rúrové vedenie hĺbené z rúr z plast., hmôt alebo sklolamin. v otvorenom výkope | J141: t | K141: 0 | L141: 0 | N141: =ROUND(L141*K141,3) -> 0 | U141: znížená | W141: =V141*K141 -> 0 | X141: 0 | Y141: =X141*K141 -> 0 | Z141: 0 | AA141: =Z141*K141 -> 0 | AR141: 16 | AT141: K | AU141: 2 | AY141: ROZPOCET | BE141: =IF(U141="základná",N141,0) -> 0 | BF141: =IF(U141="znížená",N141,0) -> 0 | BG141: =IF(U141="zákl. prenesená",N141,0) -> 0 | BH141: =IF(U141="zníž. prenesená",N141,0) -> 0 | BI141: =IF(U141="nulová",N141,0) -> 0 | BJ141: 2 | BK141: =ROUND(L141*K141,3) -> 0 | BL141: 16 | BM141: -675203305
D142: PSV - Práce a dodávky PSV | N142: =BK142 -> 0 | W142: =W143 -> 0 | Y142: =Y143 -> 0.0012055275 | AA142: =AA143 -> 0 | AR142: 2 | AT142: D | AU142: 0 | AY142: ROZPOCET | BK142: =BK143 -> 0
D143: 783 - Dokončovacie práce - nátery | N143: =BK143 -> 0 | W143: =W144 -> 0 | Y143: =Y144 -> 0.0012055275 | AA143: =AA144 -> 0 | AR143: 2 | AT143: D | AU143: 1 | AY143: ROZPOCET | BK143: =BK144 -> 0
C144: 11 | D144: K | E144: 783424340 | F144: Nátery kovového potrubia syntetické do DN 50 mm dvojnásobné 1x email a základný náter | J144: m | K144: 13.1 | L144: 0 | N144: =ROUND(L144*K144,3) -> 0 | U144: znížená | W144: =V144*K144 -> 0 | X144: 9.2025e-05 | Y144: =X144*K144 -> 0.0012055275 | Z144: 0 | AA144: =Z144*K144 -> 0 | AR144: 16 | AT144: K | AU144: 2 | AY144: ROZPOCET | BE144: =IF(U144="základná",N144,0) -> 0 | BF144: =IF(U144="znížená",N144,0) -> 0 | BG144: =IF(U144="zákl. prenesená",N144,0) -> 0 | BH144: =IF(U144="zníž. prenesená",N144,0) -> 0 | BI144: =IF(U144="nulová",N144,0) -> 0 | BJ144: 2 | BK144: =ROUND(L144*K144,3) -> 0 | BL144: 16 | BM144: -1540795909
D145: 23-M - Montáže potrubia | N145: =BK145 -> 0 | W145: =SUM(W146:W154) -> 0 | Y145: =SUM(Y146:Y154) -> 0 | AA145: =SUM(AA146:AA154) -> 0 | AR145: 3 | AT145: D | AU145: 0 | AY145: ROZPOCET | BK145: =SUM(BK146:BK154) -> 0
C146: 12 | D146: K | E146: 230202104 | F146: Montáž plyn. prípojok z polyetyl. rúr zváraných elektrotvarovkami, dľžka prípojky do 30 m. D 50 mm | J146: m | K146: 13.1 | L146: 0 | N146: =ROUND(L146*K146,3) -> 0 | U146: znížená | W146: =V146*K146 -> 0 | X146: 0 | Y146: =X146*K146 -> 0 | Z146: 0 | AA146: =Z146*K146 -> 0 | AR146: 16 | AT146: K | AU146: 1 | AY146: ROZPOCET | BE146: =IF(U146="základná",N146,0) -> 0 | BF146: =IF(U146="znížená",N146,0) -> 0 | BG146: =IF(U146="zákl. prenesená",N146,0) -> 0 | BH146: =IF(U146="zníž. prenesená",N146,0) -> 0 | BI146: =IF(U146="nulová",N146,0) -> 0 | BJ146: 2 | BK146: =ROUND(L146*K146,3) -> 0 | BL146: 16 | BM146: 1462460844
C147: 13 | D147: M | E147: 11-PL01 050 | F147: Trubka HDPE PE 100 50x4,6 SDR11 | J147: m | K147: 13.1 | L147: 0 | N147: =ROUND(L147*K147,3) -> 0 | U147: znížená | W147: =V147*K147 -> 0 | X147: 0 | Y147: =X147*K147 -> 0 | Z147: 0 | AA147: =Z147*K147 -> 0 | AR147: 32 | AT147: M | AU147: 1 | AY147: ROZPOCET | BE147: =IF(U147="základná",N147,0) -> 0 | BF147: =IF(U147="znížená",N147,0) -> 0 | BG147: =IF(U147="zákl. prenesená",N147,0) -> 0 | BH147: =IF(U147="zníž. prenesená",N147,0) -> 0 | BI147: =IF(U147="nulová",N147,0) -> 0 | BJ147: 2 | BK147: =ROUND(L147*K147,3) -> 0 | BL147: 16 | BM147: -453053620
C148: 14 | D148: K | E148: 230170001 | F148: Príprava pre skúšku tesnosti DN do - 40 | J148: úsek | K148: 1 | L148: 0 | N148: =ROUND(L148*K148,3) -> 0 | U148: znížená | W148: =V148*K148 -> 0 | X148: 0 | Y148: =X148*K148 -> 0 | Z148: 0 | AA148: =Z148*K148 -> 0 | AR148: 16 | AT148: K | AU148: 1 | AY148: ROZPOCET | BE148: =IF(U148="základná",N148,0) -> 0 | BF148: =IF(U148="znížená",N148,0) -> 0 | BG148: =IF(U148="zákl. prenesená",N148,0) -> 0 | BH148: =IF(U148="zníž. prenesená",N148,0) -> 0 | BI148: =IF(U148="nulová",N148,0) -> 0 | BJ148: 2 | BK148: =ROUND(L148*K148,3) -> 0 | BL148: 16 | BM148: 564269362
C149: 15 | D149: K | E149: 230170011 | F149: Skúška tesnosti potrubia podľa STN 13 0020 DN do - 40 | J149: m | K149: 13.1 | L149: 0 | N149: =ROUND(L149*K149,3) -> 0 | U149: znížená | W149: =V149*K149 -> 0 | X149: 0 | Y149: =X149*K149 -> 0 | Z149: 0 | AA149: =Z149*K149 -> 0 | AR149: 16 | AT149: K | AU149: 1 | AY149: ROZPOCET | BE149: =IF(U149="základná",N149,0) -> 0 | BF149: =IF(U149="znížená",N149,0) -> 0 | BG149: =IF(U149="zákl. prenesená",N149,0) -> 0 | BH149: =IF(U149="zníž. prenesená",N149,0) -> 0 | BI149: =IF(U149="nulová",N149,0) -> 0 | BJ149: 2 | BK149: =ROUND(L149*K149,3) -> 0 | BL149: 16 | BM149: 631587265
C150: 16 | D150: K | E150: 230230001 | F150: Predbežná tlaková skúška vodou DN 50 | J150: m | K150: 13.1 | L150: 0 | N150: =ROUND(L150*K150,3) -> 0 | U150: znížená | W150: =V150*K150 -> 0 | X150: 0 | Y150: =X150*K150 -> 0 | Z150: 0 | AA150: =Z150*K150 -> 0 | AR150: 16 | AT150: K | AU150: 1 | AY150: ROZPOCET | BE150: =IF(U150="základná",N150,0) -> 0 | BF150: =IF(U150="znížená",N150,0) -> 0 | BG150: =IF(U150="zákl. prenesená",N150,0) -> 0 | BH150: =IF(U150="zníž. prenesená",N150,0) -> 0 | BI150: =IF(U150="nulová",N150,0) -> 0 | BJ150: 2 | BK150: =ROUND(L150*K150,3) -> 0 | BL150: 16 | BM150: -2049916863
C151: 17 | D151: K | E151: 230230016 | F151: Hlavná tlaková skúška vzduchom 0,6 MPa - STN 38 6413 DN 50 | J151: m | K151: 13.1 | L151: 0 | N151: =ROUND(L151*K151,3) -> 0 | U151: znížená | W151: =V151*K151 -> 0 | X151: 0 | Y151: =X151*K151 -> 0 | Z151: 0 | AA151: =Z151*K151 -> 0 | AR151: 16 | AT151: K | AU151: 1 | AY151: ROZPOCET | BE151: =IF(U151="základná",N151,0) -> 0 | BF151: =IF(U151="znížená",N151,0) -> 0 | BG151: =IF(U151="zákl. prenesená",N151,0) -> 0 | BH151: =IF(U151="zníž. prenesená",N151,0) -> 0 | BI151: =IF(U151="nulová",N151,0) -> 0 | BJ151: 2 | BK151: =ROUND(L151*K151,3) -> 0 | BL151: 16 | BM151: 697857809
C152: 18 | D152: K | E152: MV | F152: Murárske výpomoci | J152: % | K152: 0 | L152: 0 | N152: =ROUND(L152*K152,3) -> 0 | U152: znížená | W152: =V152*K152 -> 0 | X152: 0 | Y152: =X152*K152 -> 0 | Z152: 0 | AA152: =Z152*K152 -> 0 | AR152: 16 | AT152: K | AU152: 1 | AY152: ROZPOCET | BE152: =IF(U152="základná",N152,0) -> 0 | BF152: =IF(U152="znížená",N152,0) -> 0 | BG152: =IF(U152="zákl. prenesená",N152,0) -> 0 | BH152: =IF(U152="zníž. prenesená",N152,0) -> 0 | BI152: =IF(U152="nulová",N152,0) -> 0 | BJ152: 2 | BK152: =ROUND(L152*K152,3) -> 0 | BL152: 16 | BM152: 2121924645
C153: 19 | D153: K | E153: PM | F153: Podružný materiál | J153: % | K153: 0 | L153: 0 | N153: =ROUND(L153*K153,3) -> 0 | U153: znížená | W153: =V153*K153 -> 0 | X153: 0 | Y153: =X153*K153 -> 0 | Z153: 0 | AA153: =Z153*K153 -> 0 | AR153: 16 | AT153: K | AU153: 1 | AY153: ROZPOCET | BE153: =IF(U153="základná",N153,0) -> 0 | BF153: =IF(U153="znížená",N153,0) -> 0 | BG153: =IF(U153="zákl. prenesená",N153,0) -> 0 | BH153: =IF(U153="zníž. prenesená",N153,0) -> 0 | BI153: =IF(U153="nulová",N153,0) -> 0 | BJ153: 2 | BK153: =ROUND(L153*K153,3) -> 0 | BL153: 16 | BM153: 559898589
C154: 20 | D154: K | E154: PPV | F154: Podiel pridružených výkonov | J154: % | K154: 0 | L154: 0 | N154: =ROUND(L154*K154,3) -> 0 | U154: znížená | W154: =V154*K154 -> 0 | X154: 0 | Y154: =X154*K154 -> 0 | Z154: 0 | AA154: =Z154*K154 -> 0 | AR154: 16 | AT154: K | AU154: 1 | AY154: ROZPOCET | BE154: =IF(U154="základná",N154,0) -> 0 | BF154: =IF(U154="znížená",N154,0) -> 0 | BG154: =IF(U154="zákl. prenesená",N154,0) -> 0 | BH154: =IF(U154="zníž. prenesená",N154,0) -> 0 | BI154: =IF(U154="nulová",N154,0) -> 0 | BJ154: 2 | BK154: =ROUND(L154*K154,3) -> 0 | BL154: 16 | BM154: 373206032
D155: 46-M - Zemné práce pri extr.mont.prácach | N155: =BK155 -> 0 | W155: =SUM(W156:W157) -> 0 | Y155: =SUM(Y156:Y157) -> 0 | AA155: =SUM(AA156:AA157) -> 0 | AR155: 3 | AT155: D | AU155: 0 | AY155: ROZPOCET | BK155: =SUM(BK156:BK157) -> 0
C156: 21 | D156: K | E156: 460490012 | F156: Rozvinutie a uloženie výstražnej fólie z PVC do ryhy,šírka 33 cm | J156: m | K156: 13.1 | L156: 0 | N156: =ROUND(L156*K156,3) -> 0 | U156: znížená | W156: =V156*K156 -> 0 | X156: 0 | Y156: =X156*K156 -> 0 | Z156: 0 | AA156: =Z156*K156 -> 0 | AR156: 16 | AT156: K | AU156: 1 | AY156: ROZPOCET | BE156: =IF(U156="základná",N156,0) -> 0 | BF156: =IF(U156="znížená",N156,0) -> 0 | BG156: =IF(U156="zákl. prenesená",N156,0) -> 0 | BH156: =IF(U156="zníž. prenesená",N156,0) -> 0 | BI156: =IF(U156="nulová",N156,0) -> 0 | BJ156: 2 | BK156: =ROUND(L156*K156,3) -> 0 | BL156: 16 | BM156: -1549562030
C157: 22 | D157: M | E157: 2830002001 | F157: Fólia žltá "PLYN" | J157: m | K157: 13.1 | L157: 0 | N157: =ROUND(L157*K157,3) -> 0 | U157: znížená | W157: =V157*K157 -> 0 | X157: 0 | Y157: =X157*K157 -> 0 | Z157: 0 | AA157: =Z157*K157 -> 0 | AR157: 32 | AT157: M | AU157: 1 | AY157: ROZPOCET | BE157: =IF(U157="základná",N157,0) -> 0 | BF157: =IF(U157="znížená",N157,0) -> 0 | BG157: =IF(U157="zákl. prenesená",N157,0) -> 0 | BH157: =IF(U157="zníž. prenesená",N157,0) -> 0 | BI157: =IF(U157="nulová",N157,0) -> 0 | BJ157: 2 | BK157: =ROUND(L157*K157,3) -> 0 | BL157: 16 | BM157: 1708714649
D158: OST - Ostatné | N158: =BK158 -> 0 | W158: =SUM(W159:W161) -> 0 | Y158: =SUM(Y159:Y161) -> 0 | AA158: =SUM(AA159:AA161) -> 0 | AR158: 4 | AT158: D | AU158: 0 | AY158: ROZPOCET | BK158: =SUM(BK159:BK161) -> 0
C159: 23 | D159: K | E159: HZS-0010 | F159: Revízie | J159: hod | K159: 6 | L159: 0 | N159: =ROUND(L159*K159,3) -> 0 | U159: znížená | W159: =V159*K159 -> 0 | X159: 0 | Y159: =X159*K159 -> 0 | Z159: 0 | AA159: =Z159*K159 -> 0 | AR159: 16 | AT159: K | AU159: 1 | AY159: ROZPOCET | BE159: =IF(U159="základná",N159,0) -> 0 | BF159: =IF(U159="znížená",N159,0) -> 0 | BG159: =IF(U159="zákl. prenesená",N159,0) -> 0 | BH159: =IF(U159="zníž. prenesená",N159,0) -> 0 | BI159: =IF(U159="nulová",N159,0) -> 0 | BJ159: 2 | BK159: =ROUND(L159*K159,3) -> 0 | BL159: 16 | BM159: 634503642
C160: 24 | D160: K | E160: HZS-0051 | F160: Príprava systému ku komplexnému vyskúšaniu | J160: hod | K160: 2 | L160: 0 | N160: =ROUND(L160*K160,3) -> 0 | U160: znížená | W160: =V160*K160 -> 0 | X160: 0 | Y160: =X160*K160 -> 0 | Z160: 0 | AA160: =Z160*K160 -> 0 | AR160: 16 | AT160: K | AU160: 1 | AY160: ROZPOCET | BE160: =IF(U160="základná",N160,0) -> 0 | BF160: =IF(U160="znížená",N160,0) -> 0 | BG160: =IF(U160="zákl. prenesená",N160,0) -> 0 | BH160: =IF(U160="zníž. prenesená",N160,0) -> 0 | BI160: =IF(U160="nulová",N160,0) -> 0 | BJ160: 2 | BK160: =ROUND(L160*K160,3) -> 0 | BL160: 16 | BM160: 1469872121
...
